BEGIN:VCALENDAR
VERSION:2.0
PRODID:-//Project New Village - ECPv6.15.20//NONSGML v1.0//EN
CALSCALE:GREGORIAN
METHOD:PUBLISH
X-WR-CALNAME:Project New Village
X-ORIGINAL-URL:https://projectnewvillage.org
X-WR-CALDESC:Events for Project New Village
REFRESH-INTERVAL;VALUE=DURATION:PT1H
X-Robots-Tag:noindex
X-PUBLISHED-TTL:PT1H
BEGIN:VTIMEZONE
TZID:UTC
BEGIN:STANDARD
TZOFFSETFROM:+0000
TZOFFSETTO:+0000
TZNAME:UTC
DTSTART:20250101T000000
END:STANDARD
END:VTIMEZONE
BEGIN:VEVENT
DTSTART;TZID=UTC:20260718T090000
DTEND;TZID=UTC:20260718T110000
DTSTAMP:20260423T130238
CREATED:20240605T084819Z
LAST-MODIFIED:20260311T184256Z
UID:10002191-1784365200-1784372400@projectnewvillage.org
SUMMARY:Community Work Day @ Mt. Hope Community Garden
DESCRIPTION:Strengthening our communities with a morning of gardening activities\, our Community Work Days are a great way to connect with like-minded neighbors with fun\, meaningful light-duty work at the Mt. Hope Community Garden. Open to all – join us\, and show up for food justice!
URL:https://projectnewvillage.org/event/community-work-day-mt-hope-community-garden/2026-07-18/
LOCATION:Mt. Hope Community Garden\, 4269 Market St.\, San Diego\, CA\, 92102\, United States
CATEGORIES:Community Work Day
ATTACH;FMTTYPE=image/jpeg:https://projectnewvillage.org/wp-content/uploads/2024/06/header.jpg
END:VEVENT
END:VCALENDAR