BEGIN:VCALENDAR
VERSION:2.0
PRODID:-//Project New Village - ECPv6.15.20//NONSGML v1.0//EN
CALSCALE:GREGORIAN
METHOD:PUBLISH
X-ORIGINAL-URL:https://projectnewvillage.org
X-WR-CALDESC:Events for Project New Village
REFRESH-INTERVAL;VALUE=DURATION:PT1H
X-Robots-Tag:noindex
X-PUBLISHED-TTL:PT1H
BEGIN:VTIMEZONE
TZID:UTC
BEGIN:STANDARD
TZOFFSETFROM:+0000
TZOFFSETTO:+0000
TZNAME:UTC
DTSTART:20260101T000000
END:STANDARD
END:VTIMEZONE
BEGIN:VEVENT
DTSTART;TZID=UTC:20270515T090000
DTEND;TZID=UTC:20270515T110000
DTSTAMP:20260423T071117
CREATED:20240605T084819Z
LAST-MODIFIED:20260311T184256Z
UID:10002201-1810371600-1810378800@projectnewvillage.org
SUMMARY:Community Work Day @ Mt. Hope Community Garden
DESCRIPTION:Strengthening our communities with a morning of gardening activities\, our Community Work Days are a great way to connect with like-minded neighbors with fun\, meaningful light-duty work at the Mt. Hope Community Garden. Open to all – join us\, and show up for food justice!
URL:https://projectnewvillage.org/event/community-work-day-mt-hope-community-garden/2027-05-15/
LOCATION:Mt. Hope Community Garden\, 4269 Market St.\, San Diego\, CA\, 92102\, United States
CATEGORIES:Community Work Day
ATTACH;FMTTYPE=image/jpeg:https://projectnewvillage.org/wp-content/uploads/2024/06/header.jpg
END:VEVENT
BEGIN:VEVENT
DTSTART;TZID=UTC:20270619T090000
DTEND;TZID=UTC:20270619T110000
DTSTAMP:20260423T071117
CREATED:20240605T084819Z
LAST-MODIFIED:20260311T184256Z
UID:10002202-1813395600-1813402800@projectnewvillage.org
SUMMARY:Community Work Day @ Mt. Hope Community Garden
DESCRIPTION:Strengthening our communities with a morning of gardening activities\, our Community Work Days are a great way to connect with like-minded neighbors with fun\, meaningful light-duty work at the Mt. Hope Community Garden. Open to all – join us\, and show up for food justice!
URL:https://projectnewvillage.org/event/community-work-day-mt-hope-community-garden/2027-06-19/
LOCATION:Mt. Hope Community Garden\, 4269 Market St.\, San Diego\, CA\, 92102\, United States
CATEGORIES:Community Work Day
ATTACH;FMTTYPE=image/jpeg:https://projectnewvillage.org/wp-content/uploads/2024/06/header.jpg
END:VEVENT
BEGIN:VEVENT
DTSTART;TZID=UTC:20270717T090000
DTEND;TZID=UTC:20270717T110000
DTSTAMP:20260423T071117
CREATED:20240605T084819Z
LAST-MODIFIED:20260311T184256Z
UID:10002203-1815814800-1815822000@projectnewvillage.org
SUMMARY:Community Work Day @ Mt. Hope Community Garden
DESCRIPTION:Strengthening our communities with a morning of gardening activities\, our Community Work Days are a great way to connect with like-minded neighbors with fun\, meaningful light-duty work at the Mt. Hope Community Garden. Open to all – join us\, and show up for food justice!
URL:https://projectnewvillage.org/event/community-work-day-mt-hope-community-garden/2027-07-17/
LOCATION:Mt. Hope Community Garden\, 4269 Market St.\, San Diego\, CA\, 92102\, United States
CATEGORIES:Community Work Day
ATTACH;FMTTYPE=image/jpeg:https://projectnewvillage.org/wp-content/uploads/2024/06/header.jpg
END:VEVENT
BEGIN:VEVENT
DTSTART;TZID=UTC:20270821T090000
DTEND;TZID=UTC:20270821T110000
DTSTAMP:20260423T071117
CREATED:20240605T084819Z
LAST-MODIFIED:20260311T184256Z
UID:10002204-1818838800-1818846000@projectnewvillage.org
SUMMARY:Community Work Day @ Mt. Hope Community Garden
DESCRIPTION:Strengthening our communities with a morning of gardening activities\, our Community Work Days are a great way to connect with like-minded neighbors with fun\, meaningful light-duty work at the Mt. Hope Community Garden. Open to all – join us\, and show up for food justice!
URL:https://projectnewvillage.org/event/community-work-day-mt-hope-community-garden/2027-08-21/
LOCATION:Mt. Hope Community Garden\, 4269 Market St.\, San Diego\, CA\, 92102\, United States
CATEGORIES:Community Work Day
ATTACH;FMTTYPE=image/jpeg:https://projectnewvillage.org/wp-content/uploads/2024/06/header.jpg
END:VEVENT
BEGIN:VEVENT
DTSTART;TZID=UTC:20270918T090000
DTEND;TZID=UTC:20270918T110000
DTSTAMP:20260423T071117
CREATED:20240605T084819Z
LAST-MODIFIED:20260311T184256Z
UID:10002205-1821258000-1821265200@projectnewvillage.org
SUMMARY:Community Work Day @ Mt. Hope Community Garden
DESCRIPTION:Strengthening our communities with a morning of gardening activities\, our Community Work Days are a great way to connect with like-minded neighbors with fun\, meaningful light-duty work at the Mt. Hope Community Garden. Open to all – join us\, and show up for food justice!
URL:https://projectnewvillage.org/event/community-work-day-mt-hope-community-garden/2027-09-18/
LOCATION:Mt. Hope Community Garden\, 4269 Market St.\, San Diego\, CA\, 92102\, United States
CATEGORIES:Community Work Day
ATTACH;FMTTYPE=image/jpeg:https://projectnewvillage.org/wp-content/uploads/2024/06/header.jpg
END:VEVENT
BEGIN:VEVENT
DTSTART;TZID=UTC:20271016T090000
DTEND;TZID=UTC:20271016T110000
DTSTAMP:20260423T071117
CREATED:20240605T084819Z
LAST-MODIFIED:20260311T184256Z
UID:10002206-1823677200-1823684400@projectnewvillage.org
SUMMARY:Community Work Day @ Mt. Hope Community Garden
DESCRIPTION:Strengthening our communities with a morning of gardening activities\, our Community Work Days are a great way to connect with like-minded neighbors with fun\, meaningful light-duty work at the Mt. Hope Community Garden. Open to all – join us\, and show up for food justice!
URL:https://projectnewvillage.org/event/community-work-day-mt-hope-community-garden/2027-10-16/
LOCATION:Mt. Hope Community Garden\, 4269 Market St.\, San Diego\, CA\, 92102\, United States
CATEGORIES:Community Work Day
ATTACH;FMTTYPE=image/jpeg:https://projectnewvillage.org/wp-content/uploads/2024/06/header.jpg
END:VEVENT
BEGIN:VEVENT
DTSTART;TZID=UTC:20271120T090000
DTEND;TZID=UTC:20271120T110000
DTSTAMP:20260423T071117
CREATED:20240605T084819Z
LAST-MODIFIED:20260311T184256Z
UID:10002207-1826701200-1826708400@projectnewvillage.org
SUMMARY:Community Work Day @ Mt. Hope Community Garden
DESCRIPTION:Strengthening our communities with a morning of gardening activities\, our Community Work Days are a great way to connect with like-minded neighbors with fun\, meaningful light-duty work at the Mt. Hope Community Garden. Open to all – join us\, and show up for food justice!
URL:https://projectnewvillage.org/event/community-work-day-mt-hope-community-garden/2027-11-20/
LOCATION:Mt. Hope Community Garden\, 4269 Market St.\, San Diego\, CA\, 92102\, United States
CATEGORIES:Community Work Day
ATTACH;FMTTYPE=image/jpeg:https://projectnewvillage.org/wp-content/uploads/2024/06/header.jpg
END:VEVENT
BEGIN:VEVENT
DTSTART;TZID=UTC:20271218T090000
DTEND;TZID=UTC:20271218T110000
DTSTAMP:20260423T071117
CREATED:20240605T084819Z
LAST-MODIFIED:20260311T184256Z
UID:10002208-1829120400-1829127600@projectnewvillage.org
SUMMARY:Community Work Day @ Mt. Hope Community Garden
DESCRIPTION:Strengthening our communities with a morning of gardening activities\, our Community Work Days are a great way to connect with like-minded neighbors with fun\, meaningful light-duty work at the Mt. Hope Community Garden. Open to all – join us\, and show up for food justice!
URL:https://projectnewvillage.org/event/community-work-day-mt-hope-community-garden/2027-12-18/
LOCATION:Mt. Hope Community Garden\, 4269 Market St.\, San Diego\, CA\, 92102\, United States
CATEGORIES:Community Work Day
ATTACH;FMTTYPE=image/jpeg:https://projectnewvillage.org/wp-content/uploads/2024/06/header.jpg
END:VEVENT
BEGIN:VEVENT
DTSTART;TZID=UTC:20280115T090000
DTEND;TZID=UTC:20280115T110000
DTSTAMP:20260423T071117
CREATED:20240605T084819Z
LAST-MODIFIED:20260311T184256Z
UID:10002209-1831539600-1831546800@projectnewvillage.org
SUMMARY:Community Work Day @ Mt. Hope Community Garden
DESCRIPTION:Strengthening our communities with a morning of gardening activities\, our Community Work Days are a great way to connect with like-minded neighbors with fun\, meaningful light-duty work at the Mt. Hope Community Garden. Open to all – join us\, and show up for food justice!
URL:https://projectnewvillage.org/event/community-work-day-mt-hope-community-garden/2028-01-15/
LOCATION:Mt. Hope Community Garden\, 4269 Market St.\, San Diego\, CA\, 92102\, United States
CATEGORIES:Community Work Day
ATTACH;FMTTYPE=image/jpeg:https://projectnewvillage.org/wp-content/uploads/2024/06/header.jpg
END:VEVENT
BEGIN:VEVENT
DTSTART;TZID=UTC:20280219T090000
DTEND;TZID=UTC:20280219T110000
DTSTAMP:20260423T071117
CREATED:20240605T084819Z
LAST-MODIFIED:20260311T184256Z
UID:10002210-1834563600-1834570800@projectnewvillage.org
SUMMARY:Community Work Day @ Mt. Hope Community Garden
DESCRIPTION:Strengthening our communities with a morning of gardening activities\, our Community Work Days are a great way to connect with like-minded neighbors with fun\, meaningful light-duty work at the Mt. Hope Community Garden. Open to all – join us\, and show up for food justice!
URL:https://projectnewvillage.org/event/community-work-day-mt-hope-community-garden/2028-02-19/
LOCATION:Mt. Hope Community Garden\, 4269 Market St.\, San Diego\, CA\, 92102\, United States
CATEGORIES:Community Work Day
ATTACH;FMTTYPE=image/jpeg:https://projectnewvillage.org/wp-content/uploads/2024/06/header.jpg
END:VEVENT
BEGIN:VEVENT
DTSTART;TZID=UTC:20280318T090000
DTEND;TZID=UTC:20280318T110000
DTSTAMP:20260423T071117
CREATED:20240605T084819Z
LAST-MODIFIED:20260311T184256Z
UID:10002211-1836982800-1836990000@projectnewvillage.org
SUMMARY:Community Work Day @ Mt. Hope Community Garden
DESCRIPTION:Strengthening our communities with a morning of gardening activities\, our Community Work Days are a great way to connect with like-minded neighbors with fun\, meaningful light-duty work at the Mt. Hope Community Garden. Open to all – join us\, and show up for food justice!
URL:https://projectnewvillage.org/event/community-work-day-mt-hope-community-garden/2028-03-18/
LOCATION:Mt. Hope Community Garden\, 4269 Market St.\, San Diego\, CA\, 92102\, United States
CATEGORIES:Community Work Day
ATTACH;FMTTYPE=image/jpeg:https://projectnewvillage.org/wp-content/uploads/2024/06/header.jpg
END:VEVENT
BEGIN:VEVENT
DTSTART;TZID=UTC:20280415T090000
DTEND;TZID=UTC:20280415T110000
DTSTAMP:20260423T071117
CREATED:20240605T084819Z
LAST-MODIFIED:20260311T184256Z
UID:10002212-1839402000-1839409200@projectnewvillage.org
SUMMARY:Community Work Day @ Mt. Hope Community Garden
DESCRIPTION:Strengthening our communities with a morning of gardening activities\, our Community Work Days are a great way to connect with like-minded neighbors with fun\, meaningful light-duty work at the Mt. Hope Community Garden. Open to all – join us\, and show up for food justice!
URL:https://projectnewvillage.org/event/community-work-day-mt-hope-community-garden/2028-04-15/
LOCATION:Mt. Hope Community Garden\, 4269 Market St.\, San Diego\, CA\, 92102\, United States
CATEGORIES:Community Work Day
ATTACH;FMTTYPE=image/jpeg:https://projectnewvillage.org/wp-content/uploads/2024/06/header.jpg
END:VEVENT
BEGIN:VEVENT
DTSTART;TZID=UTC:20280520T090000
DTEND;TZID=UTC:20280520T110000
DTSTAMP:20260423T071117
CREATED:20240605T084819Z
LAST-MODIFIED:20260311T184256Z
UID:10002213-1842426000-1842433200@projectnewvillage.org
SUMMARY:Community Work Day @ Mt. Hope Community Garden
DESCRIPTION:Strengthening our communities with a morning of gardening activities\, our Community Work Days are a great way to connect with like-minded neighbors with fun\, meaningful light-duty work at the Mt. Hope Community Garden. Open to all – join us\, and show up for food justice!
URL:https://projectnewvillage.org/event/community-work-day-mt-hope-community-garden/2028-05-20/
LOCATION:Mt. Hope Community Garden\, 4269 Market St.\, San Diego\, CA\, 92102\, United States
CATEGORIES:Community Work Day
ATTACH;FMTTYPE=image/jpeg:https://projectnewvillage.org/wp-content/uploads/2024/06/header.jpg
END:VEVENT
BEGIN:VEVENT
DTSTART;TZID=UTC:20280617T090000
DTEND;TZID=UTC:20280617T110000
DTSTAMP:20260423T071117
CREATED:20240605T084819Z
LAST-MODIFIED:20260311T184256Z
UID:10002214-1844845200-1844852400@projectnewvillage.org
SUMMARY:Community Work Day @ Mt. Hope Community Garden
DESCRIPTION:Strengthening our communities with a morning of gardening activities\, our Community Work Days are a great way to connect with like-minded neighbors with fun\, meaningful light-duty work at the Mt. Hope Community Garden. Open to all – join us\, and show up for food justice!
URL:https://projectnewvillage.org/event/community-work-day-mt-hope-community-garden/2028-06-17/
LOCATION:Mt. Hope Community Garden\, 4269 Market St.\, San Diego\, CA\, 92102\, United States
CATEGORIES:Community Work Day
ATTACH;FMTTYPE=image/jpeg:https://projectnewvillage.org/wp-content/uploads/2024/06/header.jpg
END:VEVENT
BEGIN:VEVENT
DTSTART;TZID=UTC:20280715T090000
DTEND;TZID=UTC:20280715T110000
DTSTAMP:20260423T071117
CREATED:20240605T084819Z
LAST-MODIFIED:20260311T184256Z
UID:10002215-1847264400-1847271600@projectnewvillage.org
SUMMARY:Community Work Day @ Mt. Hope Community Garden
DESCRIPTION:Strengthening our communities with a morning of gardening activities\, our Community Work Days are a great way to connect with like-minded neighbors with fun\, meaningful light-duty work at the Mt. Hope Community Garden. Open to all – join us\, and show up for food justice!
URL:https://projectnewvillage.org/event/community-work-day-mt-hope-community-garden/2028-07-15/
LOCATION:Mt. Hope Community Garden\, 4269 Market St.\, San Diego\, CA\, 92102\, United States
CATEGORIES:Community Work Day
ATTACH;FMTTYPE=image/jpeg:https://projectnewvillage.org/wp-content/uploads/2024/06/header.jpg
END:VEVENT
BEGIN:VEVENT
DTSTART;TZID=UTC:20280819T090000
DTEND;TZID=UTC:20280819T110000
DTSTAMP:20260423T071117
CREATED:20240605T084819Z
LAST-MODIFIED:20260311T184256Z
UID:10002216-1850288400-1850295600@projectnewvillage.org
SUMMARY:Community Work Day @ Mt. Hope Community Garden
DESCRIPTION:Strengthening our communities with a morning of gardening activities\, our Community Work Days are a great way to connect with like-minded neighbors with fun\, meaningful light-duty work at the Mt. Hope Community Garden. Open to all – join us\, and show up for food justice!
URL:https://projectnewvillage.org/event/community-work-day-mt-hope-community-garden/2028-08-19/
LOCATION:Mt. Hope Community Garden\, 4269 Market St.\, San Diego\, CA\, 92102\, United States
CATEGORIES:Community Work Day
ATTACH;FMTTYPE=image/jpeg:https://projectnewvillage.org/wp-content/uploads/2024/06/header.jpg
END:VEVENT
BEGIN:VEVENT
DTSTART;TZID=UTC:20280916T090000
DTEND;TZID=UTC:20280916T110000
DTSTAMP:20260423T071117
CREATED:20240605T084819Z
LAST-MODIFIED:20260311T184256Z
UID:10002217-1852707600-1852714800@projectnewvillage.org
SUMMARY:Community Work Day @ Mt. Hope Community Garden
DESCRIPTION:Strengthening our communities with a morning of gardening activities\, our Community Work Days are a great way to connect with like-minded neighbors with fun\, meaningful light-duty work at the Mt. Hope Community Garden. Open to all – join us\, and show up for food justice!
URL:https://projectnewvillage.org/event/community-work-day-mt-hope-community-garden/2028-09-16/
LOCATION:Mt. Hope Community Garden\, 4269 Market St.\, San Diego\, CA\, 92102\, United States
CATEGORIES:Community Work Day
ATTACH;FMTTYPE=image/jpeg:https://projectnewvillage.org/wp-content/uploads/2024/06/header.jpg
END:VEVENT
BEGIN:VEVENT
DTSTART;TZID=UTC:20281021T090000
DTEND;TZID=UTC:20281021T110000
DTSTAMP:20260423T071117
CREATED:20240605T084819Z
LAST-MODIFIED:20260311T184256Z
UID:10002218-1855731600-1855738800@projectnewvillage.org
SUMMARY:Community Work Day @ Mt. Hope Community Garden
DESCRIPTION:Strengthening our communities with a morning of gardening activities\, our Community Work Days are a great way to connect with like-minded neighbors with fun\, meaningful light-duty work at the Mt. Hope Community Garden. Open to all – join us\, and show up for food justice!
URL:https://projectnewvillage.org/event/community-work-day-mt-hope-community-garden/2028-10-21/
LOCATION:Mt. Hope Community Garden\, 4269 Market St.\, San Diego\, CA\, 92102\, United States
CATEGORIES:Community Work Day
ATTACH;FMTTYPE=image/jpeg:https://projectnewvillage.org/wp-content/uploads/2024/06/header.jpg
END:VEVENT
BEGIN:VEVENT
DTSTART;TZID=UTC:20281118T090000
DTEND;TZID=UTC:20281118T110000
DTSTAMP:20260423T071117
CREATED:20240605T084819Z
LAST-MODIFIED:20260311T184256Z
UID:10002219-1858150800-1858158000@projectnewvillage.org
SUMMARY:Community Work Day @ Mt. Hope Community Garden
DESCRIPTION:Strengthening our communities with a morning of gardening activities\, our Community Work Days are a great way to connect with like-minded neighbors with fun\, meaningful light-duty work at the Mt. Hope Community Garden. Open to all – join us\, and show up for food justice!
URL:https://projectnewvillage.org/event/community-work-day-mt-hope-community-garden/2028-11-18/
LOCATION:Mt. Hope Community Garden\, 4269 Market St.\, San Diego\, CA\, 92102\, United States
CATEGORIES:Community Work Day
ATTACH;FMTTYPE=image/jpeg:https://projectnewvillage.org/wp-content/uploads/2024/06/header.jpg
END:VEVENT
BEGIN:VEVENT
DTSTART;TZID=UTC:20281216T090000
DTEND;TZID=UTC:20281216T110000
DTSTAMP:20260423T071117
CREATED:20240605T084819Z
LAST-MODIFIED:20260311T184256Z
UID:10002220-1860570000-1860577200@projectnewvillage.org
SUMMARY:Community Work Day @ Mt. Hope Community Garden
DESCRIPTION:Strengthening our communities with a morning of gardening activities\, our Community Work Days are a great way to connect with like-minded neighbors with fun\, meaningful light-duty work at the Mt. Hope Community Garden. Open to all – join us\, and show up for food justice!
URL:https://projectnewvillage.org/event/community-work-day-mt-hope-community-garden/2028-12-16/
LOCATION:Mt. Hope Community Garden\, 4269 Market St.\, San Diego\, CA\, 92102\, United States
CATEGORIES:Community Work Day
ATTACH;FMTTYPE=image/jpeg:https://projectnewvillage.org/wp-content/uploads/2024/06/header.jpg
END:VEVENT
BEGIN:VEVENT
DTSTART;TZID=UTC:20290120T090000
DTEND;TZID=UTC:20290120T110000
DTSTAMP:20260423T071117
CREATED:20240605T084819Z
LAST-MODIFIED:20260311T184256Z
UID:10002221-1863594000-1863601200@projectnewvillage.org
SUMMARY:Community Work Day @ Mt. Hope Community Garden
DESCRIPTION:Strengthening our communities with a morning of gardening activities\, our Community Work Days are a great way to connect with like-minded neighbors with fun\, meaningful light-duty work at the Mt. Hope Community Garden. Open to all – join us\, and show up for food justice!
URL:https://projectnewvillage.org/event/community-work-day-mt-hope-community-garden/2029-01-20/
LOCATION:Mt. Hope Community Garden\, 4269 Market St.\, San Diego\, CA\, 92102\, United States
CATEGORIES:Community Work Day
ATTACH;FMTTYPE=image/jpeg:https://projectnewvillage.org/wp-content/uploads/2024/06/header.jpg
END:VEVENT
BEGIN:VEVENT
DTSTART;TZID=UTC:20290217T090000
DTEND;TZID=UTC:20290217T110000
DTSTAMP:20260423T071117
CREATED:20240605T084819Z
LAST-MODIFIED:20260311T184256Z
UID:10002222-1866013200-1866020400@projectnewvillage.org
SUMMARY:Community Work Day @ Mt. Hope Community Garden
DESCRIPTION:Strengthening our communities with a morning of gardening activities\, our Community Work Days are a great way to connect with like-minded neighbors with fun\, meaningful light-duty work at the Mt. Hope Community Garden. Open to all – join us\, and show up for food justice!
URL:https://projectnewvillage.org/event/community-work-day-mt-hope-community-garden/2029-02-17/
LOCATION:Mt. Hope Community Garden\, 4269 Market St.\, San Diego\, CA\, 92102\, United States
CATEGORIES:Community Work Day
ATTACH;FMTTYPE=image/jpeg:https://projectnewvillage.org/wp-content/uploads/2024/06/header.jpg
END:VEVENT
BEGIN:VEVENT
DTSTART;TZID=UTC:20290317T090000
DTEND;TZID=UTC:20290317T110000
DTSTAMP:20260423T071117
CREATED:20240605T084819Z
LAST-MODIFIED:20260311T184256Z
UID:10002223-1868432400-1868439600@projectnewvillage.org
SUMMARY:Community Work Day @ Mt. Hope Community Garden
DESCRIPTION:Strengthening our communities with a morning of gardening activities\, our Community Work Days are a great way to connect with like-minded neighbors with fun\, meaningful light-duty work at the Mt. Hope Community Garden. Open to all – join us\, and show up for food justice!
URL:https://projectnewvillage.org/event/community-work-day-mt-hope-community-garden/2029-03-17/
LOCATION:Mt. Hope Community Garden\, 4269 Market St.\, San Diego\, CA\, 92102\, United States
CATEGORIES:Community Work Day
ATTACH;FMTTYPE=image/jpeg:https://projectnewvillage.org/wp-content/uploads/2024/06/header.jpg
END:VEVENT
BEGIN:VEVENT
DTSTART;TZID=UTC:20290421T090000
DTEND;TZID=UTC:20290421T110000
DTSTAMP:20260423T071117
CREATED:20240605T084819Z
LAST-MODIFIED:20260311T184256Z
UID:10002224-1871456400-1871463600@projectnewvillage.org
SUMMARY:Community Work Day @ Mt. Hope Community Garden
DESCRIPTION:Strengthening our communities with a morning of gardening activities\, our Community Work Days are a great way to connect with like-minded neighbors with fun\, meaningful light-duty work at the Mt. Hope Community Garden. Open to all – join us\, and show up for food justice!
URL:https://projectnewvillage.org/event/community-work-day-mt-hope-community-garden/2029-04-21/
LOCATION:Mt. Hope Community Garden\, 4269 Market St.\, San Diego\, CA\, 92102\, United States
CATEGORIES:Community Work Day
ATTACH;FMTTYPE=image/jpeg:https://projectnewvillage.org/wp-content/uploads/2024/06/header.jpg
END:VEVENT
BEGIN:VEVENT
DTSTART;TZID=UTC:20290519T090000
DTEND;TZID=UTC:20290519T110000
DTSTAMP:20260423T071117
CREATED:20240605T084819Z
LAST-MODIFIED:20260311T184256Z
UID:10002225-1873875600-1873882800@projectnewvillage.org
SUMMARY:Community Work Day @ Mt. Hope Community Garden
DESCRIPTION:Strengthening our communities with a morning of gardening activities\, our Community Work Days are a great way to connect with like-minded neighbors with fun\, meaningful light-duty work at the Mt. Hope Community Garden. Open to all – join us\, and show up for food justice!
URL:https://projectnewvillage.org/event/community-work-day-mt-hope-community-garden/2029-05-19/
LOCATION:Mt. Hope Community Garden\, 4269 Market St.\, San Diego\, CA\, 92102\, United States
CATEGORIES:Community Work Day
ATTACH;FMTTYPE=image/jpeg:https://projectnewvillage.org/wp-content/uploads/2024/06/header.jpg
END:VEVENT
BEGIN:VEVENT
DTSTART;TZID=UTC:20290616T090000
DTEND;TZID=UTC:20290616T110000
DTSTAMP:20260423T071117
CREATED:20240605T084819Z
LAST-MODIFIED:20260311T184256Z
UID:10002226-1876294800-1876302000@projectnewvillage.org
SUMMARY:Community Work Day @ Mt. Hope Community Garden
DESCRIPTION:Strengthening our communities with a morning of gardening activities\, our Community Work Days are a great way to connect with like-minded neighbors with fun\, meaningful light-duty work at the Mt. Hope Community Garden. Open to all – join us\, and show up for food justice!
URL:https://projectnewvillage.org/event/community-work-day-mt-hope-community-garden/2029-06-16/
LOCATION:Mt. Hope Community Garden\, 4269 Market St.\, San Diego\, CA\, 92102\, United States
CATEGORIES:Community Work Day
ATTACH;FMTTYPE=image/jpeg:https://projectnewvillage.org/wp-content/uploads/2024/06/header.jpg
END:VEVENT
BEGIN:VEVENT
DTSTART;TZID=UTC:20290721T090000
DTEND;TZID=UTC:20290721T110000
DTSTAMP:20260423T071117
CREATED:20240605T084819Z
LAST-MODIFIED:20260311T184256Z
UID:10002227-1879318800-1879326000@projectnewvillage.org
SUMMARY:Community Work Day @ Mt. Hope Community Garden
DESCRIPTION:Strengthening our communities with a morning of gardening activities\, our Community Work Days are a great way to connect with like-minded neighbors with fun\, meaningful light-duty work at the Mt. Hope Community Garden. Open to all – join us\, and show up for food justice!
URL:https://projectnewvillage.org/event/community-work-day-mt-hope-community-garden/2029-07-21/
LOCATION:Mt. Hope Community Garden\, 4269 Market St.\, San Diego\, CA\, 92102\, United States
CATEGORIES:Community Work Day
ATTACH;FMTTYPE=image/jpeg:https://projectnewvillage.org/wp-content/uploads/2024/06/header.jpg
END:VEVENT
BEGIN:VEVENT
DTSTART;TZID=UTC:20290818T090000
DTEND;TZID=UTC:20290818T110000
DTSTAMP:20260423T071117
CREATED:20240605T084819Z
LAST-MODIFIED:20260311T184256Z
UID:10002228-1881738000-1881745200@projectnewvillage.org
SUMMARY:Community Work Day @ Mt. Hope Community Garden
DESCRIPTION:Strengthening our communities with a morning of gardening activities\, our Community Work Days are a great way to connect with like-minded neighbors with fun\, meaningful light-duty work at the Mt. Hope Community Garden. Open to all – join us\, and show up for food justice!
URL:https://projectnewvillage.org/event/community-work-day-mt-hope-community-garden/2029-08-18/
LOCATION:Mt. Hope Community Garden\, 4269 Market St.\, San Diego\, CA\, 92102\, United States
CATEGORIES:Community Work Day
ATTACH;FMTTYPE=image/jpeg:https://projectnewvillage.org/wp-content/uploads/2024/06/header.jpg
END:VEVENT
BEGIN:VEVENT
DTSTART;TZID=UTC:20290915T090000
DTEND;TZID=UTC:20290915T110000
DTSTAMP:20260423T071117
CREATED:20240605T084819Z
LAST-MODIFIED:20260311T184256Z
UID:10002229-1884157200-1884164400@projectnewvillage.org
SUMMARY:Community Work Day @ Mt. Hope Community Garden
DESCRIPTION:Strengthening our communities with a morning of gardening activities\, our Community Work Days are a great way to connect with like-minded neighbors with fun\, meaningful light-duty work at the Mt. Hope Community Garden. Open to all – join us\, and show up for food justice!
URL:https://projectnewvillage.org/event/community-work-day-mt-hope-community-garden/2029-09-15/
LOCATION:Mt. Hope Community Garden\, 4269 Market St.\, San Diego\, CA\, 92102\, United States
CATEGORIES:Community Work Day
ATTACH;FMTTYPE=image/jpeg:https://projectnewvillage.org/wp-content/uploads/2024/06/header.jpg
END:VEVENT
BEGIN:VEVENT
DTSTART;TZID=UTC:20291020T090000
DTEND;TZID=UTC:20291020T110000
DTSTAMP:20260423T071117
CREATED:20240605T084819Z
LAST-MODIFIED:20260311T184256Z
UID:10002230-1887181200-1887188400@projectnewvillage.org
SUMMARY:Community Work Day @ Mt. Hope Community Garden
DESCRIPTION:Strengthening our communities with a morning of gardening activities\, our Community Work Days are a great way to connect with like-minded neighbors with fun\, meaningful light-duty work at the Mt. Hope Community Garden. Open to all – join us\, and show up for food justice!
URL:https://projectnewvillage.org/event/community-work-day-mt-hope-community-garden/2029-10-20/
LOCATION:Mt. Hope Community Garden\, 4269 Market St.\, San Diego\, CA\, 92102\, United States
CATEGORIES:Community Work Day
ATTACH;FMTTYPE=image/jpeg:https://projectnewvillage.org/wp-content/uploads/2024/06/header.jpg
END:VEVENT
END:VCALENDAR