BEGIN:VCALENDAR
VERSION:2.0
PRODID:-//Project New Village - ECPv6.15.20//NONSGML v1.0//EN
CALSCALE:GREGORIAN
METHOD:PUBLISH
X-WR-CALNAME:Project New Village
X-ORIGINAL-URL:https://projectnewvillage.org
X-WR-CALDESC:Events for Project New Village
REFRESH-INTERVAL;VALUE=DURATION:PT1H
X-Robots-Tag:noindex
X-PUBLISHED-TTL:PT1H
BEGIN:VTIMEZONE
TZID:UTC
BEGIN:STANDARD
TZOFFSETFROM:+0000
TZOFFSETTO:+0000
TZNAME:UTC
DTSTART:20250101T000000
END:STANDARD
END:VTIMEZONE
BEGIN:VTIMEZONE
TZID:America/Los_Angeles
BEGIN:DAYLIGHT
TZOFFSETFROM:-0800
TZOFFSETTO:-0700
TZNAME:PDT
DTSTART:20250309T100000
END:DAYLIGHT
BEGIN:STANDARD
TZOFFSETFROM:-0700
TZOFFSETTO:-0800
TZNAME:PST
DTSTART:20251102T090000
END:STANDARD
BEGIN:DAYLIGHT
TZOFFSETFROM:-0800
TZOFFSETTO:-0700
TZNAME:PDT
DTSTART:20260308T100000
END:DAYLIGHT
BEGIN:STANDARD
TZOFFSETFROM:-0700
TZOFFSETTO:-0800
TZNAME:PST
DTSTART:20261101T090000
END:STANDARD
BEGIN:DAYLIGHT
TZOFFSETFROM:-0800
TZOFFSETTO:-0700
TZNAME:PDT
DTSTART:20270314T100000
END:DAYLIGHT
BEGIN:STANDARD
TZOFFSETFROM:-0700
TZOFFSETTO:-0800
TZNAME:PST
DTSTART:20271107T090000
END:STANDARD
END:VTIMEZONE
BEGIN:VEVENT
DTSTART;TZID=UTC:20261104T110000
DTEND;TZID=UTC:20261104T130000
DTSTAMP:20260424T150112
CREATED:20240605T085037Z
LAST-MODIFIED:20241220T232503Z
UID:10000247-1793790000-1793797200@projectnewvillage.org
SUMMARY:People’s Produce @ Mt. Hope Community Garden
DESCRIPTION:Mobile farmers truck bringing fresh\, locally grown produce to neighborhoods throughout greater Southeastern San Diego. Champions for Health will be at this market providing free health screenings and vaccinations to community members.
URL:https://projectnewvillage.org/event/peoples-produce-mt-hope-community-garden/2026-11-04/
LOCATION:Mt. Hope Community Garden\, 4269 Market St.\, San Diego\, CA\, 92102\, United States
CATEGORIES:Farmers Market
ATTACH;FMTTYPE=image/jpeg:https://projectnewvillage.org/wp-content/uploads/2024/05/Improve.jpg
END:VEVENT
BEGIN:VEVENT
DTSTART;TZID=America/Los_Angeles:20261104T150000
DTEND;TZID=America/Los_Angeles:20261104T170000
DTSTAMP:20260424T150112
CREATED:20240805T183711Z
LAST-MODIFIED:20251224T162037Z
UID:10001535-1793804400-1793811600@projectnewvillage.org
SUMMARY:People's Produce @ Morse High School
DESCRIPTION:
URL:https://projectnewvillage.org/event/peoples-produce-morse-high-school/2026-11-04/
LOCATION:Morse High School\, 6905 Skyline Drive\, San Diego\, CA\, 92114\, United States
CATEGORIES:Farmers Market
ATTACH;FMTTYPE=image/jpeg:https://projectnewvillage.org/wp-content/uploads/2024/05/Improve.jpg
END:VEVENT
BEGIN:VEVENT
DTSTART;TZID=UTC:20261105T090000
DTEND;TZID=UTC:20261105T110000
DTSTAMP:20260424T150112
CREATED:20240605T085319Z
LAST-MODIFIED:20251224T162147Z
UID:10000508-1793869200-1793876400@projectnewvillage.org
SUMMARY:People's Produce @ ECC Campus
DESCRIPTION:Mobile farmers truck bringing fresh\, locally grown produce to neighborhoods throughout greater Southeastern San Diego.
URL:https://projectnewvillage.org/event/peoples-produce-ecc-campus/2026-11-05/
LOCATION:ECC Campus\, 4343 Ocean View Blvd.\, San Diego\, CA\, 92113\, United States
CATEGORIES:Farmers Market
ATTACH;FMTTYPE=image/jpeg:https://projectnewvillage.org/wp-content/uploads/2024/06/MFM-NatCity1.jpg
END:VEVENT
BEGIN:VEVENT
DTSTART;TZID=UTC:20261105T160000
DTEND;TZID=UTC:20261105T180000
DTSTAMP:20260424T150112
CREATED:20240605T085637Z
LAST-MODIFIED:20251224T162303Z
UID:10000769-1793894400-1793901600@projectnewvillage.org
SUMMARY:People's Produce @ Thrive Lemon Grove Farmers Market
DESCRIPTION:Mobile farmers truck bringing fresh\, locally grown produce to neighborhoods throughout greater Southeastern San Diego.
URL:https://projectnewvillage.org/event/peoples-produce-thrive-lemon-grove-farmers-market/2026-11-05/
LOCATION:Treganza Heritage Parrk\, 3200 Main St.\, Lemon Grove\, CA\, 91945\, United States
CATEGORIES:Farmers Market
ATTACH;FMTTYPE=image/jpeg:https://projectnewvillage.org/wp-content/uploads/2024/06/MFM-NatCity1.jpg
END:VEVENT
BEGIN:VEVENT
DTSTART;TZID=UTC:20261106T110000
DTEND;TZID=UTC:20261106T130000
DTSTAMP:20260424T150112
CREATED:20240605T085941Z
LAST-MODIFIED:20250109T163925Z
UID:10001030-1793962800-1793970000@projectnewvillage.org
SUMMARY:People's Produce @ Brooks Huffman Plaza
DESCRIPTION:Mobile farmers truck bringing fresh\, locally grown produce to neighborhoods throughout greater Southeastern San Diego.
URL:https://projectnewvillage.org/event/peoples-produce-brooks-huffman-plaza/2026-11-06/
LOCATION:Four Corners of Life\, Imperial & Euclid\, San Diego\, CA\, 92114\, United States
CATEGORIES:Farmers Market
ATTACH;FMTTYPE=image/jpeg:https://projectnewvillage.org/wp-content/uploads/2024/06/MFM-NatCity1.jpg
END:VEVENT
BEGIN:VEVENT
DTSTART;TZID=America/Los_Angeles:20261106T143000
DTEND;TZID=America/Los_Angeles:20261106T163000
DTSTAMP:20260424T150112
CREATED:20241030T204024Z
LAST-MODIFIED:20250109T164016Z
UID:10001784-1793975400-1793982600@projectnewvillage.org
SUMMARY:People's Produce @ Encanto Village
DESCRIPTION:Mobile farmers truck bringing fresh\, locally grown produce to neighborhoods throughout greater Southeastern San Diego.
URL:https://projectnewvillage.org/event/peoples-produce-encanto-village/2026-11-06/
LOCATION:Encanto Village\, 6315 Imperial Ave.\, San Diego\, CA\, 92114\, United States
CATEGORIES:Farmers Market
ATTACH;FMTTYPE=image/jpeg:https://projectnewvillage.org/wp-content/uploads/2024/06/MFM-NatCity1.jpg
END:VEVENT
BEGIN:VEVENT
DTSTART;TZID=America/Los_Angeles:20261107T110000
DTEND;TZID=America/Los_Angeles:20261107T130000
DTSTAMP:20260424T150112
CREATED:20241030T204249Z
LAST-MODIFIED:20250402T161844Z
UID:10001963-1794049200-1794056400@projectnewvillage.org
SUMMARY:People's Produce @ Bethel AME Church
DESCRIPTION:Mobile farmers truck bringing fresh\, locally grown produce to neighborhoods throughout greater Southeastern San Diego.
URL:https://projectnewvillage.org/event/peoples-produce-bethel-ame-church-2/2026-11-07/
LOCATION:Bethel AME Church\, 3085 K Street\, San Diego\, CA\, 92102\, United States
CATEGORIES:Farmers Market
ATTACH;FMTTYPE=image/jpeg:https://projectnewvillage.org/wp-content/uploads/2024/06/MFM-NatCity1.jpg
END:VEVENT
BEGIN:VEVENT
DTSTART;TZID=UTC:20261111T110000
DTEND;TZID=UTC:20261111T130000
DTSTAMP:20260424T150112
CREATED:20240605T085037Z
LAST-MODIFIED:20241220T232503Z
UID:10000248-1794394800-1794402000@projectnewvillage.org
SUMMARY:People’s Produce @ Mt. Hope Community Garden
DESCRIPTION:Mobile farmers truck bringing fresh\, locally grown produce to neighborhoods throughout greater Southeastern San Diego. Champions for Health will be at this market providing free health screenings and vaccinations to community members.
URL:https://projectnewvillage.org/event/peoples-produce-mt-hope-community-garden/2026-11-11/
LOCATION:Mt. Hope Community Garden\, 4269 Market St.\, San Diego\, CA\, 92102\, United States
CATEGORIES:Farmers Market
ATTACH;FMTTYPE=image/jpeg:https://projectnewvillage.org/wp-content/uploads/2024/05/Improve.jpg
END:VEVENT
BEGIN:VEVENT
DTSTART;TZID=America/Los_Angeles:20261111T150000
DTEND;TZID=America/Los_Angeles:20261111T170000
DTSTAMP:20260424T150112
CREATED:20240805T183711Z
LAST-MODIFIED:20251224T162037Z
UID:10001536-1794409200-1794416400@projectnewvillage.org
SUMMARY:People's Produce @ Morse High School
DESCRIPTION:
URL:https://projectnewvillage.org/event/peoples-produce-morse-high-school/2026-11-11/
LOCATION:Morse High School\, 6905 Skyline Drive\, San Diego\, CA\, 92114\, United States
CATEGORIES:Farmers Market
ATTACH;FMTTYPE=image/jpeg:https://projectnewvillage.org/wp-content/uploads/2024/05/Improve.jpg
END:VEVENT
BEGIN:VEVENT
DTSTART;TZID=UTC:20261112T090000
DTEND;TZID=UTC:20261112T110000
DTSTAMP:20260424T150112
CREATED:20240605T085319Z
LAST-MODIFIED:20251224T162147Z
UID:10000509-1794474000-1794481200@projectnewvillage.org
SUMMARY:People's Produce @ ECC Campus
DESCRIPTION:Mobile farmers truck bringing fresh\, locally grown produce to neighborhoods throughout greater Southeastern San Diego.
URL:https://projectnewvillage.org/event/peoples-produce-ecc-campus/2026-11-12/
LOCATION:ECC Campus\, 4343 Ocean View Blvd.\, San Diego\, CA\, 92113\, United States
CATEGORIES:Farmers Market
ATTACH;FMTTYPE=image/jpeg:https://projectnewvillage.org/wp-content/uploads/2024/06/MFM-NatCity1.jpg
END:VEVENT
BEGIN:VEVENT
DTSTART;TZID=UTC:20261112T160000
DTEND;TZID=UTC:20261112T180000
DTSTAMP:20260424T150112
CREATED:20240605T085637Z
LAST-MODIFIED:20251224T162303Z
UID:10000770-1794499200-1794506400@projectnewvillage.org
SUMMARY:People's Produce @ Thrive Lemon Grove Farmers Market
DESCRIPTION:Mobile farmers truck bringing fresh\, locally grown produce to neighborhoods throughout greater Southeastern San Diego.
URL:https://projectnewvillage.org/event/peoples-produce-thrive-lemon-grove-farmers-market/2026-11-12/
LOCATION:Treganza Heritage Parrk\, 3200 Main St.\, Lemon Grove\, CA\, 91945\, United States
CATEGORIES:Farmers Market
ATTACH;FMTTYPE=image/jpeg:https://projectnewvillage.org/wp-content/uploads/2024/06/MFM-NatCity1.jpg
END:VEVENT
BEGIN:VEVENT
DTSTART;TZID=UTC:20261113T110000
DTEND;TZID=UTC:20261113T130000
DTSTAMP:20260424T150112
CREATED:20240605T085941Z
LAST-MODIFIED:20250109T163925Z
UID:10001031-1794567600-1794574800@projectnewvillage.org
SUMMARY:People's Produce @ Brooks Huffman Plaza
DESCRIPTION:Mobile farmers truck bringing fresh\, locally grown produce to neighborhoods throughout greater Southeastern San Diego.
URL:https://projectnewvillage.org/event/peoples-produce-brooks-huffman-plaza/2026-11-13/
LOCATION:Four Corners of Life\, Imperial & Euclid\, San Diego\, CA\, 92114\, United States
CATEGORIES:Farmers Market
ATTACH;FMTTYPE=image/jpeg:https://projectnewvillage.org/wp-content/uploads/2024/06/MFM-NatCity1.jpg
END:VEVENT
BEGIN:VEVENT
DTSTART;TZID=America/Los_Angeles:20261113T143000
DTEND;TZID=America/Los_Angeles:20261113T163000
DTSTAMP:20260424T150112
CREATED:20241030T204024Z
LAST-MODIFIED:20250109T164016Z
UID:10001785-1794580200-1794587400@projectnewvillage.org
SUMMARY:People's Produce @ Encanto Village
DESCRIPTION:Mobile farmers truck bringing fresh\, locally grown produce to neighborhoods throughout greater Southeastern San Diego.
URL:https://projectnewvillage.org/event/peoples-produce-encanto-village/2026-11-13/
LOCATION:Encanto Village\, 6315 Imperial Ave.\, San Diego\, CA\, 92114\, United States
CATEGORIES:Farmers Market
ATTACH;FMTTYPE=image/jpeg:https://projectnewvillage.org/wp-content/uploads/2024/06/MFM-NatCity1.jpg
END:VEVENT
BEGIN:VEVENT
DTSTART;TZID=UTC:20261118T110000
DTEND;TZID=UTC:20261118T130000
DTSTAMP:20260424T150112
CREATED:20240605T085037Z
LAST-MODIFIED:20241220T232503Z
UID:10000249-1794999600-1795006800@projectnewvillage.org
SUMMARY:People’s Produce @ Mt. Hope Community Garden
DESCRIPTION:Mobile farmers truck bringing fresh\, locally grown produce to neighborhoods throughout greater Southeastern San Diego. Champions for Health will be at this market providing free health screenings and vaccinations to community members.
URL:https://projectnewvillage.org/event/peoples-produce-mt-hope-community-garden/2026-11-18/
LOCATION:Mt. Hope Community Garden\, 4269 Market St.\, San Diego\, CA\, 92102\, United States
CATEGORIES:Farmers Market
ATTACH;FMTTYPE=image/jpeg:https://projectnewvillage.org/wp-content/uploads/2024/05/Improve.jpg
END:VEVENT
BEGIN:VEVENT
DTSTART;TZID=America/Los_Angeles:20261118T150000
DTEND;TZID=America/Los_Angeles:20261118T170000
DTSTAMP:20260424T150112
CREATED:20240805T183711Z
LAST-MODIFIED:20251224T162037Z
UID:10001537-1795014000-1795021200@projectnewvillage.org
SUMMARY:People's Produce @ Morse High School
DESCRIPTION:
URL:https://projectnewvillage.org/event/peoples-produce-morse-high-school/2026-11-18/
LOCATION:Morse High School\, 6905 Skyline Drive\, San Diego\, CA\, 92114\, United States
CATEGORIES:Farmers Market
ATTACH;FMTTYPE=image/jpeg:https://projectnewvillage.org/wp-content/uploads/2024/05/Improve.jpg
END:VEVENT
BEGIN:VEVENT
DTSTART;TZID=UTC:20261119T090000
DTEND;TZID=UTC:20261119T110000
DTSTAMP:20260424T150112
CREATED:20240605T085319Z
LAST-MODIFIED:20251224T162147Z
UID:10000510-1795078800-1795086000@projectnewvillage.org
SUMMARY:People's Produce @ ECC Campus
DESCRIPTION:Mobile farmers truck bringing fresh\, locally grown produce to neighborhoods throughout greater Southeastern San Diego.
URL:https://projectnewvillage.org/event/peoples-produce-ecc-campus/2026-11-19/
LOCATION:ECC Campus\, 4343 Ocean View Blvd.\, San Diego\, CA\, 92113\, United States
CATEGORIES:Farmers Market
ATTACH;FMTTYPE=image/jpeg:https://projectnewvillage.org/wp-content/uploads/2024/06/MFM-NatCity1.jpg
END:VEVENT
BEGIN:VEVENT
DTSTART;TZID=UTC:20261119T160000
DTEND;TZID=UTC:20261119T180000
DTSTAMP:20260424T150112
CREATED:20240605T085637Z
LAST-MODIFIED:20251224T162303Z
UID:10000771-1795104000-1795111200@projectnewvillage.org
SUMMARY:People's Produce @ Thrive Lemon Grove Farmers Market
DESCRIPTION:Mobile farmers truck bringing fresh\, locally grown produce to neighborhoods throughout greater Southeastern San Diego.
URL:https://projectnewvillage.org/event/peoples-produce-thrive-lemon-grove-farmers-market/2026-11-19/
LOCATION:Treganza Heritage Parrk\, 3200 Main St.\, Lemon Grove\, CA\, 91945\, United States
CATEGORIES:Farmers Market
ATTACH;FMTTYPE=image/jpeg:https://projectnewvillage.org/wp-content/uploads/2024/06/MFM-NatCity1.jpg
END:VEVENT
BEGIN:VEVENT
DTSTART;TZID=UTC:20261120T110000
DTEND;TZID=UTC:20261120T130000
DTSTAMP:20260424T150112
CREATED:20240605T085941Z
LAST-MODIFIED:20250109T163925Z
UID:10001032-1795172400-1795179600@projectnewvillage.org
SUMMARY:People's Produce @ Brooks Huffman Plaza
DESCRIPTION:Mobile farmers truck bringing fresh\, locally grown produce to neighborhoods throughout greater Southeastern San Diego.
URL:https://projectnewvillage.org/event/peoples-produce-brooks-huffman-plaza/2026-11-20/
LOCATION:Four Corners of Life\, Imperial & Euclid\, San Diego\, CA\, 92114\, United States
CATEGORIES:Farmers Market
ATTACH;FMTTYPE=image/jpeg:https://projectnewvillage.org/wp-content/uploads/2024/06/MFM-NatCity1.jpg
END:VEVENT
BEGIN:VEVENT
DTSTART;TZID=America/Los_Angeles:20261120T143000
DTEND;TZID=America/Los_Angeles:20261120T163000
DTSTAMP:20260424T150112
CREATED:20241030T204024Z
LAST-MODIFIED:20250109T164016Z
UID:10001786-1795185000-1795192200@projectnewvillage.org
SUMMARY:People's Produce @ Encanto Village
DESCRIPTION:Mobile farmers truck bringing fresh\, locally grown produce to neighborhoods throughout greater Southeastern San Diego.
URL:https://projectnewvillage.org/event/peoples-produce-encanto-village/2026-11-20/
LOCATION:Encanto Village\, 6315 Imperial Ave.\, San Diego\, CA\, 92114\, United States
CATEGORIES:Farmers Market
ATTACH;FMTTYPE=image/jpeg:https://projectnewvillage.org/wp-content/uploads/2024/06/MFM-NatCity1.jpg
END:VEVENT
BEGIN:VEVENT
DTSTART;TZID=America/Los_Angeles:20261121T120000
DTEND;TZID=America/Los_Angeles:20261121T140000
DTSTAMP:20260424T150112
CREATED:20240805T182614Z
LAST-MODIFIED:20241220T232007Z
UID:10001325-1795262400-1795269600@projectnewvillage.org
SUMMARY:People's Produce @ Logan Heights CDC
DESCRIPTION:Mobile farmers truck bringing fresh\, locally grown produce to neighborhoods throughout greater Southeastern San Diego.
URL:https://projectnewvillage.org/event/peoples-produce-logan-heights-cdc/2026-11-21/
LOCATION:Logan Heights CDC\, 2835 Imperial Ave.\, San Diego\, CA\, 92123\, United States
CATEGORIES:Farmers Market
ATTACH;FMTTYPE=image/jpeg:https://projectnewvillage.org/wp-content/uploads/2024/05/Improve.jpg
END:VEVENT
BEGIN:VEVENT
DTSTART;TZID=UTC:20261125T110000
DTEND;TZID=UTC:20261125T130000
DTSTAMP:20260424T150112
CREATED:20240605T085037Z
LAST-MODIFIED:20241220T232503Z
UID:10000250-1795604400-1795611600@projectnewvillage.org
SUMMARY:People’s Produce @ Mt. Hope Community Garden
DESCRIPTION:Mobile farmers truck bringing fresh\, locally grown produce to neighborhoods throughout greater Southeastern San Diego. Champions for Health will be at this market providing free health screenings and vaccinations to community members.
URL:https://projectnewvillage.org/event/peoples-produce-mt-hope-community-garden/2026-11-25/
LOCATION:Mt. Hope Community Garden\, 4269 Market St.\, San Diego\, CA\, 92102\, United States
CATEGORIES:Farmers Market
ATTACH;FMTTYPE=image/jpeg:https://projectnewvillage.org/wp-content/uploads/2024/05/Improve.jpg
END:VEVENT
BEGIN:VEVENT
DTSTART;TZID=America/Los_Angeles:20261125T150000
DTEND;TZID=America/Los_Angeles:20261125T170000
DTSTAMP:20260424T150112
CREATED:20240805T183711Z
LAST-MODIFIED:20251224T162037Z
UID:10001538-1795618800-1795626000@projectnewvillage.org
SUMMARY:People's Produce @ Morse High School
DESCRIPTION:
URL:https://projectnewvillage.org/event/peoples-produce-morse-high-school/2026-11-25/
LOCATION:Morse High School\, 6905 Skyline Drive\, San Diego\, CA\, 92114\, United States
CATEGORIES:Farmers Market
ATTACH;FMTTYPE=image/jpeg:https://projectnewvillage.org/wp-content/uploads/2024/05/Improve.jpg
END:VEVENT
BEGIN:VEVENT
DTSTART;TZID=UTC:20261126T090000
DTEND;TZID=UTC:20261126T110000
DTSTAMP:20260424T150112
CREATED:20240605T085319Z
LAST-MODIFIED:20251224T162147Z
UID:10000511-1795683600-1795690800@projectnewvillage.org
SUMMARY:People's Produce @ ECC Campus
DESCRIPTION:Mobile farmers truck bringing fresh\, locally grown produce to neighborhoods throughout greater Southeastern San Diego.
URL:https://projectnewvillage.org/event/peoples-produce-ecc-campus/2026-11-26/
LOCATION:ECC Campus\, 4343 Ocean View Blvd.\, San Diego\, CA\, 92113\, United States
CATEGORIES:Farmers Market
ATTACH;FMTTYPE=image/jpeg:https://projectnewvillage.org/wp-content/uploads/2024/06/MFM-NatCity1.jpg
END:VEVENT
BEGIN:VEVENT
DTSTART;TZID=UTC:20261126T160000
DTEND;TZID=UTC:20261126T180000
DTSTAMP:20260424T150112
CREATED:20240605T085637Z
LAST-MODIFIED:20251224T162303Z
UID:10000772-1795708800-1795716000@projectnewvillage.org
SUMMARY:People's Produce @ Thrive Lemon Grove Farmers Market
DESCRIPTION:Mobile farmers truck bringing fresh\, locally grown produce to neighborhoods throughout greater Southeastern San Diego.
URL:https://projectnewvillage.org/event/peoples-produce-thrive-lemon-grove-farmers-market/2026-11-26/
LOCATION:Treganza Heritage Parrk\, 3200 Main St.\, Lemon Grove\, CA\, 91945\, United States
CATEGORIES:Farmers Market
ATTACH;FMTTYPE=image/jpeg:https://projectnewvillage.org/wp-content/uploads/2024/06/MFM-NatCity1.jpg
END:VEVENT
BEGIN:VEVENT
DTSTART;TZID=UTC:20261127T110000
DTEND;TZID=UTC:20261127T130000
DTSTAMP:20260424T150112
CREATED:20240605T085941Z
LAST-MODIFIED:20250109T163925Z
UID:10001033-1795777200-1795784400@projectnewvillage.org
SUMMARY:People's Produce @ Brooks Huffman Plaza
DESCRIPTION:Mobile farmers truck bringing fresh\, locally grown produce to neighborhoods throughout greater Southeastern San Diego.
URL:https://projectnewvillage.org/event/peoples-produce-brooks-huffman-plaza/2026-11-27/
LOCATION:Four Corners of Life\, Imperial & Euclid\, San Diego\, CA\, 92114\, United States
CATEGORIES:Farmers Market
ATTACH;FMTTYPE=image/jpeg:https://projectnewvillage.org/wp-content/uploads/2024/06/MFM-NatCity1.jpg
END:VEVENT
BEGIN:VEVENT
DTSTART;TZID=America/Los_Angeles:20261127T143000
DTEND;TZID=America/Los_Angeles:20261127T163000
DTSTAMP:20260424T150112
CREATED:20241030T204024Z
LAST-MODIFIED:20250109T164016Z
UID:10001787-1795789800-1795797000@projectnewvillage.org
SUMMARY:People's Produce @ Encanto Village
DESCRIPTION:Mobile farmers truck bringing fresh\, locally grown produce to neighborhoods throughout greater Southeastern San Diego.
URL:https://projectnewvillage.org/event/peoples-produce-encanto-village/2026-11-27/
LOCATION:Encanto Village\, 6315 Imperial Ave.\, San Diego\, CA\, 92114\, United States
CATEGORIES:Farmers Market
ATTACH;FMTTYPE=image/jpeg:https://projectnewvillage.org/wp-content/uploads/2024/06/MFM-NatCity1.jpg
END:VEVENT
BEGIN:VEVENT
DTSTART;TZID=America/Los_Angeles:20261128T100000
DTEND;TZID=America/Los_Angeles:20261128T120000
DTSTAMP:20260424T150112
CREATED:20240805T182943Z
LAST-MODIFIED:20241220T232607Z
UID:10001385-1795860000-1795867200@projectnewvillage.org
SUMMARY:People's Produce @ Mtn. View Community Center
DESCRIPTION:Mobile farmers truck bringing fresh\, locally grown produce to neighborhoods throughout greater Southeastern San Diego.
URL:https://projectnewvillage.org/event/peoples-produce-mtn-view-community-center/2026-11-28/
LOCATION:Mountain View Community Center\, 641 Boundary St.\, San Diego\, CA\, 92113\, United States
CATEGORIES:Farmers Market
ATTACH;FMTTYPE=image/jpeg:https://projectnewvillage.org/wp-content/uploads/2024/05/Improve.jpg
END:VEVENT
END:VCALENDAR