BEGIN:VCALENDAR
VERSION:2.0
PRODID:-//Project New Village - ECPv6.15.20//NONSGML v1.0//EN
CALSCALE:GREGORIAN
METHOD:PUBLISH
X-WR-CALNAME:Project New Village
X-ORIGINAL-URL:https://projectnewvillage.org
X-WR-CALDESC:Events for Project New Village
REFRESH-INTERVAL;VALUE=DURATION:PT1H
X-Robots-Tag:noindex
X-PUBLISHED-TTL:PT1H
BEGIN:VTIMEZONE
TZID:America/Los_Angeles
BEGIN:DAYLIGHT
TZOFFSETFROM:-0800
TZOFFSETTO:-0700
TZNAME:PDT
DTSTART:20240310T100000
END:DAYLIGHT
BEGIN:STANDARD
TZOFFSETFROM:-0700
TZOFFSETTO:-0800
TZNAME:PST
DTSTART:20241103T090000
END:STANDARD
BEGIN:DAYLIGHT
TZOFFSETFROM:-0800
TZOFFSETTO:-0700
TZNAME:PDT
DTSTART:20250309T100000
END:DAYLIGHT
BEGIN:STANDARD
TZOFFSETFROM:-0700
TZOFFSETTO:-0800
TZNAME:PST
DTSTART:20251102T090000
END:STANDARD
BEGIN:DAYLIGHT
TZOFFSETFROM:-0800
TZOFFSETTO:-0700
TZNAME:PDT
DTSTART:20260308T100000
END:DAYLIGHT
BEGIN:STANDARD
TZOFFSETFROM:-0700
TZOFFSETTO:-0800
TZNAME:PST
DTSTART:20261101T090000
END:STANDARD
END:VTIMEZONE
BEGIN:VEVENT
DTSTART;TZID=America/Los_Angeles:20250304T180000
DTEND;TZID=America/Los_Angeles:20250304T200000
DTSTAMP:20260424T001236
CREATED:20250211T143740Z
LAST-MODIFIED:20250211T144126Z
UID:10002167-1741111200-1741118400@projectnewvillage.org
SUMMARY:Mardi Gras in the Garden @ Mt. Hope Community Garden
DESCRIPTION:Our annual Mardi Gras in the garden is back! Join us for a festive gathering in the garden celebrating Fat Tuesday and the Mt. Hope Community Garden space! Featuring live music\, complimentary beverages (alcoholic and non-alcoholic)\, delicious food\, and New Orleans-inspired dancing and festivities – all in a beautiful nighttime garden setting! Don’t miss this friend-raiser event! \nTickets only $20 – Purchase Here!
URL:https://projectnewvillage.org/event/mardi-gras-in-the-garden-mt-hope-community-garden/
LOCATION:Mt. Hope Community Garden\, 4269 Market St.\, San Diego\, CA\, 92102\, United States
CATEGORIES:Special Event
ATTACH;FMTTYPE=image/png:https://projectnewvillage.org/wp-content/uploads/2025/02/2023-MGintheGarden-EVENT-BANNER.png
END:VEVENT
END:VCALENDAR