BEGIN:VCALENDAR
VERSION:2.0
PRODID:-//Project New Village - ECPv6.15.20//NONSGML v1.0//EN
CALSCALE:GREGORIAN
METHOD:PUBLISH
X-ORIGINAL-URL:https://projectnewvillage.org
X-WR-CALDESC:Events for Project New Village
REFRESH-INTERVAL;VALUE=DURATION:PT1H
X-Robots-Tag:noindex
X-PUBLISHED-TTL:PT1H
BEGIN:VTIMEZONE
TZID:America/Los_Angeles
BEGIN:DAYLIGHT
TZOFFSETFROM:-0800
TZOFFSETTO:-0700
TZNAME:PDT
DTSTART:20250309T100000
END:DAYLIGHT
BEGIN:STANDARD
TZOFFSETFROM:-0700
TZOFFSETTO:-0800
TZNAME:PST
DTSTART:20251102T090000
END:STANDARD
BEGIN:DAYLIGHT
TZOFFSETFROM:-0800
TZOFFSETTO:-0700
TZNAME:PDT
DTSTART:20260308T100000
END:DAYLIGHT
BEGIN:STANDARD
TZOFFSETFROM:-0700
TZOFFSETTO:-0800
TZNAME:PST
DTSTART:20261101T090000
END:STANDARD
BEGIN:DAYLIGHT
TZOFFSETFROM:-0800
TZOFFSETTO:-0700
TZNAME:PDT
DTSTART:20270314T100000
END:DAYLIGHT
BEGIN:STANDARD
TZOFFSETFROM:-0700
TZOFFSETTO:-0800
TZNAME:PST
DTSTART:20271107T090000
END:STANDARD
END:VTIMEZONE
BEGIN:VEVENT
DTSTART;TZID=America/Los_Angeles:20260827T100000
DTEND;TZID=America/Los_Angeles:20260827T140000
DTSTAMP:20260425T075356
CREATED:20260105T165356Z
LAST-MODIFIED:20260105T165447Z
UID:10002446-1787824800-1787839200@projectnewvillage.org
SUMMARY:Volunteer Hours @ Uvas Wellness Garden
DESCRIPTION:Weekly volunteer hours at our Rooted Resources garden spaces. Open to all in the community – no equipment or experience needed.
URL:https://projectnewvillage.org/event/volunteer-hours-uvas-wellness-garden/2026-08-27/
LOCATION:Uvas Wellness Garden\, 4835 Market St.\, San Diego\, CA\, 92102\, United States
CATEGORIES:Volunteer Hours
ATTACH;FMTTYPE=image/png:https://projectnewvillage.org/wp-content/uploads/2026/01/UVAS-weekly-volunteer-hours.png
END:VEVENT
BEGIN:VEVENT
DTSTART;TZID=America/Los_Angeles:20260827T150000
DTEND;TZID=America/Los_Angeles:20260827T170000
DTSTAMP:20260425T075356
CREATED:20260105T170023Z
LAST-MODIFIED:20260105T170023Z
UID:10003490-1787842800-1787850000@projectnewvillage.org
SUMMARY:Volunteer Hours @ Mt. Hope Community Garden
DESCRIPTION:Weekly volunteer hours at our Rooted Resources garden spaces. Open to all in the community – no equipment or experience needed.
URL:https://projectnewvillage.org/event/volunteer-hours-mt-hope-community-garden-2/2026-08-27/
LOCATION:Mt. Hope Community Garden\, 4269 Market St.\, San Diego\, CA\, 92102\, United States
CATEGORIES:Volunteer Hours
ATTACH;FMTTYPE=image/png:https://projectnewvillage.org/wp-content/uploads/2026/01/MT-HOPE-weekly-volunteer-hours.png
END:VEVENT
BEGIN:VEVENT
DTSTART;TZID=America/Los_Angeles:20260828T090000
DTEND;TZID=America/Los_Angeles:20260828T120000
DTSTAMP:20260425T075356
CREATED:20260105T165732Z
LAST-MODIFIED:20260105T165732Z
UID:10002968-1787907600-1787918400@projectnewvillage.org
SUMMARY:Volunteer Hours @ Morse High School
DESCRIPTION:Weekly volunteer hours at our Rooted Resources garden spaces. Open to all in the community – no equipment or experience needed.
URL:https://projectnewvillage.org/event/volunteer-hours-morse-high-school-2/2026-08-28/
LOCATION:Morse High School\, 6905 Skyline Drive\, San Diego\, CA\, 92114\, United States
CATEGORIES:Volunteer Hours
ATTACH;FMTTYPE=image/png:https://projectnewvillage.org/wp-content/uploads/2026/01/MORSE-weekly-volunteer-hours.png
END:VEVENT
BEGIN:VEVENT
DTSTART;TZID=America/Los_Angeles:20260902T100000
DTEND;TZID=America/Los_Angeles:20260902T120000
DTSTAMP:20260425T075356
CREATED:20260105T165854Z
LAST-MODIFIED:20260105T165854Z
UID:10003230-1788343200-1788350400@projectnewvillage.org
SUMMARY:Volunteer Hours @ Mt. Hope Community Garden
DESCRIPTION:Weekly volunteer hours at our Rooted Resources garden spaces. Open to all in the community – no equipment or experience needed.
URL:https://projectnewvillage.org/event/volunteer-hours-mt-hope-community-garden/2026-09-02/
LOCATION:Mt. Hope Community Garden\, 4269 Market St.\, San Diego\, CA\, 92102\, United States
CATEGORIES:Volunteer Hours
ATTACH;FMTTYPE=image/png:https://projectnewvillage.org/wp-content/uploads/2026/01/MT-HOPE-weekly-volunteer-hours.png
END:VEVENT
BEGIN:VEVENT
DTSTART;TZID=America/Los_Angeles:20260902T150000
DTEND;TZID=America/Los_Angeles:20260902T170000
DTSTAMP:20260425T075356
CREATED:20260105T165612Z
LAST-MODIFIED:20260105T165612Z
UID:10002708-1788361200-1788368400@projectnewvillage.org
SUMMARY:Volunteer Hours @ Morse High School
DESCRIPTION:Weekly volunteer hours at our Rooted Resources garden spaces. Open to all in the community – no equipment or experience needed.
URL:https://projectnewvillage.org/event/volunteer-hours-morse-high-school/2026-09-02/
LOCATION:Morse High School\, 6905 Skyline Drive\, San Diego\, CA\, 92114\, United States
CATEGORIES:Volunteer Hours
ATTACH;FMTTYPE=image/png:https://projectnewvillage.org/wp-content/uploads/2026/01/MORSE-weekly-volunteer-hours.png
END:VEVENT
BEGIN:VEVENT
DTSTART;TZID=America/Los_Angeles:20260903T100000
DTEND;TZID=America/Los_Angeles:20260903T140000
DTSTAMP:20260425T075356
CREATED:20260105T165356Z
LAST-MODIFIED:20260105T165447Z
UID:10002447-1788429600-1788444000@projectnewvillage.org
SUMMARY:Volunteer Hours @ Uvas Wellness Garden
DESCRIPTION:Weekly volunteer hours at our Rooted Resources garden spaces. Open to all in the community – no equipment or experience needed.
URL:https://projectnewvillage.org/event/volunteer-hours-uvas-wellness-garden/2026-09-03/
LOCATION:Uvas Wellness Garden\, 4835 Market St.\, San Diego\, CA\, 92102\, United States
CATEGORIES:Volunteer Hours
ATTACH;FMTTYPE=image/png:https://projectnewvillage.org/wp-content/uploads/2026/01/UVAS-weekly-volunteer-hours.png
END:VEVENT
BEGIN:VEVENT
DTSTART;TZID=America/Los_Angeles:20260903T150000
DTEND;TZID=America/Los_Angeles:20260903T170000
DTSTAMP:20260425T075356
CREATED:20260105T170023Z
LAST-MODIFIED:20260105T170023Z
UID:10003491-1788447600-1788454800@projectnewvillage.org
SUMMARY:Volunteer Hours @ Mt. Hope Community Garden
DESCRIPTION:Weekly volunteer hours at our Rooted Resources garden spaces. Open to all in the community – no equipment or experience needed.
URL:https://projectnewvillage.org/event/volunteer-hours-mt-hope-community-garden-2/2026-09-03/
LOCATION:Mt. Hope Community Garden\, 4269 Market St.\, San Diego\, CA\, 92102\, United States
CATEGORIES:Volunteer Hours
ATTACH;FMTTYPE=image/png:https://projectnewvillage.org/wp-content/uploads/2026/01/MT-HOPE-weekly-volunteer-hours.png
END:VEVENT
BEGIN:VEVENT
DTSTART;TZID=America/Los_Angeles:20260904T090000
DTEND;TZID=America/Los_Angeles:20260904T120000
DTSTAMP:20260425T075356
CREATED:20260105T165732Z
LAST-MODIFIED:20260105T165732Z
UID:10002969-1788512400-1788523200@projectnewvillage.org
SUMMARY:Volunteer Hours @ Morse High School
DESCRIPTION:Weekly volunteer hours at our Rooted Resources garden spaces. Open to all in the community – no equipment or experience needed.
URL:https://projectnewvillage.org/event/volunteer-hours-morse-high-school-2/2026-09-04/
LOCATION:Morse High School\, 6905 Skyline Drive\, San Diego\, CA\, 92114\, United States
CATEGORIES:Volunteer Hours
ATTACH;FMTTYPE=image/png:https://projectnewvillage.org/wp-content/uploads/2026/01/MORSE-weekly-volunteer-hours.png
END:VEVENT
BEGIN:VEVENT
DTSTART;TZID=America/Los_Angeles:20260909T100000
DTEND;TZID=America/Los_Angeles:20260909T120000
DTSTAMP:20260425T075356
CREATED:20260105T165854Z
LAST-MODIFIED:20260105T165854Z
UID:10003231-1788948000-1788955200@projectnewvillage.org
SUMMARY:Volunteer Hours @ Mt. Hope Community Garden
DESCRIPTION:Weekly volunteer hours at our Rooted Resources garden spaces. Open to all in the community – no equipment or experience needed.
URL:https://projectnewvillage.org/event/volunteer-hours-mt-hope-community-garden/2026-09-09/
LOCATION:Mt. Hope Community Garden\, 4269 Market St.\, San Diego\, CA\, 92102\, United States
CATEGORIES:Volunteer Hours
ATTACH;FMTTYPE=image/png:https://projectnewvillage.org/wp-content/uploads/2026/01/MT-HOPE-weekly-volunteer-hours.png
END:VEVENT
BEGIN:VEVENT
DTSTART;TZID=America/Los_Angeles:20260909T150000
DTEND;TZID=America/Los_Angeles:20260909T170000
DTSTAMP:20260425T075356
CREATED:20260105T165612Z
LAST-MODIFIED:20260105T165612Z
UID:10002709-1788966000-1788973200@projectnewvillage.org
SUMMARY:Volunteer Hours @ Morse High School
DESCRIPTION:Weekly volunteer hours at our Rooted Resources garden spaces. Open to all in the community – no equipment or experience needed.
URL:https://projectnewvillage.org/event/volunteer-hours-morse-high-school/2026-09-09/
LOCATION:Morse High School\, 6905 Skyline Drive\, San Diego\, CA\, 92114\, United States
CATEGORIES:Volunteer Hours
ATTACH;FMTTYPE=image/png:https://projectnewvillage.org/wp-content/uploads/2026/01/MORSE-weekly-volunteer-hours.png
END:VEVENT
BEGIN:VEVENT
DTSTART;TZID=America/Los_Angeles:20260910T100000
DTEND;TZID=America/Los_Angeles:20260910T140000
DTSTAMP:20260425T075356
CREATED:20260105T165356Z
LAST-MODIFIED:20260105T165447Z
UID:10002448-1789034400-1789048800@projectnewvillage.org
SUMMARY:Volunteer Hours @ Uvas Wellness Garden
DESCRIPTION:Weekly volunteer hours at our Rooted Resources garden spaces. Open to all in the community – no equipment or experience needed.
URL:https://projectnewvillage.org/event/volunteer-hours-uvas-wellness-garden/2026-09-10/
LOCATION:Uvas Wellness Garden\, 4835 Market St.\, San Diego\, CA\, 92102\, United States
CATEGORIES:Volunteer Hours
ATTACH;FMTTYPE=image/png:https://projectnewvillage.org/wp-content/uploads/2026/01/UVAS-weekly-volunteer-hours.png
END:VEVENT
BEGIN:VEVENT
DTSTART;TZID=America/Los_Angeles:20260910T150000
DTEND;TZID=America/Los_Angeles:20260910T170000
DTSTAMP:20260425T075356
CREATED:20260105T170023Z
LAST-MODIFIED:20260105T170023Z
UID:10003492-1789052400-1789059600@projectnewvillage.org
SUMMARY:Volunteer Hours @ Mt. Hope Community Garden
DESCRIPTION:Weekly volunteer hours at our Rooted Resources garden spaces. Open to all in the community – no equipment or experience needed.
URL:https://projectnewvillage.org/event/volunteer-hours-mt-hope-community-garden-2/2026-09-10/
LOCATION:Mt. Hope Community Garden\, 4269 Market St.\, San Diego\, CA\, 92102\, United States
CATEGORIES:Volunteer Hours
ATTACH;FMTTYPE=image/png:https://projectnewvillage.org/wp-content/uploads/2026/01/MT-HOPE-weekly-volunteer-hours.png
END:VEVENT
BEGIN:VEVENT
DTSTART;TZID=America/Los_Angeles:20260911T090000
DTEND;TZID=America/Los_Angeles:20260911T120000
DTSTAMP:20260425T075356
CREATED:20260105T165732Z
LAST-MODIFIED:20260105T165732Z
UID:10002970-1789117200-1789128000@projectnewvillage.org
SUMMARY:Volunteer Hours @ Morse High School
DESCRIPTION:Weekly volunteer hours at our Rooted Resources garden spaces. Open to all in the community – no equipment or experience needed.
URL:https://projectnewvillage.org/event/volunteer-hours-morse-high-school-2/2026-09-11/
LOCATION:Morse High School\, 6905 Skyline Drive\, San Diego\, CA\, 92114\, United States
CATEGORIES:Volunteer Hours
ATTACH;FMTTYPE=image/png:https://projectnewvillage.org/wp-content/uploads/2026/01/MORSE-weekly-volunteer-hours.png
END:VEVENT
BEGIN:VEVENT
DTSTART;TZID=America/Los_Angeles:20260916T100000
DTEND;TZID=America/Los_Angeles:20260916T120000
DTSTAMP:20260425T075356
CREATED:20260105T165854Z
LAST-MODIFIED:20260105T165854Z
UID:10003232-1789552800-1789560000@projectnewvillage.org
SUMMARY:Volunteer Hours @ Mt. Hope Community Garden
DESCRIPTION:Weekly volunteer hours at our Rooted Resources garden spaces. Open to all in the community – no equipment or experience needed.
URL:https://projectnewvillage.org/event/volunteer-hours-mt-hope-community-garden/2026-09-16/
LOCATION:Mt. Hope Community Garden\, 4269 Market St.\, San Diego\, CA\, 92102\, United States
CATEGORIES:Volunteer Hours
ATTACH;FMTTYPE=image/png:https://projectnewvillage.org/wp-content/uploads/2026/01/MT-HOPE-weekly-volunteer-hours.png
END:VEVENT
BEGIN:VEVENT
DTSTART;TZID=America/Los_Angeles:20260916T150000
DTEND;TZID=America/Los_Angeles:20260916T170000
DTSTAMP:20260425T075356
CREATED:20260105T165612Z
LAST-MODIFIED:20260105T165612Z
UID:10002710-1789570800-1789578000@projectnewvillage.org
SUMMARY:Volunteer Hours @ Morse High School
DESCRIPTION:Weekly volunteer hours at our Rooted Resources garden spaces. Open to all in the community – no equipment or experience needed.
URL:https://projectnewvillage.org/event/volunteer-hours-morse-high-school/2026-09-16/
LOCATION:Morse High School\, 6905 Skyline Drive\, San Diego\, CA\, 92114\, United States
CATEGORIES:Volunteer Hours
ATTACH;FMTTYPE=image/png:https://projectnewvillage.org/wp-content/uploads/2026/01/MORSE-weekly-volunteer-hours.png
END:VEVENT
BEGIN:VEVENT
DTSTART;TZID=America/Los_Angeles:20260917T100000
DTEND;TZID=America/Los_Angeles:20260917T140000
DTSTAMP:20260425T075356
CREATED:20260105T165356Z
LAST-MODIFIED:20260105T165447Z
UID:10002449-1789639200-1789653600@projectnewvillage.org
SUMMARY:Volunteer Hours @ Uvas Wellness Garden
DESCRIPTION:Weekly volunteer hours at our Rooted Resources garden spaces. Open to all in the community – no equipment or experience needed.
URL:https://projectnewvillage.org/event/volunteer-hours-uvas-wellness-garden/2026-09-17/
LOCATION:Uvas Wellness Garden\, 4835 Market St.\, San Diego\, CA\, 92102\, United States
CATEGORIES:Volunteer Hours
ATTACH;FMTTYPE=image/png:https://projectnewvillage.org/wp-content/uploads/2026/01/UVAS-weekly-volunteer-hours.png
END:VEVENT
BEGIN:VEVENT
DTSTART;TZID=America/Los_Angeles:20260917T150000
DTEND;TZID=America/Los_Angeles:20260917T170000
DTSTAMP:20260425T075356
CREATED:20260105T170023Z
LAST-MODIFIED:20260105T170023Z
UID:10003493-1789657200-1789664400@projectnewvillage.org
SUMMARY:Volunteer Hours @ Mt. Hope Community Garden
DESCRIPTION:Weekly volunteer hours at our Rooted Resources garden spaces. Open to all in the community – no equipment or experience needed.
URL:https://projectnewvillage.org/event/volunteer-hours-mt-hope-community-garden-2/2026-09-17/
LOCATION:Mt. Hope Community Garden\, 4269 Market St.\, San Diego\, CA\, 92102\, United States
CATEGORIES:Volunteer Hours
ATTACH;FMTTYPE=image/png:https://projectnewvillage.org/wp-content/uploads/2026/01/MT-HOPE-weekly-volunteer-hours.png
END:VEVENT
BEGIN:VEVENT
DTSTART;TZID=America/Los_Angeles:20260918T090000
DTEND;TZID=America/Los_Angeles:20260918T120000
DTSTAMP:20260425T075356
CREATED:20260105T165732Z
LAST-MODIFIED:20260105T165732Z
UID:10002971-1789722000-1789732800@projectnewvillage.org
SUMMARY:Volunteer Hours @ Morse High School
DESCRIPTION:Weekly volunteer hours at our Rooted Resources garden spaces. Open to all in the community – no equipment or experience needed.
URL:https://projectnewvillage.org/event/volunteer-hours-morse-high-school-2/2026-09-18/
LOCATION:Morse High School\, 6905 Skyline Drive\, San Diego\, CA\, 92114\, United States
CATEGORIES:Volunteer Hours
ATTACH;FMTTYPE=image/png:https://projectnewvillage.org/wp-content/uploads/2026/01/MORSE-weekly-volunteer-hours.png
END:VEVENT
BEGIN:VEVENT
DTSTART;TZID=America/Los_Angeles:20260923T100000
DTEND;TZID=America/Los_Angeles:20260923T120000
DTSTAMP:20260425T075356
CREATED:20260105T165854Z
LAST-MODIFIED:20260105T165854Z
UID:10003233-1790157600-1790164800@projectnewvillage.org
SUMMARY:Volunteer Hours @ Mt. Hope Community Garden
DESCRIPTION:Weekly volunteer hours at our Rooted Resources garden spaces. Open to all in the community – no equipment or experience needed.
URL:https://projectnewvillage.org/event/volunteer-hours-mt-hope-community-garden/2026-09-23/
LOCATION:Mt. Hope Community Garden\, 4269 Market St.\, San Diego\, CA\, 92102\, United States
CATEGORIES:Volunteer Hours
ATTACH;FMTTYPE=image/png:https://projectnewvillage.org/wp-content/uploads/2026/01/MT-HOPE-weekly-volunteer-hours.png
END:VEVENT
BEGIN:VEVENT
DTSTART;TZID=America/Los_Angeles:20260923T150000
DTEND;TZID=America/Los_Angeles:20260923T170000
DTSTAMP:20260425T075356
CREATED:20260105T165612Z
LAST-MODIFIED:20260105T165612Z
UID:10002711-1790175600-1790182800@projectnewvillage.org
SUMMARY:Volunteer Hours @ Morse High School
DESCRIPTION:Weekly volunteer hours at our Rooted Resources garden spaces. Open to all in the community – no equipment or experience needed.
URL:https://projectnewvillage.org/event/volunteer-hours-morse-high-school/2026-09-23/
LOCATION:Morse High School\, 6905 Skyline Drive\, San Diego\, CA\, 92114\, United States
CATEGORIES:Volunteer Hours
ATTACH;FMTTYPE=image/png:https://projectnewvillage.org/wp-content/uploads/2026/01/MORSE-weekly-volunteer-hours.png
END:VEVENT
BEGIN:VEVENT
DTSTART;TZID=America/Los_Angeles:20260924T100000
DTEND;TZID=America/Los_Angeles:20260924T140000
DTSTAMP:20260425T075356
CREATED:20260105T165356Z
LAST-MODIFIED:20260105T165447Z
UID:10002450-1790244000-1790258400@projectnewvillage.org
SUMMARY:Volunteer Hours @ Uvas Wellness Garden
DESCRIPTION:Weekly volunteer hours at our Rooted Resources garden spaces. Open to all in the community – no equipment or experience needed.
URL:https://projectnewvillage.org/event/volunteer-hours-uvas-wellness-garden/2026-09-24/
LOCATION:Uvas Wellness Garden\, 4835 Market St.\, San Diego\, CA\, 92102\, United States
CATEGORIES:Volunteer Hours
ATTACH;FMTTYPE=image/png:https://projectnewvillage.org/wp-content/uploads/2026/01/UVAS-weekly-volunteer-hours.png
END:VEVENT
BEGIN:VEVENT
DTSTART;TZID=America/Los_Angeles:20260924T150000
DTEND;TZID=America/Los_Angeles:20260924T170000
DTSTAMP:20260425T075356
CREATED:20260105T170023Z
LAST-MODIFIED:20260105T170023Z
UID:10003494-1790262000-1790269200@projectnewvillage.org
SUMMARY:Volunteer Hours @ Mt. Hope Community Garden
DESCRIPTION:Weekly volunteer hours at our Rooted Resources garden spaces. Open to all in the community – no equipment or experience needed.
URL:https://projectnewvillage.org/event/volunteer-hours-mt-hope-community-garden-2/2026-09-24/
LOCATION:Mt. Hope Community Garden\, 4269 Market St.\, San Diego\, CA\, 92102\, United States
CATEGORIES:Volunteer Hours
ATTACH;FMTTYPE=image/png:https://projectnewvillage.org/wp-content/uploads/2026/01/MT-HOPE-weekly-volunteer-hours.png
END:VEVENT
BEGIN:VEVENT
DTSTART;TZID=America/Los_Angeles:20260925T090000
DTEND;TZID=America/Los_Angeles:20260925T120000
DTSTAMP:20260425T075356
CREATED:20260105T165732Z
LAST-MODIFIED:20260105T165732Z
UID:10002972-1790326800-1790337600@projectnewvillage.org
SUMMARY:Volunteer Hours @ Morse High School
DESCRIPTION:Weekly volunteer hours at our Rooted Resources garden spaces. Open to all in the community – no equipment or experience needed.
URL:https://projectnewvillage.org/event/volunteer-hours-morse-high-school-2/2026-09-25/
LOCATION:Morse High School\, 6905 Skyline Drive\, San Diego\, CA\, 92114\, United States
CATEGORIES:Volunteer Hours
ATTACH;FMTTYPE=image/png:https://projectnewvillage.org/wp-content/uploads/2026/01/MORSE-weekly-volunteer-hours.png
END:VEVENT
BEGIN:VEVENT
DTSTART;TZID=America/Los_Angeles:20260930T100000
DTEND;TZID=America/Los_Angeles:20260930T120000
DTSTAMP:20260425T075356
CREATED:20260105T165854Z
LAST-MODIFIED:20260105T165854Z
UID:10003234-1790762400-1790769600@projectnewvillage.org
SUMMARY:Volunteer Hours @ Mt. Hope Community Garden
DESCRIPTION:Weekly volunteer hours at our Rooted Resources garden spaces. Open to all in the community – no equipment or experience needed.
URL:https://projectnewvillage.org/event/volunteer-hours-mt-hope-community-garden/2026-09-30/
LOCATION:Mt. Hope Community Garden\, 4269 Market St.\, San Diego\, CA\, 92102\, United States
CATEGORIES:Volunteer Hours
ATTACH;FMTTYPE=image/png:https://projectnewvillage.org/wp-content/uploads/2026/01/MT-HOPE-weekly-volunteer-hours.png
END:VEVENT
BEGIN:VEVENT
DTSTART;TZID=America/Los_Angeles:20260930T150000
DTEND;TZID=America/Los_Angeles:20260930T170000
DTSTAMP:20260425T075356
CREATED:20260105T165612Z
LAST-MODIFIED:20260105T165612Z
UID:10002712-1790780400-1790787600@projectnewvillage.org
SUMMARY:Volunteer Hours @ Morse High School
DESCRIPTION:Weekly volunteer hours at our Rooted Resources garden spaces. Open to all in the community – no equipment or experience needed.
URL:https://projectnewvillage.org/event/volunteer-hours-morse-high-school/2026-09-30/
LOCATION:Morse High School\, 6905 Skyline Drive\, San Diego\, CA\, 92114\, United States
CATEGORIES:Volunteer Hours
ATTACH;FMTTYPE=image/png:https://projectnewvillage.org/wp-content/uploads/2026/01/MORSE-weekly-volunteer-hours.png
END:VEVENT
BEGIN:VEVENT
DTSTART;TZID=America/Los_Angeles:20261001T100000
DTEND;TZID=America/Los_Angeles:20261001T140000
DTSTAMP:20260425T075356
CREATED:20260105T165356Z
LAST-MODIFIED:20260105T165447Z
UID:10002451-1790848800-1790863200@projectnewvillage.org
SUMMARY:Volunteer Hours @ Uvas Wellness Garden
DESCRIPTION:Weekly volunteer hours at our Rooted Resources garden spaces. Open to all in the community – no equipment or experience needed.
URL:https://projectnewvillage.org/event/volunteer-hours-uvas-wellness-garden/2026-10-01/
LOCATION:Uvas Wellness Garden\, 4835 Market St.\, San Diego\, CA\, 92102\, United States
CATEGORIES:Volunteer Hours
ATTACH;FMTTYPE=image/png:https://projectnewvillage.org/wp-content/uploads/2026/01/UVAS-weekly-volunteer-hours.png
END:VEVENT
BEGIN:VEVENT
DTSTART;TZID=America/Los_Angeles:20261001T150000
DTEND;TZID=America/Los_Angeles:20261001T170000
DTSTAMP:20260425T075356
CREATED:20260105T170023Z
LAST-MODIFIED:20260105T170023Z
UID:10003495-1790866800-1790874000@projectnewvillage.org
SUMMARY:Volunteer Hours @ Mt. Hope Community Garden
DESCRIPTION:Weekly volunteer hours at our Rooted Resources garden spaces. Open to all in the community – no equipment or experience needed.
URL:https://projectnewvillage.org/event/volunteer-hours-mt-hope-community-garden-2/2026-10-01/
LOCATION:Mt. Hope Community Garden\, 4269 Market St.\, San Diego\, CA\, 92102\, United States
CATEGORIES:Volunteer Hours
ATTACH;FMTTYPE=image/png:https://projectnewvillage.org/wp-content/uploads/2026/01/MT-HOPE-weekly-volunteer-hours.png
END:VEVENT
BEGIN:VEVENT
DTSTART;TZID=America/Los_Angeles:20261002T090000
DTEND;TZID=America/Los_Angeles:20261002T120000
DTSTAMP:20260425T075356
CREATED:20260105T165732Z
LAST-MODIFIED:20260105T165732Z
UID:10002973-1790931600-1790942400@projectnewvillage.org
SUMMARY:Volunteer Hours @ Morse High School
DESCRIPTION:Weekly volunteer hours at our Rooted Resources garden spaces. Open to all in the community – no equipment or experience needed.
URL:https://projectnewvillage.org/event/volunteer-hours-morse-high-school-2/2026-10-02/
LOCATION:Morse High School\, 6905 Skyline Drive\, San Diego\, CA\, 92114\, United States
CATEGORIES:Volunteer Hours
ATTACH;FMTTYPE=image/png:https://projectnewvillage.org/wp-content/uploads/2026/01/MORSE-weekly-volunteer-hours.png
END:VEVENT
BEGIN:VEVENT
DTSTART;TZID=America/Los_Angeles:20261007T100000
DTEND;TZID=America/Los_Angeles:20261007T120000
DTSTAMP:20260425T075356
CREATED:20260105T165854Z
LAST-MODIFIED:20260105T165854Z
UID:10003235-1791367200-1791374400@projectnewvillage.org
SUMMARY:Volunteer Hours @ Mt. Hope Community Garden
DESCRIPTION:Weekly volunteer hours at our Rooted Resources garden spaces. Open to all in the community – no equipment or experience needed.
URL:https://projectnewvillage.org/event/volunteer-hours-mt-hope-community-garden/2026-10-07/
LOCATION:Mt. Hope Community Garden\, 4269 Market St.\, San Diego\, CA\, 92102\, United States
CATEGORIES:Volunteer Hours
ATTACH;FMTTYPE=image/png:https://projectnewvillage.org/wp-content/uploads/2026/01/MT-HOPE-weekly-volunteer-hours.png
END:VEVENT
BEGIN:VEVENT
DTSTART;TZID=America/Los_Angeles:20261007T150000
DTEND;TZID=America/Los_Angeles:20261007T170000
DTSTAMP:20260425T075356
CREATED:20260105T165612Z
LAST-MODIFIED:20260105T165612Z
UID:10002713-1791385200-1791392400@projectnewvillage.org
SUMMARY:Volunteer Hours @ Morse High School
DESCRIPTION:Weekly volunteer hours at our Rooted Resources garden spaces. Open to all in the community – no equipment or experience needed.
URL:https://projectnewvillage.org/event/volunteer-hours-morse-high-school/2026-10-07/
LOCATION:Morse High School\, 6905 Skyline Drive\, San Diego\, CA\, 92114\, United States
CATEGORIES:Volunteer Hours
ATTACH;FMTTYPE=image/png:https://projectnewvillage.org/wp-content/uploads/2026/01/MORSE-weekly-volunteer-hours.png
END:VEVENT
END:VCALENDAR