BEGIN:VCALENDAR
VERSION:2.0
PRODID:-//Project New Village - ECPv6.15.20//NONSGML v1.0//EN
CALSCALE:GREGORIAN
METHOD:PUBLISH
X-ORIGINAL-URL:https://projectnewvillage.org
X-WR-CALDESC:Events for Project New Village
REFRESH-INTERVAL;VALUE=DURATION:PT1H
X-Robots-Tag:noindex
X-PUBLISHED-TTL:PT1H
BEGIN:VTIMEZONE
TZID:America/Los_Angeles
BEGIN:DAYLIGHT
TZOFFSETFROM:-0800
TZOFFSETTO:-0700
TZNAME:PDT
DTSTART:20250309T100000
END:DAYLIGHT
BEGIN:STANDARD
TZOFFSETFROM:-0700
TZOFFSETTO:-0800
TZNAME:PST
DTSTART:20251102T090000
END:STANDARD
BEGIN:DAYLIGHT
TZOFFSETFROM:-0800
TZOFFSETTO:-0700
TZNAME:PDT
DTSTART:20260308T100000
END:DAYLIGHT
BEGIN:STANDARD
TZOFFSETFROM:-0700
TZOFFSETTO:-0800
TZNAME:PST
DTSTART:20261101T090000
END:STANDARD
BEGIN:DAYLIGHT
TZOFFSETFROM:-0800
TZOFFSETTO:-0700
TZNAME:PDT
DTSTART:20270314T100000
END:DAYLIGHT
BEGIN:STANDARD
TZOFFSETFROM:-0700
TZOFFSETTO:-0800
TZNAME:PST
DTSTART:20271107T090000
END:STANDARD
END:VTIMEZONE
BEGIN:VEVENT
DTSTART;TZID=America/Los_Angeles:20260122T100000
DTEND;TZID=America/Los_Angeles:20260122T140000
DTSTAMP:20260425T071957
CREATED:20260105T165356Z
LAST-MODIFIED:20260105T165447Z
UID:10002415-1769076000-1769090400@projectnewvillage.org
SUMMARY:Volunteer Hours @ Uvas Wellness Garden
DESCRIPTION:Weekly volunteer hours at our Rooted Resources garden spaces. Open to all in the community – no equipment or experience needed.
URL:https://projectnewvillage.org/event/volunteer-hours-uvas-wellness-garden/2026-01-22/
LOCATION:Uvas Wellness Garden\, 4835 Market St.\, San Diego\, CA\, 92102\, United States
CATEGORIES:Volunteer Hours
ATTACH;FMTTYPE=image/png:https://projectnewvillage.org/wp-content/uploads/2026/01/UVAS-weekly-volunteer-hours.png
END:VEVENT
BEGIN:VEVENT
DTSTART;TZID=America/Los_Angeles:20260122T150000
DTEND;TZID=America/Los_Angeles:20260122T170000
DTSTAMP:20260425T071957
CREATED:20260105T170023Z
LAST-MODIFIED:20260105T170023Z
UID:10003459-1769094000-1769101200@projectnewvillage.org
SUMMARY:Volunteer Hours @ Mt. Hope Community Garden
DESCRIPTION:Weekly volunteer hours at our Rooted Resources garden spaces. Open to all in the community – no equipment or experience needed.
URL:https://projectnewvillage.org/event/volunteer-hours-mt-hope-community-garden-2/2026-01-22/
LOCATION:Mt. Hope Community Garden\, 4269 Market St.\, San Diego\, CA\, 92102\, United States
CATEGORIES:Volunteer Hours
ATTACH;FMTTYPE=image/png:https://projectnewvillage.org/wp-content/uploads/2026/01/MT-HOPE-weekly-volunteer-hours.png
END:VEVENT
BEGIN:VEVENT
DTSTART;TZID=America/Los_Angeles:20260123T090000
DTEND;TZID=America/Los_Angeles:20260123T120000
DTSTAMP:20260425T071957
CREATED:20260105T165732Z
LAST-MODIFIED:20260105T165732Z
UID:10002937-1769158800-1769169600@projectnewvillage.org
SUMMARY:Volunteer Hours @ Morse High School
DESCRIPTION:Weekly volunteer hours at our Rooted Resources garden spaces. Open to all in the community – no equipment or experience needed.
URL:https://projectnewvillage.org/event/volunteer-hours-morse-high-school-2/2026-01-23/
LOCATION:Morse High School\, 6905 Skyline Drive\, San Diego\, CA\, 92114\, United States
CATEGORIES:Volunteer Hours
ATTACH;FMTTYPE=image/png:https://projectnewvillage.org/wp-content/uploads/2026/01/MORSE-weekly-volunteer-hours.png
END:VEVENT
BEGIN:VEVENT
DTSTART;TZID=America/Los_Angeles:20260128T100000
DTEND;TZID=America/Los_Angeles:20260128T120000
DTSTAMP:20260425T071957
CREATED:20260105T165854Z
LAST-MODIFIED:20260105T165854Z
UID:10003199-1769594400-1769601600@projectnewvillage.org
SUMMARY:Volunteer Hours @ Mt. Hope Community Garden
DESCRIPTION:Weekly volunteer hours at our Rooted Resources garden spaces. Open to all in the community – no equipment or experience needed.
URL:https://projectnewvillage.org/event/volunteer-hours-mt-hope-community-garden/2026-01-28/
LOCATION:Mt. Hope Community Garden\, 4269 Market St.\, San Diego\, CA\, 92102\, United States
CATEGORIES:Volunteer Hours
ATTACH;FMTTYPE=image/png:https://projectnewvillage.org/wp-content/uploads/2026/01/MT-HOPE-weekly-volunteer-hours.png
END:VEVENT
BEGIN:VEVENT
DTSTART;TZID=America/Los_Angeles:20260128T150000
DTEND;TZID=America/Los_Angeles:20260128T170000
DTSTAMP:20260425T071957
CREATED:20260105T165612Z
LAST-MODIFIED:20260105T165612Z
UID:10002677-1769612400-1769619600@projectnewvillage.org
SUMMARY:Volunteer Hours @ Morse High School
DESCRIPTION:Weekly volunteer hours at our Rooted Resources garden spaces. Open to all in the community – no equipment or experience needed.
URL:https://projectnewvillage.org/event/volunteer-hours-morse-high-school/2026-01-28/
LOCATION:Morse High School\, 6905 Skyline Drive\, San Diego\, CA\, 92114\, United States
CATEGORIES:Volunteer Hours
ATTACH;FMTTYPE=image/png:https://projectnewvillage.org/wp-content/uploads/2026/01/MORSE-weekly-volunteer-hours.png
END:VEVENT
BEGIN:VEVENT
DTSTART;TZID=America/Los_Angeles:20260129T100000
DTEND;TZID=America/Los_Angeles:20260129T140000
DTSTAMP:20260425T071957
CREATED:20260105T165356Z
LAST-MODIFIED:20260105T165447Z
UID:10002416-1769680800-1769695200@projectnewvillage.org
SUMMARY:Volunteer Hours @ Uvas Wellness Garden
DESCRIPTION:Weekly volunteer hours at our Rooted Resources garden spaces. Open to all in the community – no equipment or experience needed.
URL:https://projectnewvillage.org/event/volunteer-hours-uvas-wellness-garden/2026-01-29/
LOCATION:Uvas Wellness Garden\, 4835 Market St.\, San Diego\, CA\, 92102\, United States
CATEGORIES:Volunteer Hours
ATTACH;FMTTYPE=image/png:https://projectnewvillage.org/wp-content/uploads/2026/01/UVAS-weekly-volunteer-hours.png
END:VEVENT
BEGIN:VEVENT
DTSTART;TZID=America/Los_Angeles:20260129T150000
DTEND;TZID=America/Los_Angeles:20260129T170000
DTSTAMP:20260425T071957
CREATED:20260105T170023Z
LAST-MODIFIED:20260105T170023Z
UID:10003460-1769698800-1769706000@projectnewvillage.org
SUMMARY:Volunteer Hours @ Mt. Hope Community Garden
DESCRIPTION:Weekly volunteer hours at our Rooted Resources garden spaces. Open to all in the community – no equipment or experience needed.
URL:https://projectnewvillage.org/event/volunteer-hours-mt-hope-community-garden-2/2026-01-29/
LOCATION:Mt. Hope Community Garden\, 4269 Market St.\, San Diego\, CA\, 92102\, United States
CATEGORIES:Volunteer Hours
ATTACH;FMTTYPE=image/png:https://projectnewvillage.org/wp-content/uploads/2026/01/MT-HOPE-weekly-volunteer-hours.png
END:VEVENT
BEGIN:VEVENT
DTSTART;TZID=America/Los_Angeles:20260130T090000
DTEND;TZID=America/Los_Angeles:20260130T120000
DTSTAMP:20260425T071957
CREATED:20260105T165732Z
LAST-MODIFIED:20260105T165732Z
UID:10002938-1769763600-1769774400@projectnewvillage.org
SUMMARY:Volunteer Hours @ Morse High School
DESCRIPTION:Weekly volunteer hours at our Rooted Resources garden spaces. Open to all in the community – no equipment or experience needed.
URL:https://projectnewvillage.org/event/volunteer-hours-morse-high-school-2/2026-01-30/
LOCATION:Morse High School\, 6905 Skyline Drive\, San Diego\, CA\, 92114\, United States
CATEGORIES:Volunteer Hours
ATTACH;FMTTYPE=image/png:https://projectnewvillage.org/wp-content/uploads/2026/01/MORSE-weekly-volunteer-hours.png
END:VEVENT
BEGIN:VEVENT
DTSTART;TZID=America/Los_Angeles:20260204T100000
DTEND;TZID=America/Los_Angeles:20260204T120000
DTSTAMP:20260425T071957
CREATED:20260105T165854Z
LAST-MODIFIED:20260105T165854Z
UID:10003200-1770199200-1770206400@projectnewvillage.org
SUMMARY:Volunteer Hours @ Mt. Hope Community Garden
DESCRIPTION:Weekly volunteer hours at our Rooted Resources garden spaces. Open to all in the community – no equipment or experience needed.
URL:https://projectnewvillage.org/event/volunteer-hours-mt-hope-community-garden/2026-02-04/
LOCATION:Mt. Hope Community Garden\, 4269 Market St.\, San Diego\, CA\, 92102\, United States
CATEGORIES:Volunteer Hours
ATTACH;FMTTYPE=image/png:https://projectnewvillage.org/wp-content/uploads/2026/01/MT-HOPE-weekly-volunteer-hours.png
END:VEVENT
BEGIN:VEVENT
DTSTART;TZID=America/Los_Angeles:20260204T150000
DTEND;TZID=America/Los_Angeles:20260204T170000
DTSTAMP:20260425T071957
CREATED:20260105T165612Z
LAST-MODIFIED:20260105T165612Z
UID:10002678-1770217200-1770224400@projectnewvillage.org
SUMMARY:Volunteer Hours @ Morse High School
DESCRIPTION:Weekly volunteer hours at our Rooted Resources garden spaces. Open to all in the community – no equipment or experience needed.
URL:https://projectnewvillage.org/event/volunteer-hours-morse-high-school/2026-02-04/
LOCATION:Morse High School\, 6905 Skyline Drive\, San Diego\, CA\, 92114\, United States
CATEGORIES:Volunteer Hours
ATTACH;FMTTYPE=image/png:https://projectnewvillage.org/wp-content/uploads/2026/01/MORSE-weekly-volunteer-hours.png
END:VEVENT
BEGIN:VEVENT
DTSTART;TZID=America/Los_Angeles:20260205T100000
DTEND;TZID=America/Los_Angeles:20260205T140000
DTSTAMP:20260425T071957
CREATED:20260105T165356Z
LAST-MODIFIED:20260105T165447Z
UID:10002417-1770285600-1770300000@projectnewvillage.org
SUMMARY:Volunteer Hours @ Uvas Wellness Garden
DESCRIPTION:Weekly volunteer hours at our Rooted Resources garden spaces. Open to all in the community – no equipment or experience needed.
URL:https://projectnewvillage.org/event/volunteer-hours-uvas-wellness-garden/2026-02-05/
LOCATION:Uvas Wellness Garden\, 4835 Market St.\, San Diego\, CA\, 92102\, United States
CATEGORIES:Volunteer Hours
ATTACH;FMTTYPE=image/png:https://projectnewvillage.org/wp-content/uploads/2026/01/UVAS-weekly-volunteer-hours.png
END:VEVENT
BEGIN:VEVENT
DTSTART;TZID=America/Los_Angeles:20260205T150000
DTEND;TZID=America/Los_Angeles:20260205T170000
DTSTAMP:20260425T071957
CREATED:20260105T170023Z
LAST-MODIFIED:20260105T170023Z
UID:10003461-1770303600-1770310800@projectnewvillage.org
SUMMARY:Volunteer Hours @ Mt. Hope Community Garden
DESCRIPTION:Weekly volunteer hours at our Rooted Resources garden spaces. Open to all in the community – no equipment or experience needed.
URL:https://projectnewvillage.org/event/volunteer-hours-mt-hope-community-garden-2/2026-02-05/
LOCATION:Mt. Hope Community Garden\, 4269 Market St.\, San Diego\, CA\, 92102\, United States
CATEGORIES:Volunteer Hours
ATTACH;FMTTYPE=image/png:https://projectnewvillage.org/wp-content/uploads/2026/01/MT-HOPE-weekly-volunteer-hours.png
END:VEVENT
BEGIN:VEVENT
DTSTART;TZID=America/Los_Angeles:20260206T090000
DTEND;TZID=America/Los_Angeles:20260206T120000
DTSTAMP:20260425T071957
CREATED:20260105T165732Z
LAST-MODIFIED:20260105T165732Z
UID:10002939-1770368400-1770379200@projectnewvillage.org
SUMMARY:Volunteer Hours @ Morse High School
DESCRIPTION:Weekly volunteer hours at our Rooted Resources garden spaces. Open to all in the community – no equipment or experience needed.
URL:https://projectnewvillage.org/event/volunteer-hours-morse-high-school-2/2026-02-06/
LOCATION:Morse High School\, 6905 Skyline Drive\, San Diego\, CA\, 92114\, United States
CATEGORIES:Volunteer Hours
ATTACH;FMTTYPE=image/png:https://projectnewvillage.org/wp-content/uploads/2026/01/MORSE-weekly-volunteer-hours.png
END:VEVENT
BEGIN:VEVENT
DTSTART;TZID=America/Los_Angeles:20260211T100000
DTEND;TZID=America/Los_Angeles:20260211T120000
DTSTAMP:20260425T071957
CREATED:20260105T165854Z
LAST-MODIFIED:20260105T165854Z
UID:10003201-1770804000-1770811200@projectnewvillage.org
SUMMARY:Volunteer Hours @ Mt. Hope Community Garden
DESCRIPTION:Weekly volunteer hours at our Rooted Resources garden spaces. Open to all in the community – no equipment or experience needed.
URL:https://projectnewvillage.org/event/volunteer-hours-mt-hope-community-garden/2026-02-11/
LOCATION:Mt. Hope Community Garden\, 4269 Market St.\, San Diego\, CA\, 92102\, United States
CATEGORIES:Volunteer Hours
ATTACH;FMTTYPE=image/png:https://projectnewvillage.org/wp-content/uploads/2026/01/MT-HOPE-weekly-volunteer-hours.png
END:VEVENT
BEGIN:VEVENT
DTSTART;TZID=America/Los_Angeles:20260211T150000
DTEND;TZID=America/Los_Angeles:20260211T170000
DTSTAMP:20260425T071957
CREATED:20260105T165612Z
LAST-MODIFIED:20260105T165612Z
UID:10002679-1770822000-1770829200@projectnewvillage.org
SUMMARY:Volunteer Hours @ Morse High School
DESCRIPTION:Weekly volunteer hours at our Rooted Resources garden spaces. Open to all in the community – no equipment or experience needed.
URL:https://projectnewvillage.org/event/volunteer-hours-morse-high-school/2026-02-11/
LOCATION:Morse High School\, 6905 Skyline Drive\, San Diego\, CA\, 92114\, United States
CATEGORIES:Volunteer Hours
ATTACH;FMTTYPE=image/png:https://projectnewvillage.org/wp-content/uploads/2026/01/MORSE-weekly-volunteer-hours.png
END:VEVENT
BEGIN:VEVENT
DTSTART;TZID=America/Los_Angeles:20260212T100000
DTEND;TZID=America/Los_Angeles:20260212T140000
DTSTAMP:20260425T071957
CREATED:20260105T165356Z
LAST-MODIFIED:20260105T165447Z
UID:10002418-1770890400-1770904800@projectnewvillage.org
SUMMARY:Volunteer Hours @ Uvas Wellness Garden
DESCRIPTION:Weekly volunteer hours at our Rooted Resources garden spaces. Open to all in the community – no equipment or experience needed.
URL:https://projectnewvillage.org/event/volunteer-hours-uvas-wellness-garden/2026-02-12/
LOCATION:Uvas Wellness Garden\, 4835 Market St.\, San Diego\, CA\, 92102\, United States
CATEGORIES:Volunteer Hours
ATTACH;FMTTYPE=image/png:https://projectnewvillage.org/wp-content/uploads/2026/01/UVAS-weekly-volunteer-hours.png
END:VEVENT
BEGIN:VEVENT
DTSTART;TZID=America/Los_Angeles:20260212T150000
DTEND;TZID=America/Los_Angeles:20260212T170000
DTSTAMP:20260425T071957
CREATED:20260105T170023Z
LAST-MODIFIED:20260105T170023Z
UID:10003462-1770908400-1770915600@projectnewvillage.org
SUMMARY:Volunteer Hours @ Mt. Hope Community Garden
DESCRIPTION:Weekly volunteer hours at our Rooted Resources garden spaces. Open to all in the community – no equipment or experience needed.
URL:https://projectnewvillage.org/event/volunteer-hours-mt-hope-community-garden-2/2026-02-12/
LOCATION:Mt. Hope Community Garden\, 4269 Market St.\, San Diego\, CA\, 92102\, United States
CATEGORIES:Volunteer Hours
ATTACH;FMTTYPE=image/png:https://projectnewvillage.org/wp-content/uploads/2026/01/MT-HOPE-weekly-volunteer-hours.png
END:VEVENT
BEGIN:VEVENT
DTSTART;TZID=America/Los_Angeles:20260213T090000
DTEND;TZID=America/Los_Angeles:20260213T120000
DTSTAMP:20260425T071957
CREATED:20260105T165732Z
LAST-MODIFIED:20260105T165732Z
UID:10002940-1770973200-1770984000@projectnewvillage.org
SUMMARY:Volunteer Hours @ Morse High School
DESCRIPTION:Weekly volunteer hours at our Rooted Resources garden spaces. Open to all in the community – no equipment or experience needed.
URL:https://projectnewvillage.org/event/volunteer-hours-morse-high-school-2/2026-02-13/
LOCATION:Morse High School\, 6905 Skyline Drive\, San Diego\, CA\, 92114\, United States
CATEGORIES:Volunteer Hours
ATTACH;FMTTYPE=image/png:https://projectnewvillage.org/wp-content/uploads/2026/01/MORSE-weekly-volunteer-hours.png
END:VEVENT
BEGIN:VEVENT
DTSTART;TZID=America/Los_Angeles:20260218T100000
DTEND;TZID=America/Los_Angeles:20260218T120000
DTSTAMP:20260425T071957
CREATED:20260105T165854Z
LAST-MODIFIED:20260105T165854Z
UID:10003202-1771408800-1771416000@projectnewvillage.org
SUMMARY:Volunteer Hours @ Mt. Hope Community Garden
DESCRIPTION:Weekly volunteer hours at our Rooted Resources garden spaces. Open to all in the community – no equipment or experience needed.
URL:https://projectnewvillage.org/event/volunteer-hours-mt-hope-community-garden/2026-02-18/
LOCATION:Mt. Hope Community Garden\, 4269 Market St.\, San Diego\, CA\, 92102\, United States
CATEGORIES:Volunteer Hours
ATTACH;FMTTYPE=image/png:https://projectnewvillage.org/wp-content/uploads/2026/01/MT-HOPE-weekly-volunteer-hours.png
END:VEVENT
BEGIN:VEVENT
DTSTART;TZID=America/Los_Angeles:20260218T150000
DTEND;TZID=America/Los_Angeles:20260218T170000
DTSTAMP:20260425T071957
CREATED:20260105T165612Z
LAST-MODIFIED:20260105T165612Z
UID:10002680-1771426800-1771434000@projectnewvillage.org
SUMMARY:Volunteer Hours @ Morse High School
DESCRIPTION:Weekly volunteer hours at our Rooted Resources garden spaces. Open to all in the community – no equipment or experience needed.
URL:https://projectnewvillage.org/event/volunteer-hours-morse-high-school/2026-02-18/
LOCATION:Morse High School\, 6905 Skyline Drive\, San Diego\, CA\, 92114\, United States
CATEGORIES:Volunteer Hours
ATTACH;FMTTYPE=image/png:https://projectnewvillage.org/wp-content/uploads/2026/01/MORSE-weekly-volunteer-hours.png
END:VEVENT
BEGIN:VEVENT
DTSTART;TZID=America/Los_Angeles:20260219T100000
DTEND;TZID=America/Los_Angeles:20260219T140000
DTSTAMP:20260425T071957
CREATED:20260105T165356Z
LAST-MODIFIED:20260105T165447Z
UID:10002419-1771495200-1771509600@projectnewvillage.org
SUMMARY:Volunteer Hours @ Uvas Wellness Garden
DESCRIPTION:Weekly volunteer hours at our Rooted Resources garden spaces. Open to all in the community – no equipment or experience needed.
URL:https://projectnewvillage.org/event/volunteer-hours-uvas-wellness-garden/2026-02-19/
LOCATION:Uvas Wellness Garden\, 4835 Market St.\, San Diego\, CA\, 92102\, United States
CATEGORIES:Volunteer Hours
ATTACH;FMTTYPE=image/png:https://projectnewvillage.org/wp-content/uploads/2026/01/UVAS-weekly-volunteer-hours.png
END:VEVENT
BEGIN:VEVENT
DTSTART;TZID=America/Los_Angeles:20260219T150000
DTEND;TZID=America/Los_Angeles:20260219T170000
DTSTAMP:20260425T071957
CREATED:20260105T170023Z
LAST-MODIFIED:20260105T170023Z
UID:10003463-1771513200-1771520400@projectnewvillage.org
SUMMARY:Volunteer Hours @ Mt. Hope Community Garden
DESCRIPTION:Weekly volunteer hours at our Rooted Resources garden spaces. Open to all in the community – no equipment or experience needed.
URL:https://projectnewvillage.org/event/volunteer-hours-mt-hope-community-garden-2/2026-02-19/
LOCATION:Mt. Hope Community Garden\, 4269 Market St.\, San Diego\, CA\, 92102\, United States
CATEGORIES:Volunteer Hours
ATTACH;FMTTYPE=image/png:https://projectnewvillage.org/wp-content/uploads/2026/01/MT-HOPE-weekly-volunteer-hours.png
END:VEVENT
BEGIN:VEVENT
DTSTART;TZID=America/Los_Angeles:20260220T090000
DTEND;TZID=America/Los_Angeles:20260220T120000
DTSTAMP:20260425T071957
CREATED:20260105T165732Z
LAST-MODIFIED:20260105T165732Z
UID:10002941-1771578000-1771588800@projectnewvillage.org
SUMMARY:Volunteer Hours @ Morse High School
DESCRIPTION:Weekly volunteer hours at our Rooted Resources garden spaces. Open to all in the community – no equipment or experience needed.
URL:https://projectnewvillage.org/event/volunteer-hours-morse-high-school-2/2026-02-20/
LOCATION:Morse High School\, 6905 Skyline Drive\, San Diego\, CA\, 92114\, United States
CATEGORIES:Volunteer Hours
ATTACH;FMTTYPE=image/png:https://projectnewvillage.org/wp-content/uploads/2026/01/MORSE-weekly-volunteer-hours.png
END:VEVENT
BEGIN:VEVENT
DTSTART;TZID=America/Los_Angeles:20260225T100000
DTEND;TZID=America/Los_Angeles:20260225T120000
DTSTAMP:20260425T071957
CREATED:20260105T165854Z
LAST-MODIFIED:20260105T165854Z
UID:10003203-1772013600-1772020800@projectnewvillage.org
SUMMARY:Volunteer Hours @ Mt. Hope Community Garden
DESCRIPTION:Weekly volunteer hours at our Rooted Resources garden spaces. Open to all in the community – no equipment or experience needed.
URL:https://projectnewvillage.org/event/volunteer-hours-mt-hope-community-garden/2026-02-25/
LOCATION:Mt. Hope Community Garden\, 4269 Market St.\, San Diego\, CA\, 92102\, United States
CATEGORIES:Volunteer Hours
ATTACH;FMTTYPE=image/png:https://projectnewvillage.org/wp-content/uploads/2026/01/MT-HOPE-weekly-volunteer-hours.png
END:VEVENT
BEGIN:VEVENT
DTSTART;TZID=America/Los_Angeles:20260225T150000
DTEND;TZID=America/Los_Angeles:20260225T170000
DTSTAMP:20260425T071957
CREATED:20260105T165612Z
LAST-MODIFIED:20260105T165612Z
UID:10002681-1772031600-1772038800@projectnewvillage.org
SUMMARY:Volunteer Hours @ Morse High School
DESCRIPTION:Weekly volunteer hours at our Rooted Resources garden spaces. Open to all in the community – no equipment or experience needed.
URL:https://projectnewvillage.org/event/volunteer-hours-morse-high-school/2026-02-25/
LOCATION:Morse High School\, 6905 Skyline Drive\, San Diego\, CA\, 92114\, United States
CATEGORIES:Volunteer Hours
ATTACH;FMTTYPE=image/png:https://projectnewvillage.org/wp-content/uploads/2026/01/MORSE-weekly-volunteer-hours.png
END:VEVENT
BEGIN:VEVENT
DTSTART;TZID=America/Los_Angeles:20260226T100000
DTEND;TZID=America/Los_Angeles:20260226T140000
DTSTAMP:20260425T071957
CREATED:20260105T165356Z
LAST-MODIFIED:20260105T165447Z
UID:10002420-1772100000-1772114400@projectnewvillage.org
SUMMARY:Volunteer Hours @ Uvas Wellness Garden
DESCRIPTION:Weekly volunteer hours at our Rooted Resources garden spaces. Open to all in the community – no equipment or experience needed.
URL:https://projectnewvillage.org/event/volunteer-hours-uvas-wellness-garden/2026-02-26/
LOCATION:Uvas Wellness Garden\, 4835 Market St.\, San Diego\, CA\, 92102\, United States
CATEGORIES:Volunteer Hours
ATTACH;FMTTYPE=image/png:https://projectnewvillage.org/wp-content/uploads/2026/01/UVAS-weekly-volunteer-hours.png
END:VEVENT
BEGIN:VEVENT
DTSTART;TZID=America/Los_Angeles:20260226T150000
DTEND;TZID=America/Los_Angeles:20260226T170000
DTSTAMP:20260425T071957
CREATED:20260105T170023Z
LAST-MODIFIED:20260105T170023Z
UID:10003464-1772118000-1772125200@projectnewvillage.org
SUMMARY:Volunteer Hours @ Mt. Hope Community Garden
DESCRIPTION:Weekly volunteer hours at our Rooted Resources garden spaces. Open to all in the community – no equipment or experience needed.
URL:https://projectnewvillage.org/event/volunteer-hours-mt-hope-community-garden-2/2026-02-26/
LOCATION:Mt. Hope Community Garden\, 4269 Market St.\, San Diego\, CA\, 92102\, United States
CATEGORIES:Volunteer Hours
ATTACH;FMTTYPE=image/png:https://projectnewvillage.org/wp-content/uploads/2026/01/MT-HOPE-weekly-volunteer-hours.png
END:VEVENT
BEGIN:VEVENT
DTSTART;TZID=America/Los_Angeles:20260227T090000
DTEND;TZID=America/Los_Angeles:20260227T120000
DTSTAMP:20260425T071957
CREATED:20260105T165732Z
LAST-MODIFIED:20260105T165732Z
UID:10002942-1772182800-1772193600@projectnewvillage.org
SUMMARY:Volunteer Hours @ Morse High School
DESCRIPTION:Weekly volunteer hours at our Rooted Resources garden spaces. Open to all in the community – no equipment or experience needed.
URL:https://projectnewvillage.org/event/volunteer-hours-morse-high-school-2/2026-02-27/
LOCATION:Morse High School\, 6905 Skyline Drive\, San Diego\, CA\, 92114\, United States
CATEGORIES:Volunteer Hours
ATTACH;FMTTYPE=image/png:https://projectnewvillage.org/wp-content/uploads/2026/01/MORSE-weekly-volunteer-hours.png
END:VEVENT
BEGIN:VEVENT
DTSTART;TZID=America/Los_Angeles:20260304T100000
DTEND;TZID=America/Los_Angeles:20260304T120000
DTSTAMP:20260425T071957
CREATED:20260105T165854Z
LAST-MODIFIED:20260105T165854Z
UID:10003204-1772618400-1772625600@projectnewvillage.org
SUMMARY:Volunteer Hours @ Mt. Hope Community Garden
DESCRIPTION:Weekly volunteer hours at our Rooted Resources garden spaces. Open to all in the community – no equipment or experience needed.
URL:https://projectnewvillage.org/event/volunteer-hours-mt-hope-community-garden/2026-03-04/
LOCATION:Mt. Hope Community Garden\, 4269 Market St.\, San Diego\, CA\, 92102\, United States
CATEGORIES:Volunteer Hours
ATTACH;FMTTYPE=image/png:https://projectnewvillage.org/wp-content/uploads/2026/01/MT-HOPE-weekly-volunteer-hours.png
END:VEVENT
BEGIN:VEVENT
DTSTART;TZID=America/Los_Angeles:20260304T150000
DTEND;TZID=America/Los_Angeles:20260304T170000
DTSTAMP:20260425T071957
CREATED:20260105T165612Z
LAST-MODIFIED:20260105T165612Z
UID:10002682-1772636400-1772643600@projectnewvillage.org
SUMMARY:Volunteer Hours @ Morse High School
DESCRIPTION:Weekly volunteer hours at our Rooted Resources garden spaces. Open to all in the community – no equipment or experience needed.
URL:https://projectnewvillage.org/event/volunteer-hours-morse-high-school/2026-03-04/
LOCATION:Morse High School\, 6905 Skyline Drive\, San Diego\, CA\, 92114\, United States
CATEGORIES:Volunteer Hours
ATTACH;FMTTYPE=image/png:https://projectnewvillage.org/wp-content/uploads/2026/01/MORSE-weekly-volunteer-hours.png
END:VEVENT
END:VCALENDAR