BEGIN:VCALENDAR
VERSION:2.0
PRODID:-//Project New Village - ECPv6.15.20//NONSGML v1.0//EN
CALSCALE:GREGORIAN
METHOD:PUBLISH
X-WR-CALNAME:Project New Village
X-ORIGINAL-URL:https://projectnewvillage.org
X-WR-CALDESC:Events for Project New Village
REFRESH-INTERVAL;VALUE=DURATION:PT1H
X-Robots-Tag:noindex
X-PUBLISHED-TTL:PT1H
BEGIN:VTIMEZONE
TZID:America/Los_Angeles
BEGIN:DAYLIGHT
TZOFFSETFROM:-0800
TZOFFSETTO:-0700
TZNAME:PDT
DTSTART:20250309T100000
END:DAYLIGHT
BEGIN:STANDARD
TZOFFSETFROM:-0700
TZOFFSETTO:-0800
TZNAME:PST
DTSTART:20251102T090000
END:STANDARD
BEGIN:DAYLIGHT
TZOFFSETFROM:-0800
TZOFFSETTO:-0700
TZNAME:PDT
DTSTART:20260308T100000
END:DAYLIGHT
BEGIN:STANDARD
TZOFFSETFROM:-0700
TZOFFSETTO:-0800
TZNAME:PST
DTSTART:20261101T090000
END:STANDARD
BEGIN:DAYLIGHT
TZOFFSETFROM:-0800
TZOFFSETTO:-0700
TZNAME:PDT
DTSTART:20270314T100000
END:DAYLIGHT
BEGIN:STANDARD
TZOFFSETFROM:-0700
TZOFFSETTO:-0800
TZNAME:PST
DTSTART:20271107T090000
END:STANDARD
END:VTIMEZONE
BEGIN:VEVENT
DTSTART;TZID=America/Los_Angeles:20260225T150000
DTEND;TZID=America/Los_Angeles:20260225T170000
DTSTAMP:20260425T073112
CREATED:20260105T165612Z
LAST-MODIFIED:20260105T165612Z
UID:10002681-1772031600-1772038800@projectnewvillage.org
SUMMARY:Volunteer Hours @ Morse High School
DESCRIPTION:Weekly volunteer hours at our Rooted Resources garden spaces. Open to all in the community – no equipment or experience needed.
URL:https://projectnewvillage.org/event/volunteer-hours-morse-high-school/2026-02-25/
LOCATION:Morse High School\, 6905 Skyline Drive\, San Diego\, CA\, 92114\, United States
CATEGORIES:Volunteer Hours
ATTACH;FMTTYPE=image/png:https://projectnewvillage.org/wp-content/uploads/2026/01/MORSE-weekly-volunteer-hours.png
END:VEVENT
BEGIN:VEVENT
DTSTART;TZID=America/Los_Angeles:20260226T100000
DTEND;TZID=America/Los_Angeles:20260226T140000
DTSTAMP:20260425T073112
CREATED:20260105T165356Z
LAST-MODIFIED:20260105T165447Z
UID:10002420-1772100000-1772114400@projectnewvillage.org
SUMMARY:Volunteer Hours @ Uvas Wellness Garden
DESCRIPTION:Weekly volunteer hours at our Rooted Resources garden spaces. Open to all in the community – no equipment or experience needed.
URL:https://projectnewvillage.org/event/volunteer-hours-uvas-wellness-garden/2026-02-26/
LOCATION:Uvas Wellness Garden\, 4835 Market St.\, San Diego\, CA\, 92102\, United States
CATEGORIES:Volunteer Hours
ATTACH;FMTTYPE=image/png:https://projectnewvillage.org/wp-content/uploads/2026/01/UVAS-weekly-volunteer-hours.png
END:VEVENT
BEGIN:VEVENT
DTSTART;TZID=America/Los_Angeles:20260226T150000
DTEND;TZID=America/Los_Angeles:20260226T170000
DTSTAMP:20260425T073112
CREATED:20260105T170023Z
LAST-MODIFIED:20260105T170023Z
UID:10003464-1772118000-1772125200@projectnewvillage.org
SUMMARY:Volunteer Hours @ Mt. Hope Community Garden
DESCRIPTION:Weekly volunteer hours at our Rooted Resources garden spaces. Open to all in the community – no equipment or experience needed.
URL:https://projectnewvillage.org/event/volunteer-hours-mt-hope-community-garden-2/2026-02-26/
LOCATION:Mt. Hope Community Garden\, 4269 Market St.\, San Diego\, CA\, 92102\, United States
CATEGORIES:Volunteer Hours
ATTACH;FMTTYPE=image/png:https://projectnewvillage.org/wp-content/uploads/2026/01/MT-HOPE-weekly-volunteer-hours.png
END:VEVENT
BEGIN:VEVENT
DTSTART;TZID=America/Los_Angeles:20260227T090000
DTEND;TZID=America/Los_Angeles:20260227T120000
DTSTAMP:20260425T073112
CREATED:20260105T165732Z
LAST-MODIFIED:20260105T165732Z
UID:10002942-1772182800-1772193600@projectnewvillage.org
SUMMARY:Volunteer Hours @ Morse High School
DESCRIPTION:Weekly volunteer hours at our Rooted Resources garden spaces. Open to all in the community – no equipment or experience needed.
URL:https://projectnewvillage.org/event/volunteer-hours-morse-high-school-2/2026-02-27/
LOCATION:Morse High School\, 6905 Skyline Drive\, San Diego\, CA\, 92114\, United States
CATEGORIES:Volunteer Hours
ATTACH;FMTTYPE=image/png:https://projectnewvillage.org/wp-content/uploads/2026/01/MORSE-weekly-volunteer-hours.png
END:VEVENT
BEGIN:VEVENT
DTSTART;TZID=America/Los_Angeles:20260304T100000
DTEND;TZID=America/Los_Angeles:20260304T120000
DTSTAMP:20260425T073112
CREATED:20260105T165854Z
LAST-MODIFIED:20260105T165854Z
UID:10003204-1772618400-1772625600@projectnewvillage.org
SUMMARY:Volunteer Hours @ Mt. Hope Community Garden
DESCRIPTION:Weekly volunteer hours at our Rooted Resources garden spaces. Open to all in the community – no equipment or experience needed.
URL:https://projectnewvillage.org/event/volunteer-hours-mt-hope-community-garden/2026-03-04/
LOCATION:Mt. Hope Community Garden\, 4269 Market St.\, San Diego\, CA\, 92102\, United States
CATEGORIES:Volunteer Hours
ATTACH;FMTTYPE=image/png:https://projectnewvillage.org/wp-content/uploads/2026/01/MT-HOPE-weekly-volunteer-hours.png
END:VEVENT
BEGIN:VEVENT
DTSTART;TZID=America/Los_Angeles:20260304T150000
DTEND;TZID=America/Los_Angeles:20260304T170000
DTSTAMP:20260425T073112
CREATED:20260105T165612Z
LAST-MODIFIED:20260105T165612Z
UID:10002682-1772636400-1772643600@projectnewvillage.org
SUMMARY:Volunteer Hours @ Morse High School
DESCRIPTION:Weekly volunteer hours at our Rooted Resources garden spaces. Open to all in the community – no equipment or experience needed.
URL:https://projectnewvillage.org/event/volunteer-hours-morse-high-school/2026-03-04/
LOCATION:Morse High School\, 6905 Skyline Drive\, San Diego\, CA\, 92114\, United States
CATEGORIES:Volunteer Hours
ATTACH;FMTTYPE=image/png:https://projectnewvillage.org/wp-content/uploads/2026/01/MORSE-weekly-volunteer-hours.png
END:VEVENT
BEGIN:VEVENT
DTSTART;TZID=America/Los_Angeles:20260305T100000
DTEND;TZID=America/Los_Angeles:20260305T140000
DTSTAMP:20260425T073112
CREATED:20260105T165356Z
LAST-MODIFIED:20260105T165447Z
UID:10002421-1772704800-1772719200@projectnewvillage.org
SUMMARY:Volunteer Hours @ Uvas Wellness Garden
DESCRIPTION:Weekly volunteer hours at our Rooted Resources garden spaces. Open to all in the community – no equipment or experience needed.
URL:https://projectnewvillage.org/event/volunteer-hours-uvas-wellness-garden/2026-03-05/
LOCATION:Uvas Wellness Garden\, 4835 Market St.\, San Diego\, CA\, 92102\, United States
CATEGORIES:Volunteer Hours
ATTACH;FMTTYPE=image/png:https://projectnewvillage.org/wp-content/uploads/2026/01/UVAS-weekly-volunteer-hours.png
END:VEVENT
BEGIN:VEVENT
DTSTART;TZID=America/Los_Angeles:20260305T150000
DTEND;TZID=America/Los_Angeles:20260305T170000
DTSTAMP:20260425T073112
CREATED:20260105T170023Z
LAST-MODIFIED:20260105T170023Z
UID:10003465-1772722800-1772730000@projectnewvillage.org
SUMMARY:Volunteer Hours @ Mt. Hope Community Garden
DESCRIPTION:Weekly volunteer hours at our Rooted Resources garden spaces. Open to all in the community – no equipment or experience needed.
URL:https://projectnewvillage.org/event/volunteer-hours-mt-hope-community-garden-2/2026-03-05/
LOCATION:Mt. Hope Community Garden\, 4269 Market St.\, San Diego\, CA\, 92102\, United States
CATEGORIES:Volunteer Hours
ATTACH;FMTTYPE=image/png:https://projectnewvillage.org/wp-content/uploads/2026/01/MT-HOPE-weekly-volunteer-hours.png
END:VEVENT
BEGIN:VEVENT
DTSTART;TZID=America/Los_Angeles:20260306T090000
DTEND;TZID=America/Los_Angeles:20260306T120000
DTSTAMP:20260425T073112
CREATED:20260105T165732Z
LAST-MODIFIED:20260105T165732Z
UID:10002943-1772787600-1772798400@projectnewvillage.org
SUMMARY:Volunteer Hours @ Morse High School
DESCRIPTION:Weekly volunteer hours at our Rooted Resources garden spaces. Open to all in the community – no equipment or experience needed.
URL:https://projectnewvillage.org/event/volunteer-hours-morse-high-school-2/2026-03-06/
LOCATION:Morse High School\, 6905 Skyline Drive\, San Diego\, CA\, 92114\, United States
CATEGORIES:Volunteer Hours
ATTACH;FMTTYPE=image/png:https://projectnewvillage.org/wp-content/uploads/2026/01/MORSE-weekly-volunteer-hours.png
END:VEVENT
BEGIN:VEVENT
DTSTART;TZID=America/Los_Angeles:20260311T100000
DTEND;TZID=America/Los_Angeles:20260311T120000
DTSTAMP:20260425T073112
CREATED:20260105T165854Z
LAST-MODIFIED:20260105T165854Z
UID:10003205-1773223200-1773230400@projectnewvillage.org
SUMMARY:Volunteer Hours @ Mt. Hope Community Garden
DESCRIPTION:Weekly volunteer hours at our Rooted Resources garden spaces. Open to all in the community – no equipment or experience needed.
URL:https://projectnewvillage.org/event/volunteer-hours-mt-hope-community-garden/2026-03-11/
LOCATION:Mt. Hope Community Garden\, 4269 Market St.\, San Diego\, CA\, 92102\, United States
CATEGORIES:Volunteer Hours
ATTACH;FMTTYPE=image/png:https://projectnewvillage.org/wp-content/uploads/2026/01/MT-HOPE-weekly-volunteer-hours.png
END:VEVENT
BEGIN:VEVENT
DTSTART;TZID=America/Los_Angeles:20260311T150000
DTEND;TZID=America/Los_Angeles:20260311T170000
DTSTAMP:20260425T073112
CREATED:20260105T165612Z
LAST-MODIFIED:20260105T165612Z
UID:10002683-1773241200-1773248400@projectnewvillage.org
SUMMARY:Volunteer Hours @ Morse High School
DESCRIPTION:Weekly volunteer hours at our Rooted Resources garden spaces. Open to all in the community – no equipment or experience needed.
URL:https://projectnewvillage.org/event/volunteer-hours-morse-high-school/2026-03-11/
LOCATION:Morse High School\, 6905 Skyline Drive\, San Diego\, CA\, 92114\, United States
CATEGORIES:Volunteer Hours
ATTACH;FMTTYPE=image/png:https://projectnewvillage.org/wp-content/uploads/2026/01/MORSE-weekly-volunteer-hours.png
END:VEVENT
BEGIN:VEVENT
DTSTART;TZID=America/Los_Angeles:20260312T100000
DTEND;TZID=America/Los_Angeles:20260312T140000
DTSTAMP:20260425T073112
CREATED:20260105T165356Z
LAST-MODIFIED:20260105T165447Z
UID:10002422-1773309600-1773324000@projectnewvillage.org
SUMMARY:Volunteer Hours @ Uvas Wellness Garden
DESCRIPTION:Weekly volunteer hours at our Rooted Resources garden spaces. Open to all in the community – no equipment or experience needed.
URL:https://projectnewvillage.org/event/volunteer-hours-uvas-wellness-garden/2026-03-12/
LOCATION:Uvas Wellness Garden\, 4835 Market St.\, San Diego\, CA\, 92102\, United States
CATEGORIES:Volunteer Hours
ATTACH;FMTTYPE=image/png:https://projectnewvillage.org/wp-content/uploads/2026/01/UVAS-weekly-volunteer-hours.png
END:VEVENT
BEGIN:VEVENT
DTSTART;TZID=America/Los_Angeles:20260312T150000
DTEND;TZID=America/Los_Angeles:20260312T170000
DTSTAMP:20260425T073112
CREATED:20260105T170023Z
LAST-MODIFIED:20260105T170023Z
UID:10003466-1773327600-1773334800@projectnewvillage.org
SUMMARY:Volunteer Hours @ Mt. Hope Community Garden
DESCRIPTION:Weekly volunteer hours at our Rooted Resources garden spaces. Open to all in the community – no equipment or experience needed.
URL:https://projectnewvillage.org/event/volunteer-hours-mt-hope-community-garden-2/2026-03-12/
LOCATION:Mt. Hope Community Garden\, 4269 Market St.\, San Diego\, CA\, 92102\, United States
CATEGORIES:Volunteer Hours
ATTACH;FMTTYPE=image/png:https://projectnewvillage.org/wp-content/uploads/2026/01/MT-HOPE-weekly-volunteer-hours.png
END:VEVENT
BEGIN:VEVENT
DTSTART;TZID=America/Los_Angeles:20260313T090000
DTEND;TZID=America/Los_Angeles:20260313T120000
DTSTAMP:20260425T073112
CREATED:20260105T165732Z
LAST-MODIFIED:20260105T165732Z
UID:10002944-1773392400-1773403200@projectnewvillage.org
SUMMARY:Volunteer Hours @ Morse High School
DESCRIPTION:Weekly volunteer hours at our Rooted Resources garden spaces. Open to all in the community – no equipment or experience needed.
URL:https://projectnewvillage.org/event/volunteer-hours-morse-high-school-2/2026-03-13/
LOCATION:Morse High School\, 6905 Skyline Drive\, San Diego\, CA\, 92114\, United States
CATEGORIES:Volunteer Hours
ATTACH;FMTTYPE=image/png:https://projectnewvillage.org/wp-content/uploads/2026/01/MORSE-weekly-volunteer-hours.png
END:VEVENT
BEGIN:VEVENT
DTSTART;TZID=America/Los_Angeles:20260318T100000
DTEND;TZID=America/Los_Angeles:20260318T120000
DTSTAMP:20260425T073112
CREATED:20260105T165854Z
LAST-MODIFIED:20260105T165854Z
UID:10003206-1773828000-1773835200@projectnewvillage.org
SUMMARY:Volunteer Hours @ Mt. Hope Community Garden
DESCRIPTION:Weekly volunteer hours at our Rooted Resources garden spaces. Open to all in the community – no equipment or experience needed.
URL:https://projectnewvillage.org/event/volunteer-hours-mt-hope-community-garden/2026-03-18/
LOCATION:Mt. Hope Community Garden\, 4269 Market St.\, San Diego\, CA\, 92102\, United States
CATEGORIES:Volunteer Hours
ATTACH;FMTTYPE=image/png:https://projectnewvillage.org/wp-content/uploads/2026/01/MT-HOPE-weekly-volunteer-hours.png
END:VEVENT
BEGIN:VEVENT
DTSTART;TZID=America/Los_Angeles:20260318T150000
DTEND;TZID=America/Los_Angeles:20260318T170000
DTSTAMP:20260425T073112
CREATED:20260105T165612Z
LAST-MODIFIED:20260105T165612Z
UID:10002684-1773846000-1773853200@projectnewvillage.org
SUMMARY:Volunteer Hours @ Morse High School
DESCRIPTION:Weekly volunteer hours at our Rooted Resources garden spaces. Open to all in the community – no equipment or experience needed.
URL:https://projectnewvillage.org/event/volunteer-hours-morse-high-school/2026-03-18/
LOCATION:Morse High School\, 6905 Skyline Drive\, San Diego\, CA\, 92114\, United States
CATEGORIES:Volunteer Hours
ATTACH;FMTTYPE=image/png:https://projectnewvillage.org/wp-content/uploads/2026/01/MORSE-weekly-volunteer-hours.png
END:VEVENT
BEGIN:VEVENT
DTSTART;TZID=America/Los_Angeles:20260319T100000
DTEND;TZID=America/Los_Angeles:20260319T140000
DTSTAMP:20260425T073112
CREATED:20260105T165356Z
LAST-MODIFIED:20260105T165447Z
UID:10002423-1773914400-1773928800@projectnewvillage.org
SUMMARY:Volunteer Hours @ Uvas Wellness Garden
DESCRIPTION:Weekly volunteer hours at our Rooted Resources garden spaces. Open to all in the community – no equipment or experience needed.
URL:https://projectnewvillage.org/event/volunteer-hours-uvas-wellness-garden/2026-03-19/
LOCATION:Uvas Wellness Garden\, 4835 Market St.\, San Diego\, CA\, 92102\, United States
CATEGORIES:Volunteer Hours
ATTACH;FMTTYPE=image/png:https://projectnewvillage.org/wp-content/uploads/2026/01/UVAS-weekly-volunteer-hours.png
END:VEVENT
BEGIN:VEVENT
DTSTART;TZID=America/Los_Angeles:20260319T150000
DTEND;TZID=America/Los_Angeles:20260319T170000
DTSTAMP:20260425T073112
CREATED:20260105T170023Z
LAST-MODIFIED:20260105T170023Z
UID:10003467-1773932400-1773939600@projectnewvillage.org
SUMMARY:Volunteer Hours @ Mt. Hope Community Garden
DESCRIPTION:Weekly volunteer hours at our Rooted Resources garden spaces. Open to all in the community – no equipment or experience needed.
URL:https://projectnewvillage.org/event/volunteer-hours-mt-hope-community-garden-2/2026-03-19/
LOCATION:Mt. Hope Community Garden\, 4269 Market St.\, San Diego\, CA\, 92102\, United States
CATEGORIES:Volunteer Hours
ATTACH;FMTTYPE=image/png:https://projectnewvillage.org/wp-content/uploads/2026/01/MT-HOPE-weekly-volunteer-hours.png
END:VEVENT
BEGIN:VEVENT
DTSTART;TZID=America/Los_Angeles:20260320T090000
DTEND;TZID=America/Los_Angeles:20260320T120000
DTSTAMP:20260425T073112
CREATED:20260105T165732Z
LAST-MODIFIED:20260105T165732Z
UID:10002945-1773997200-1774008000@projectnewvillage.org
SUMMARY:Volunteer Hours @ Morse High School
DESCRIPTION:Weekly volunteer hours at our Rooted Resources garden spaces. Open to all in the community – no equipment or experience needed.
URL:https://projectnewvillage.org/event/volunteer-hours-morse-high-school-2/2026-03-20/
LOCATION:Morse High School\, 6905 Skyline Drive\, San Diego\, CA\, 92114\, United States
CATEGORIES:Volunteer Hours
ATTACH;FMTTYPE=image/png:https://projectnewvillage.org/wp-content/uploads/2026/01/MORSE-weekly-volunteer-hours.png
END:VEVENT
BEGIN:VEVENT
DTSTART;TZID=America/Los_Angeles:20260325T100000
DTEND;TZID=America/Los_Angeles:20260325T120000
DTSTAMP:20260425T073112
CREATED:20260105T165854Z
LAST-MODIFIED:20260105T165854Z
UID:10003207-1774432800-1774440000@projectnewvillage.org
SUMMARY:Volunteer Hours @ Mt. Hope Community Garden
DESCRIPTION:Weekly volunteer hours at our Rooted Resources garden spaces. Open to all in the community – no equipment or experience needed.
URL:https://projectnewvillage.org/event/volunteer-hours-mt-hope-community-garden/2026-03-25/
LOCATION:Mt. Hope Community Garden\, 4269 Market St.\, San Diego\, CA\, 92102\, United States
CATEGORIES:Volunteer Hours
ATTACH;FMTTYPE=image/png:https://projectnewvillage.org/wp-content/uploads/2026/01/MT-HOPE-weekly-volunteer-hours.png
END:VEVENT
BEGIN:VEVENT
DTSTART;TZID=America/Los_Angeles:20260325T150000
DTEND;TZID=America/Los_Angeles:20260325T170000
DTSTAMP:20260425T073112
CREATED:20260105T165612Z
LAST-MODIFIED:20260105T165612Z
UID:10002685-1774450800-1774458000@projectnewvillage.org
SUMMARY:Volunteer Hours @ Morse High School
DESCRIPTION:Weekly volunteer hours at our Rooted Resources garden spaces. Open to all in the community – no equipment or experience needed.
URL:https://projectnewvillage.org/event/volunteer-hours-morse-high-school/2026-03-25/
LOCATION:Morse High School\, 6905 Skyline Drive\, San Diego\, CA\, 92114\, United States
CATEGORIES:Volunteer Hours
ATTACH;FMTTYPE=image/png:https://projectnewvillage.org/wp-content/uploads/2026/01/MORSE-weekly-volunteer-hours.png
END:VEVENT
BEGIN:VEVENT
DTSTART;TZID=America/Los_Angeles:20260326T100000
DTEND;TZID=America/Los_Angeles:20260326T140000
DTSTAMP:20260425T073112
CREATED:20260105T165356Z
LAST-MODIFIED:20260105T165447Z
UID:10002424-1774519200-1774533600@projectnewvillage.org
SUMMARY:Volunteer Hours @ Uvas Wellness Garden
DESCRIPTION:Weekly volunteer hours at our Rooted Resources garden spaces. Open to all in the community – no equipment or experience needed.
URL:https://projectnewvillage.org/event/volunteer-hours-uvas-wellness-garden/2026-03-26/
LOCATION:Uvas Wellness Garden\, 4835 Market St.\, San Diego\, CA\, 92102\, United States
CATEGORIES:Volunteer Hours
ATTACH;FMTTYPE=image/png:https://projectnewvillage.org/wp-content/uploads/2026/01/UVAS-weekly-volunteer-hours.png
END:VEVENT
BEGIN:VEVENT
DTSTART;TZID=America/Los_Angeles:20260326T150000
DTEND;TZID=America/Los_Angeles:20260326T170000
DTSTAMP:20260425T073112
CREATED:20260105T170023Z
LAST-MODIFIED:20260105T170023Z
UID:10003468-1774537200-1774544400@projectnewvillage.org
SUMMARY:Volunteer Hours @ Mt. Hope Community Garden
DESCRIPTION:Weekly volunteer hours at our Rooted Resources garden spaces. Open to all in the community – no equipment or experience needed.
URL:https://projectnewvillage.org/event/volunteer-hours-mt-hope-community-garden-2/2026-03-26/
LOCATION:Mt. Hope Community Garden\, 4269 Market St.\, San Diego\, CA\, 92102\, United States
CATEGORIES:Volunteer Hours
ATTACH;FMTTYPE=image/png:https://projectnewvillage.org/wp-content/uploads/2026/01/MT-HOPE-weekly-volunteer-hours.png
END:VEVENT
BEGIN:VEVENT
DTSTART;TZID=America/Los_Angeles:20260327T090000
DTEND;TZID=America/Los_Angeles:20260327T120000
DTSTAMP:20260425T073112
CREATED:20260105T165732Z
LAST-MODIFIED:20260105T165732Z
UID:10002946-1774602000-1774612800@projectnewvillage.org
SUMMARY:Volunteer Hours @ Morse High School
DESCRIPTION:Weekly volunteer hours at our Rooted Resources garden spaces. Open to all in the community – no equipment or experience needed.
URL:https://projectnewvillage.org/event/volunteer-hours-morse-high-school-2/2026-03-27/
LOCATION:Morse High School\, 6905 Skyline Drive\, San Diego\, CA\, 92114\, United States
CATEGORIES:Volunteer Hours
ATTACH;FMTTYPE=image/png:https://projectnewvillage.org/wp-content/uploads/2026/01/MORSE-weekly-volunteer-hours.png
END:VEVENT
BEGIN:VEVENT
DTSTART;TZID=America/Los_Angeles:20260401T100000
DTEND;TZID=America/Los_Angeles:20260401T120000
DTSTAMP:20260425T073112
CREATED:20260105T165854Z
LAST-MODIFIED:20260105T165854Z
UID:10003208-1775037600-1775044800@projectnewvillage.org
SUMMARY:Volunteer Hours @ Mt. Hope Community Garden
DESCRIPTION:Weekly volunteer hours at our Rooted Resources garden spaces. Open to all in the community – no equipment or experience needed.
URL:https://projectnewvillage.org/event/volunteer-hours-mt-hope-community-garden/2026-04-01/
LOCATION:Mt. Hope Community Garden\, 4269 Market St.\, San Diego\, CA\, 92102\, United States
CATEGORIES:Volunteer Hours
ATTACH;FMTTYPE=image/png:https://projectnewvillage.org/wp-content/uploads/2026/01/MT-HOPE-weekly-volunteer-hours.png
END:VEVENT
BEGIN:VEVENT
DTSTART;TZID=America/Los_Angeles:20260401T150000
DTEND;TZID=America/Los_Angeles:20260401T170000
DTSTAMP:20260425T073112
CREATED:20260105T165612Z
LAST-MODIFIED:20260105T165612Z
UID:10002686-1775055600-1775062800@projectnewvillage.org
SUMMARY:Volunteer Hours @ Morse High School
DESCRIPTION:Weekly volunteer hours at our Rooted Resources garden spaces. Open to all in the community – no equipment or experience needed.
URL:https://projectnewvillage.org/event/volunteer-hours-morse-high-school/2026-04-01/
LOCATION:Morse High School\, 6905 Skyline Drive\, San Diego\, CA\, 92114\, United States
CATEGORIES:Volunteer Hours
ATTACH;FMTTYPE=image/png:https://projectnewvillage.org/wp-content/uploads/2026/01/MORSE-weekly-volunteer-hours.png
END:VEVENT
BEGIN:VEVENT
DTSTART;TZID=America/Los_Angeles:20260402T100000
DTEND;TZID=America/Los_Angeles:20260402T140000
DTSTAMP:20260425T073112
CREATED:20260105T165356Z
LAST-MODIFIED:20260105T165447Z
UID:10002425-1775124000-1775138400@projectnewvillage.org
SUMMARY:Volunteer Hours @ Uvas Wellness Garden
DESCRIPTION:Weekly volunteer hours at our Rooted Resources garden spaces. Open to all in the community – no equipment or experience needed.
URL:https://projectnewvillage.org/event/volunteer-hours-uvas-wellness-garden/2026-04-02/
LOCATION:Uvas Wellness Garden\, 4835 Market St.\, San Diego\, CA\, 92102\, United States
CATEGORIES:Volunteer Hours
ATTACH;FMTTYPE=image/png:https://projectnewvillage.org/wp-content/uploads/2026/01/UVAS-weekly-volunteer-hours.png
END:VEVENT
BEGIN:VEVENT
DTSTART;TZID=America/Los_Angeles:20260402T150000
DTEND;TZID=America/Los_Angeles:20260402T170000
DTSTAMP:20260425T073112
CREATED:20260105T170023Z
LAST-MODIFIED:20260105T170023Z
UID:10003469-1775142000-1775149200@projectnewvillage.org
SUMMARY:Volunteer Hours @ Mt. Hope Community Garden
DESCRIPTION:Weekly volunteer hours at our Rooted Resources garden spaces. Open to all in the community – no equipment or experience needed.
URL:https://projectnewvillage.org/event/volunteer-hours-mt-hope-community-garden-2/2026-04-02/
LOCATION:Mt. Hope Community Garden\, 4269 Market St.\, San Diego\, CA\, 92102\, United States
CATEGORIES:Volunteer Hours
ATTACH;FMTTYPE=image/png:https://projectnewvillage.org/wp-content/uploads/2026/01/MT-HOPE-weekly-volunteer-hours.png
END:VEVENT
BEGIN:VEVENT
DTSTART;TZID=America/Los_Angeles:20260403T090000
DTEND;TZID=America/Los_Angeles:20260403T120000
DTSTAMP:20260425T073112
CREATED:20260105T165732Z
LAST-MODIFIED:20260105T165732Z
UID:10002947-1775206800-1775217600@projectnewvillage.org
SUMMARY:Volunteer Hours @ Morse High School
DESCRIPTION:Weekly volunteer hours at our Rooted Resources garden spaces. Open to all in the community – no equipment or experience needed.
URL:https://projectnewvillage.org/event/volunteer-hours-morse-high-school-2/2026-04-03/
LOCATION:Morse High School\, 6905 Skyline Drive\, San Diego\, CA\, 92114\, United States
CATEGORIES:Volunteer Hours
ATTACH;FMTTYPE=image/png:https://projectnewvillage.org/wp-content/uploads/2026/01/MORSE-weekly-volunteer-hours.png
END:VEVENT
BEGIN:VEVENT
DTSTART;TZID=America/Los_Angeles:20260408T100000
DTEND;TZID=America/Los_Angeles:20260408T120000
DTSTAMP:20260425T073112
CREATED:20260105T165854Z
LAST-MODIFIED:20260105T165854Z
UID:10003209-1775642400-1775649600@projectnewvillage.org
SUMMARY:Volunteer Hours @ Mt. Hope Community Garden
DESCRIPTION:Weekly volunteer hours at our Rooted Resources garden spaces. Open to all in the community – no equipment or experience needed.
URL:https://projectnewvillage.org/event/volunteer-hours-mt-hope-community-garden/2026-04-08/
LOCATION:Mt. Hope Community Garden\, 4269 Market St.\, San Diego\, CA\, 92102\, United States
CATEGORIES:Volunteer Hours
ATTACH;FMTTYPE=image/png:https://projectnewvillage.org/wp-content/uploads/2026/01/MT-HOPE-weekly-volunteer-hours.png
END:VEVENT
END:VCALENDAR