BEGIN:VCALENDAR
VERSION:2.0
PRODID:-//Project New Village - ECPv6.15.20//NONSGML v1.0//EN
CALSCALE:GREGORIAN
METHOD:PUBLISH
X-WR-CALNAME:Project New Village
X-ORIGINAL-URL:https://projectnewvillage.org
X-WR-CALDESC:Events for Project New Village
REFRESH-INTERVAL;VALUE=DURATION:PT1H
X-Robots-Tag:noindex
X-PUBLISHED-TTL:PT1H
BEGIN:VTIMEZONE
TZID:America/Los_Angeles
BEGIN:DAYLIGHT
TZOFFSETFROM:-0800
TZOFFSETTO:-0700
TZNAME:PDT
DTSTART:20260308T100000
END:DAYLIGHT
BEGIN:STANDARD
TZOFFSETFROM:-0700
TZOFFSETTO:-0800
TZNAME:PST
DTSTART:20261101T090000
END:STANDARD
BEGIN:DAYLIGHT
TZOFFSETFROM:-0800
TZOFFSETTO:-0700
TZNAME:PDT
DTSTART:20270314T100000
END:DAYLIGHT
BEGIN:STANDARD
TZOFFSETFROM:-0700
TZOFFSETTO:-0800
TZNAME:PST
DTSTART:20271107T090000
END:STANDARD
BEGIN:DAYLIGHT
TZOFFSETFROM:-0800
TZOFFSETTO:-0700
TZNAME:PDT
DTSTART:20280312T100000
END:DAYLIGHT
BEGIN:STANDARD
TZOFFSETFROM:-0700
TZOFFSETTO:-0800
TZNAME:PST
DTSTART:20281105T090000
END:STANDARD
END:VTIMEZONE
BEGIN:VEVENT
DTSTART;TZID=America/Los_Angeles:20270915T150000
DTEND;TZID=America/Los_Angeles:20270915T170000
DTSTAMP:20260425T151045
CREATED:20260105T165612Z
LAST-MODIFIED:20260105T165612Z
UID:10002762-1821020400-1821027600@projectnewvillage.org
SUMMARY:Volunteer Hours @ Morse High School
DESCRIPTION:Weekly volunteer hours at our Rooted Resources garden spaces. Open to all in the community – no equipment or experience needed.
URL:https://projectnewvillage.org/event/volunteer-hours-morse-high-school/2027-09-15/
LOCATION:Morse High School\, 6905 Skyline Drive\, San Diego\, CA\, 92114\, United States
CATEGORIES:Volunteer Hours
ATTACH;FMTTYPE=image/png:https://projectnewvillage.org/wp-content/uploads/2026/01/MORSE-weekly-volunteer-hours.png
END:VEVENT
BEGIN:VEVENT
DTSTART;TZID=America/Los_Angeles:20270916T100000
DTEND;TZID=America/Los_Angeles:20270916T140000
DTSTAMP:20260425T151045
CREATED:20260105T165356Z
LAST-MODIFIED:20260105T165447Z
UID:10002501-1821088800-1821103200@projectnewvillage.org
SUMMARY:Volunteer Hours @ Uvas Wellness Garden
DESCRIPTION:Weekly volunteer hours at our Rooted Resources garden spaces. Open to all in the community – no equipment or experience needed.
URL:https://projectnewvillage.org/event/volunteer-hours-uvas-wellness-garden/2027-09-16/
LOCATION:Uvas Wellness Garden\, 4835 Market St.\, San Diego\, CA\, 92102\, United States
CATEGORIES:Volunteer Hours
ATTACH;FMTTYPE=image/png:https://projectnewvillage.org/wp-content/uploads/2026/01/UVAS-weekly-volunteer-hours.png
END:VEVENT
BEGIN:VEVENT
DTSTART;TZID=America/Los_Angeles:20270916T150000
DTEND;TZID=America/Los_Angeles:20270916T170000
DTSTAMP:20260425T151045
CREATED:20260105T170023Z
LAST-MODIFIED:20260105T170023Z
UID:10003545-1821106800-1821114000@projectnewvillage.org
SUMMARY:Volunteer Hours @ Mt. Hope Community Garden
DESCRIPTION:Weekly volunteer hours at our Rooted Resources garden spaces. Open to all in the community – no equipment or experience needed.
URL:https://projectnewvillage.org/event/volunteer-hours-mt-hope-community-garden-2/2027-09-16/
LOCATION:Mt. Hope Community Garden\, 4269 Market St.\, San Diego\, CA\, 92102\, United States
CATEGORIES:Volunteer Hours
ATTACH;FMTTYPE=image/png:https://projectnewvillage.org/wp-content/uploads/2026/01/MT-HOPE-weekly-volunteer-hours.png
END:VEVENT
BEGIN:VEVENT
DTSTART;TZID=America/Los_Angeles:20270917T090000
DTEND;TZID=America/Los_Angeles:20270917T120000
DTSTAMP:20260425T151045
CREATED:20260105T165732Z
LAST-MODIFIED:20260105T165732Z
UID:10003023-1821171600-1821182400@projectnewvillage.org
SUMMARY:Volunteer Hours @ Morse High School
DESCRIPTION:Weekly volunteer hours at our Rooted Resources garden spaces. Open to all in the community – no equipment or experience needed.
URL:https://projectnewvillage.org/event/volunteer-hours-morse-high-school-2/2027-09-17/
LOCATION:Morse High School\, 6905 Skyline Drive\, San Diego\, CA\, 92114\, United States
CATEGORIES:Volunteer Hours
ATTACH;FMTTYPE=image/png:https://projectnewvillage.org/wp-content/uploads/2026/01/MORSE-weekly-volunteer-hours.png
END:VEVENT
BEGIN:VEVENT
DTSTART;TZID=America/Los_Angeles:20270922T100000
DTEND;TZID=America/Los_Angeles:20270922T120000
DTSTAMP:20260425T151045
CREATED:20260105T165854Z
LAST-MODIFIED:20260105T165854Z
UID:10003285-1821607200-1821614400@projectnewvillage.org
SUMMARY:Volunteer Hours @ Mt. Hope Community Garden
DESCRIPTION:Weekly volunteer hours at our Rooted Resources garden spaces. Open to all in the community – no equipment or experience needed.
URL:https://projectnewvillage.org/event/volunteer-hours-mt-hope-community-garden/2027-09-22/
LOCATION:Mt. Hope Community Garden\, 4269 Market St.\, San Diego\, CA\, 92102\, United States
CATEGORIES:Volunteer Hours
ATTACH;FMTTYPE=image/png:https://projectnewvillage.org/wp-content/uploads/2026/01/MT-HOPE-weekly-volunteer-hours.png
END:VEVENT
BEGIN:VEVENT
DTSTART;TZID=America/Los_Angeles:20270922T150000
DTEND;TZID=America/Los_Angeles:20270922T170000
DTSTAMP:20260425T151045
CREATED:20260105T165612Z
LAST-MODIFIED:20260105T165612Z
UID:10002763-1821625200-1821632400@projectnewvillage.org
SUMMARY:Volunteer Hours @ Morse High School
DESCRIPTION:Weekly volunteer hours at our Rooted Resources garden spaces. Open to all in the community – no equipment or experience needed.
URL:https://projectnewvillage.org/event/volunteer-hours-morse-high-school/2027-09-22/
LOCATION:Morse High School\, 6905 Skyline Drive\, San Diego\, CA\, 92114\, United States
CATEGORIES:Volunteer Hours
ATTACH;FMTTYPE=image/png:https://projectnewvillage.org/wp-content/uploads/2026/01/MORSE-weekly-volunteer-hours.png
END:VEVENT
BEGIN:VEVENT
DTSTART;TZID=America/Los_Angeles:20270923T100000
DTEND;TZID=America/Los_Angeles:20270923T140000
DTSTAMP:20260425T151045
CREATED:20260105T165356Z
LAST-MODIFIED:20260105T165447Z
UID:10002502-1821693600-1821708000@projectnewvillage.org
SUMMARY:Volunteer Hours @ Uvas Wellness Garden
DESCRIPTION:Weekly volunteer hours at our Rooted Resources garden spaces. Open to all in the community – no equipment or experience needed.
URL:https://projectnewvillage.org/event/volunteer-hours-uvas-wellness-garden/2027-09-23/
LOCATION:Uvas Wellness Garden\, 4835 Market St.\, San Diego\, CA\, 92102\, United States
CATEGORIES:Volunteer Hours
ATTACH;FMTTYPE=image/png:https://projectnewvillage.org/wp-content/uploads/2026/01/UVAS-weekly-volunteer-hours.png
END:VEVENT
BEGIN:VEVENT
DTSTART;TZID=America/Los_Angeles:20270923T150000
DTEND;TZID=America/Los_Angeles:20270923T170000
DTSTAMP:20260425T151045
CREATED:20260105T170023Z
LAST-MODIFIED:20260105T170023Z
UID:10003546-1821711600-1821718800@projectnewvillage.org
SUMMARY:Volunteer Hours @ Mt. Hope Community Garden
DESCRIPTION:Weekly volunteer hours at our Rooted Resources garden spaces. Open to all in the community – no equipment or experience needed.
URL:https://projectnewvillage.org/event/volunteer-hours-mt-hope-community-garden-2/2027-09-23/
LOCATION:Mt. Hope Community Garden\, 4269 Market St.\, San Diego\, CA\, 92102\, United States
CATEGORIES:Volunteer Hours
ATTACH;FMTTYPE=image/png:https://projectnewvillage.org/wp-content/uploads/2026/01/MT-HOPE-weekly-volunteer-hours.png
END:VEVENT
BEGIN:VEVENT
DTSTART;TZID=America/Los_Angeles:20270924T090000
DTEND;TZID=America/Los_Angeles:20270924T120000
DTSTAMP:20260425T151045
CREATED:20260105T165732Z
LAST-MODIFIED:20260105T165732Z
UID:10003024-1821776400-1821787200@projectnewvillage.org
SUMMARY:Volunteer Hours @ Morse High School
DESCRIPTION:Weekly volunteer hours at our Rooted Resources garden spaces. Open to all in the community – no equipment or experience needed.
URL:https://projectnewvillage.org/event/volunteer-hours-morse-high-school-2/2027-09-24/
LOCATION:Morse High School\, 6905 Skyline Drive\, San Diego\, CA\, 92114\, United States
CATEGORIES:Volunteer Hours
ATTACH;FMTTYPE=image/png:https://projectnewvillage.org/wp-content/uploads/2026/01/MORSE-weekly-volunteer-hours.png
END:VEVENT
BEGIN:VEVENT
DTSTART;TZID=America/Los_Angeles:20270929T100000
DTEND;TZID=America/Los_Angeles:20270929T120000
DTSTAMP:20260425T151045
CREATED:20260105T165854Z
LAST-MODIFIED:20260105T165854Z
UID:10003286-1822212000-1822219200@projectnewvillage.org
SUMMARY:Volunteer Hours @ Mt. Hope Community Garden
DESCRIPTION:Weekly volunteer hours at our Rooted Resources garden spaces. Open to all in the community – no equipment or experience needed.
URL:https://projectnewvillage.org/event/volunteer-hours-mt-hope-community-garden/2027-09-29/
LOCATION:Mt. Hope Community Garden\, 4269 Market St.\, San Diego\, CA\, 92102\, United States
CATEGORIES:Volunteer Hours
ATTACH;FMTTYPE=image/png:https://projectnewvillage.org/wp-content/uploads/2026/01/MT-HOPE-weekly-volunteer-hours.png
END:VEVENT
BEGIN:VEVENT
DTSTART;TZID=America/Los_Angeles:20270929T150000
DTEND;TZID=America/Los_Angeles:20270929T170000
DTSTAMP:20260425T151045
CREATED:20260105T165612Z
LAST-MODIFIED:20260105T165612Z
UID:10002764-1822230000-1822237200@projectnewvillage.org
SUMMARY:Volunteer Hours @ Morse High School
DESCRIPTION:Weekly volunteer hours at our Rooted Resources garden spaces. Open to all in the community – no equipment or experience needed.
URL:https://projectnewvillage.org/event/volunteer-hours-morse-high-school/2027-09-29/
LOCATION:Morse High School\, 6905 Skyline Drive\, San Diego\, CA\, 92114\, United States
CATEGORIES:Volunteer Hours
ATTACH;FMTTYPE=image/png:https://projectnewvillage.org/wp-content/uploads/2026/01/MORSE-weekly-volunteer-hours.png
END:VEVENT
BEGIN:VEVENT
DTSTART;TZID=America/Los_Angeles:20270930T100000
DTEND;TZID=America/Los_Angeles:20270930T140000
DTSTAMP:20260425T151045
CREATED:20260105T165356Z
LAST-MODIFIED:20260105T165447Z
UID:10002503-1822298400-1822312800@projectnewvillage.org
SUMMARY:Volunteer Hours @ Uvas Wellness Garden
DESCRIPTION:Weekly volunteer hours at our Rooted Resources garden spaces. Open to all in the community – no equipment or experience needed.
URL:https://projectnewvillage.org/event/volunteer-hours-uvas-wellness-garden/2027-09-30/
LOCATION:Uvas Wellness Garden\, 4835 Market St.\, San Diego\, CA\, 92102\, United States
CATEGORIES:Volunteer Hours
ATTACH;FMTTYPE=image/png:https://projectnewvillage.org/wp-content/uploads/2026/01/UVAS-weekly-volunteer-hours.png
END:VEVENT
BEGIN:VEVENT
DTSTART;TZID=America/Los_Angeles:20270930T150000
DTEND;TZID=America/Los_Angeles:20270930T170000
DTSTAMP:20260425T151045
CREATED:20260105T170023Z
LAST-MODIFIED:20260105T170023Z
UID:10003547-1822316400-1822323600@projectnewvillage.org
SUMMARY:Volunteer Hours @ Mt. Hope Community Garden
DESCRIPTION:Weekly volunteer hours at our Rooted Resources garden spaces. Open to all in the community – no equipment or experience needed.
URL:https://projectnewvillage.org/event/volunteer-hours-mt-hope-community-garden-2/2027-09-30/
LOCATION:Mt. Hope Community Garden\, 4269 Market St.\, San Diego\, CA\, 92102\, United States
CATEGORIES:Volunteer Hours
ATTACH;FMTTYPE=image/png:https://projectnewvillage.org/wp-content/uploads/2026/01/MT-HOPE-weekly-volunteer-hours.png
END:VEVENT
BEGIN:VEVENT
DTSTART;TZID=America/Los_Angeles:20271001T090000
DTEND;TZID=America/Los_Angeles:20271001T120000
DTSTAMP:20260425T151045
CREATED:20260105T165732Z
LAST-MODIFIED:20260105T165732Z
UID:10003025-1822381200-1822392000@projectnewvillage.org
SUMMARY:Volunteer Hours @ Morse High School
DESCRIPTION:Weekly volunteer hours at our Rooted Resources garden spaces. Open to all in the community – no equipment or experience needed.
URL:https://projectnewvillage.org/event/volunteer-hours-morse-high-school-2/2027-10-01/
LOCATION:Morse High School\, 6905 Skyline Drive\, San Diego\, CA\, 92114\, United States
CATEGORIES:Volunteer Hours
ATTACH;FMTTYPE=image/png:https://projectnewvillage.org/wp-content/uploads/2026/01/MORSE-weekly-volunteer-hours.png
END:VEVENT
BEGIN:VEVENT
DTSTART;TZID=America/Los_Angeles:20271006T100000
DTEND;TZID=America/Los_Angeles:20271006T120000
DTSTAMP:20260425T151045
CREATED:20260105T165854Z
LAST-MODIFIED:20260105T165854Z
UID:10003287-1822816800-1822824000@projectnewvillage.org
SUMMARY:Volunteer Hours @ Mt. Hope Community Garden
DESCRIPTION:Weekly volunteer hours at our Rooted Resources garden spaces. Open to all in the community – no equipment or experience needed.
URL:https://projectnewvillage.org/event/volunteer-hours-mt-hope-community-garden/2027-10-06/
LOCATION:Mt. Hope Community Garden\, 4269 Market St.\, San Diego\, CA\, 92102\, United States
CATEGORIES:Volunteer Hours
ATTACH;FMTTYPE=image/png:https://projectnewvillage.org/wp-content/uploads/2026/01/MT-HOPE-weekly-volunteer-hours.png
END:VEVENT
BEGIN:VEVENT
DTSTART;TZID=America/Los_Angeles:20271006T150000
DTEND;TZID=America/Los_Angeles:20271006T170000
DTSTAMP:20260425T151045
CREATED:20260105T165612Z
LAST-MODIFIED:20260105T165612Z
UID:10002765-1822834800-1822842000@projectnewvillage.org
SUMMARY:Volunteer Hours @ Morse High School
DESCRIPTION:Weekly volunteer hours at our Rooted Resources garden spaces. Open to all in the community – no equipment or experience needed.
URL:https://projectnewvillage.org/event/volunteer-hours-morse-high-school/2027-10-06/
LOCATION:Morse High School\, 6905 Skyline Drive\, San Diego\, CA\, 92114\, United States
CATEGORIES:Volunteer Hours
ATTACH;FMTTYPE=image/png:https://projectnewvillage.org/wp-content/uploads/2026/01/MORSE-weekly-volunteer-hours.png
END:VEVENT
BEGIN:VEVENT
DTSTART;TZID=America/Los_Angeles:20271007T100000
DTEND;TZID=America/Los_Angeles:20271007T140000
DTSTAMP:20260425T151045
CREATED:20260105T165356Z
LAST-MODIFIED:20260105T165447Z
UID:10002504-1822903200-1822917600@projectnewvillage.org
SUMMARY:Volunteer Hours @ Uvas Wellness Garden
DESCRIPTION:Weekly volunteer hours at our Rooted Resources garden spaces. Open to all in the community – no equipment or experience needed.
URL:https://projectnewvillage.org/event/volunteer-hours-uvas-wellness-garden/2027-10-07/
LOCATION:Uvas Wellness Garden\, 4835 Market St.\, San Diego\, CA\, 92102\, United States
CATEGORIES:Volunteer Hours
ATTACH;FMTTYPE=image/png:https://projectnewvillage.org/wp-content/uploads/2026/01/UVAS-weekly-volunteer-hours.png
END:VEVENT
BEGIN:VEVENT
DTSTART;TZID=America/Los_Angeles:20271007T150000
DTEND;TZID=America/Los_Angeles:20271007T170000
DTSTAMP:20260425T151045
CREATED:20260105T170023Z
LAST-MODIFIED:20260105T170023Z
UID:10003548-1822921200-1822928400@projectnewvillage.org
SUMMARY:Volunteer Hours @ Mt. Hope Community Garden
DESCRIPTION:Weekly volunteer hours at our Rooted Resources garden spaces. Open to all in the community – no equipment or experience needed.
URL:https://projectnewvillage.org/event/volunteer-hours-mt-hope-community-garden-2/2027-10-07/
LOCATION:Mt. Hope Community Garden\, 4269 Market St.\, San Diego\, CA\, 92102\, United States
CATEGORIES:Volunteer Hours
ATTACH;FMTTYPE=image/png:https://projectnewvillage.org/wp-content/uploads/2026/01/MT-HOPE-weekly-volunteer-hours.png
END:VEVENT
BEGIN:VEVENT
DTSTART;TZID=America/Los_Angeles:20271008T090000
DTEND;TZID=America/Los_Angeles:20271008T120000
DTSTAMP:20260425T151045
CREATED:20260105T165732Z
LAST-MODIFIED:20260105T165732Z
UID:10003026-1822986000-1822996800@projectnewvillage.org
SUMMARY:Volunteer Hours @ Morse High School
DESCRIPTION:Weekly volunteer hours at our Rooted Resources garden spaces. Open to all in the community – no equipment or experience needed.
URL:https://projectnewvillage.org/event/volunteer-hours-morse-high-school-2/2027-10-08/
LOCATION:Morse High School\, 6905 Skyline Drive\, San Diego\, CA\, 92114\, United States
CATEGORIES:Volunteer Hours
ATTACH;FMTTYPE=image/png:https://projectnewvillage.org/wp-content/uploads/2026/01/MORSE-weekly-volunteer-hours.png
END:VEVENT
BEGIN:VEVENT
DTSTART;TZID=America/Los_Angeles:20271013T100000
DTEND;TZID=America/Los_Angeles:20271013T120000
DTSTAMP:20260425T151045
CREATED:20260105T165854Z
LAST-MODIFIED:20260105T165854Z
UID:10003288-1823421600-1823428800@projectnewvillage.org
SUMMARY:Volunteer Hours @ Mt. Hope Community Garden
DESCRIPTION:Weekly volunteer hours at our Rooted Resources garden spaces. Open to all in the community – no equipment or experience needed.
URL:https://projectnewvillage.org/event/volunteer-hours-mt-hope-community-garden/2027-10-13/
LOCATION:Mt. Hope Community Garden\, 4269 Market St.\, San Diego\, CA\, 92102\, United States
CATEGORIES:Volunteer Hours
ATTACH;FMTTYPE=image/png:https://projectnewvillage.org/wp-content/uploads/2026/01/MT-HOPE-weekly-volunteer-hours.png
END:VEVENT
BEGIN:VEVENT
DTSTART;TZID=America/Los_Angeles:20271013T150000
DTEND;TZID=America/Los_Angeles:20271013T170000
DTSTAMP:20260425T151045
CREATED:20260105T165612Z
LAST-MODIFIED:20260105T165612Z
UID:10002766-1823439600-1823446800@projectnewvillage.org
SUMMARY:Volunteer Hours @ Morse High School
DESCRIPTION:Weekly volunteer hours at our Rooted Resources garden spaces. Open to all in the community – no equipment or experience needed.
URL:https://projectnewvillage.org/event/volunteer-hours-morse-high-school/2027-10-13/
LOCATION:Morse High School\, 6905 Skyline Drive\, San Diego\, CA\, 92114\, United States
CATEGORIES:Volunteer Hours
ATTACH;FMTTYPE=image/png:https://projectnewvillage.org/wp-content/uploads/2026/01/MORSE-weekly-volunteer-hours.png
END:VEVENT
BEGIN:VEVENT
DTSTART;TZID=America/Los_Angeles:20271014T100000
DTEND;TZID=America/Los_Angeles:20271014T140000
DTSTAMP:20260425T151045
CREATED:20260105T165356Z
LAST-MODIFIED:20260105T165447Z
UID:10002505-1823508000-1823522400@projectnewvillage.org
SUMMARY:Volunteer Hours @ Uvas Wellness Garden
DESCRIPTION:Weekly volunteer hours at our Rooted Resources garden spaces. Open to all in the community – no equipment or experience needed.
URL:https://projectnewvillage.org/event/volunteer-hours-uvas-wellness-garden/2027-10-14/
LOCATION:Uvas Wellness Garden\, 4835 Market St.\, San Diego\, CA\, 92102\, United States
CATEGORIES:Volunteer Hours
ATTACH;FMTTYPE=image/png:https://projectnewvillage.org/wp-content/uploads/2026/01/UVAS-weekly-volunteer-hours.png
END:VEVENT
BEGIN:VEVENT
DTSTART;TZID=America/Los_Angeles:20271014T150000
DTEND;TZID=America/Los_Angeles:20271014T170000
DTSTAMP:20260425T151045
CREATED:20260105T170023Z
LAST-MODIFIED:20260105T170023Z
UID:10003549-1823526000-1823533200@projectnewvillage.org
SUMMARY:Volunteer Hours @ Mt. Hope Community Garden
DESCRIPTION:Weekly volunteer hours at our Rooted Resources garden spaces. Open to all in the community – no equipment or experience needed.
URL:https://projectnewvillage.org/event/volunteer-hours-mt-hope-community-garden-2/2027-10-14/
LOCATION:Mt. Hope Community Garden\, 4269 Market St.\, San Diego\, CA\, 92102\, United States
CATEGORIES:Volunteer Hours
ATTACH;FMTTYPE=image/png:https://projectnewvillage.org/wp-content/uploads/2026/01/MT-HOPE-weekly-volunteer-hours.png
END:VEVENT
BEGIN:VEVENT
DTSTART;TZID=America/Los_Angeles:20271015T090000
DTEND;TZID=America/Los_Angeles:20271015T120000
DTSTAMP:20260425T151045
CREATED:20260105T165732Z
LAST-MODIFIED:20260105T165732Z
UID:10003027-1823590800-1823601600@projectnewvillage.org
SUMMARY:Volunteer Hours @ Morse High School
DESCRIPTION:Weekly volunteer hours at our Rooted Resources garden spaces. Open to all in the community – no equipment or experience needed.
URL:https://projectnewvillage.org/event/volunteer-hours-morse-high-school-2/2027-10-15/
LOCATION:Morse High School\, 6905 Skyline Drive\, San Diego\, CA\, 92114\, United States
CATEGORIES:Volunteer Hours
ATTACH;FMTTYPE=image/png:https://projectnewvillage.org/wp-content/uploads/2026/01/MORSE-weekly-volunteer-hours.png
END:VEVENT
BEGIN:VEVENT
DTSTART;TZID=America/Los_Angeles:20271020T100000
DTEND;TZID=America/Los_Angeles:20271020T120000
DTSTAMP:20260425T151045
CREATED:20260105T165854Z
LAST-MODIFIED:20260105T165854Z
UID:10003289-1824026400-1824033600@projectnewvillage.org
SUMMARY:Volunteer Hours @ Mt. Hope Community Garden
DESCRIPTION:Weekly volunteer hours at our Rooted Resources garden spaces. Open to all in the community – no equipment or experience needed.
URL:https://projectnewvillage.org/event/volunteer-hours-mt-hope-community-garden/2027-10-20/
LOCATION:Mt. Hope Community Garden\, 4269 Market St.\, San Diego\, CA\, 92102\, United States
CATEGORIES:Volunteer Hours
ATTACH;FMTTYPE=image/png:https://projectnewvillage.org/wp-content/uploads/2026/01/MT-HOPE-weekly-volunteer-hours.png
END:VEVENT
BEGIN:VEVENT
DTSTART;TZID=America/Los_Angeles:20271020T150000
DTEND;TZID=America/Los_Angeles:20271020T170000
DTSTAMP:20260425T151045
CREATED:20260105T165612Z
LAST-MODIFIED:20260105T165612Z
UID:10002767-1824044400-1824051600@projectnewvillage.org
SUMMARY:Volunteer Hours @ Morse High School
DESCRIPTION:Weekly volunteer hours at our Rooted Resources garden spaces. Open to all in the community – no equipment or experience needed.
URL:https://projectnewvillage.org/event/volunteer-hours-morse-high-school/2027-10-20/
LOCATION:Morse High School\, 6905 Skyline Drive\, San Diego\, CA\, 92114\, United States
CATEGORIES:Volunteer Hours
ATTACH;FMTTYPE=image/png:https://projectnewvillage.org/wp-content/uploads/2026/01/MORSE-weekly-volunteer-hours.png
END:VEVENT
BEGIN:VEVENT
DTSTART;TZID=America/Los_Angeles:20271021T100000
DTEND;TZID=America/Los_Angeles:20271021T140000
DTSTAMP:20260425T151045
CREATED:20260105T165356Z
LAST-MODIFIED:20260105T165447Z
UID:10002506-1824112800-1824127200@projectnewvillage.org
SUMMARY:Volunteer Hours @ Uvas Wellness Garden
DESCRIPTION:Weekly volunteer hours at our Rooted Resources garden spaces. Open to all in the community – no equipment or experience needed.
URL:https://projectnewvillage.org/event/volunteer-hours-uvas-wellness-garden/2027-10-21/
LOCATION:Uvas Wellness Garden\, 4835 Market St.\, San Diego\, CA\, 92102\, United States
CATEGORIES:Volunteer Hours
ATTACH;FMTTYPE=image/png:https://projectnewvillage.org/wp-content/uploads/2026/01/UVAS-weekly-volunteer-hours.png
END:VEVENT
BEGIN:VEVENT
DTSTART;TZID=America/Los_Angeles:20271021T150000
DTEND;TZID=America/Los_Angeles:20271021T170000
DTSTAMP:20260425T151045
CREATED:20260105T170023Z
LAST-MODIFIED:20260105T170023Z
UID:10003550-1824130800-1824138000@projectnewvillage.org
SUMMARY:Volunteer Hours @ Mt. Hope Community Garden
DESCRIPTION:Weekly volunteer hours at our Rooted Resources garden spaces. Open to all in the community – no equipment or experience needed.
URL:https://projectnewvillage.org/event/volunteer-hours-mt-hope-community-garden-2/2027-10-21/
LOCATION:Mt. Hope Community Garden\, 4269 Market St.\, San Diego\, CA\, 92102\, United States
CATEGORIES:Volunteer Hours
ATTACH;FMTTYPE=image/png:https://projectnewvillage.org/wp-content/uploads/2026/01/MT-HOPE-weekly-volunteer-hours.png
END:VEVENT
BEGIN:VEVENT
DTSTART;TZID=America/Los_Angeles:20271022T090000
DTEND;TZID=America/Los_Angeles:20271022T120000
DTSTAMP:20260425T151045
CREATED:20260105T165732Z
LAST-MODIFIED:20260105T165732Z
UID:10003028-1824195600-1824206400@projectnewvillage.org
SUMMARY:Volunteer Hours @ Morse High School
DESCRIPTION:Weekly volunteer hours at our Rooted Resources garden spaces. Open to all in the community – no equipment or experience needed.
URL:https://projectnewvillage.org/event/volunteer-hours-morse-high-school-2/2027-10-22/
LOCATION:Morse High School\, 6905 Skyline Drive\, San Diego\, CA\, 92114\, United States
CATEGORIES:Volunteer Hours
ATTACH;FMTTYPE=image/png:https://projectnewvillage.org/wp-content/uploads/2026/01/MORSE-weekly-volunteer-hours.png
END:VEVENT
BEGIN:VEVENT
DTSTART;TZID=America/Los_Angeles:20271027T100000
DTEND;TZID=America/Los_Angeles:20271027T120000
DTSTAMP:20260425T151045
CREATED:20260105T165854Z
LAST-MODIFIED:20260105T165854Z
UID:10003290-1824631200-1824638400@projectnewvillage.org
SUMMARY:Volunteer Hours @ Mt. Hope Community Garden
DESCRIPTION:Weekly volunteer hours at our Rooted Resources garden spaces. Open to all in the community – no equipment or experience needed.
URL:https://projectnewvillage.org/event/volunteer-hours-mt-hope-community-garden/2027-10-27/
LOCATION:Mt. Hope Community Garden\, 4269 Market St.\, San Diego\, CA\, 92102\, United States
CATEGORIES:Volunteer Hours
ATTACH;FMTTYPE=image/png:https://projectnewvillage.org/wp-content/uploads/2026/01/MT-HOPE-weekly-volunteer-hours.png
END:VEVENT
END:VCALENDAR