BEGIN:VCALENDAR
VERSION:2.0
PRODID:-//Project New Village - ECPv6.15.20//NONSGML v1.0//EN
CALSCALE:GREGORIAN
METHOD:PUBLISH
X-WR-CALNAME:Project New Village
X-ORIGINAL-URL:https://projectnewvillage.org
X-WR-CALDESC:Events for Project New Village
REFRESH-INTERVAL;VALUE=DURATION:PT1H
X-Robots-Tag:noindex
X-PUBLISHED-TTL:PT1H
BEGIN:VTIMEZONE
TZID:America/Los_Angeles
BEGIN:DAYLIGHT
TZOFFSETFROM:-0800
TZOFFSETTO:-0700
TZNAME:PDT
DTSTART:20240310T100000
END:DAYLIGHT
BEGIN:STANDARD
TZOFFSETFROM:-0700
TZOFFSETTO:-0800
TZNAME:PST
DTSTART:20241103T090000
END:STANDARD
BEGIN:DAYLIGHT
TZOFFSETFROM:-0800
TZOFFSETTO:-0700
TZNAME:PDT
DTSTART:20250309T100000
END:DAYLIGHT
BEGIN:STANDARD
TZOFFSETFROM:-0700
TZOFFSETTO:-0800
TZNAME:PST
DTSTART:20251102T090000
END:STANDARD
BEGIN:DAYLIGHT
TZOFFSETFROM:-0800
TZOFFSETTO:-0700
TZNAME:PDT
DTSTART:20260308T100000
END:DAYLIGHT
BEGIN:STANDARD
TZOFFSETFROM:-0700
TZOFFSETTO:-0800
TZNAME:PST
DTSTART:20261101T090000
END:STANDARD
END:VTIMEZONE
BEGIN:VTIMEZONE
TZID:UTC
BEGIN:STANDARD
TZOFFSETFROM:+0000
TZOFFSETTO:+0000
TZNAME:UTC
DTSTART:20240101T000000
END:STANDARD
END:VTIMEZONE
BEGIN:VEVENT
DTSTART;TZID=America/Los_Angeles:20250514T150000
DTEND;TZID=America/Los_Angeles:20250514T170000
DTSTAMP:20260425T085137
CREATED:20240805T183711Z
LAST-MODIFIED:20251224T162037Z
UID:10001458-1747234800-1747242000@projectnewvillage.org
SUMMARY:People's Produce @ Morse High School
DESCRIPTION:
URL:https://projectnewvillage.org/event/peoples-produce-morse-high-school/2025-05-14/
LOCATION:Morse High School\, 6905 Skyline Drive\, San Diego\, CA\, 92114\, United States
CATEGORIES:Farmers Market
ATTACH;FMTTYPE=image/jpeg:https://projectnewvillage.org/wp-content/uploads/2024/05/Improve.jpg
END:VEVENT
BEGIN:VEVENT
DTSTART;TZID=UTC:20250515T090000
DTEND;TZID=UTC:20250515T110000
DTSTAMP:20260425T085137
CREATED:20240605T085319Z
LAST-MODIFIED:20251224T162147Z
UID:10000431-1747299600-1747306800@projectnewvillage.org
SUMMARY:People's Produce @ ECC Campus
DESCRIPTION:Mobile farmers truck bringing fresh\, locally grown produce to neighborhoods throughout greater Southeastern San Diego.
URL:https://projectnewvillage.org/event/peoples-produce-ecc-campus/2025-05-15/
LOCATION:ECC Campus\, 4343 Ocean View Blvd.\, San Diego\, CA\, 92113\, United States
CATEGORIES:Farmers Market
ATTACH;FMTTYPE=image/jpeg:https://projectnewvillage.org/wp-content/uploads/2024/06/MFM-NatCity1.jpg
END:VEVENT
BEGIN:VEVENT
DTSTART;TZID=UTC:20250515T160000
DTEND;TZID=UTC:20250515T180000
DTSTAMP:20260425T085137
CREATED:20240605T085637Z
LAST-MODIFIED:20251224T162303Z
UID:10000692-1747324800-1747332000@projectnewvillage.org
SUMMARY:People's Produce @ Thrive Lemon Grove Farmers Market
DESCRIPTION:Mobile farmers truck bringing fresh\, locally grown produce to neighborhoods throughout greater Southeastern San Diego.
URL:https://projectnewvillage.org/event/peoples-produce-thrive-lemon-grove-farmers-market/2025-05-15/
LOCATION:Treganza Heritage Parrk\, 3200 Main St.\, Lemon Grove\, CA\, 91945\, United States
CATEGORIES:Farmers Market
ATTACH;FMTTYPE=image/jpeg:https://projectnewvillage.org/wp-content/uploads/2024/06/MFM-NatCity1.jpg
END:VEVENT
BEGIN:VEVENT
DTSTART;TZID=UTC:20250516T110000
DTEND;TZID=UTC:20250516T130000
DTSTAMP:20260425T085137
CREATED:20240605T085941Z
LAST-MODIFIED:20250109T163925Z
UID:10000953-1747393200-1747400400@projectnewvillage.org
SUMMARY:People's Produce @ Brooks Huffman Plaza
DESCRIPTION:Mobile farmers truck bringing fresh\, locally grown produce to neighborhoods throughout greater Southeastern San Diego.
URL:https://projectnewvillage.org/event/peoples-produce-brooks-huffman-plaza/2025-05-16/
LOCATION:Four Corners of Life\, Imperial & Euclid\, San Diego\, CA\, 92114\, United States
CATEGORIES:Farmers Market
ATTACH;FMTTYPE=image/jpeg:https://projectnewvillage.org/wp-content/uploads/2024/06/MFM-NatCity1.jpg
END:VEVENT
BEGIN:VEVENT
DTSTART;TZID=America/Los_Angeles:20250516T143000
DTEND;TZID=America/Los_Angeles:20250516T163000
DTSTAMP:20260425T085137
CREATED:20241030T204024Z
LAST-MODIFIED:20250109T164016Z
UID:10001707-1747405800-1747413000@projectnewvillage.org
SUMMARY:People's Produce @ Encanto Village
DESCRIPTION:Mobile farmers truck bringing fresh\, locally grown produce to neighborhoods throughout greater Southeastern San Diego.
URL:https://projectnewvillage.org/event/peoples-produce-encanto-village/2025-05-16/
LOCATION:Encanto Village\, 6315 Imperial Ave.\, San Diego\, CA\, 92114\, United States
CATEGORIES:Farmers Market
ATTACH;FMTTYPE=image/jpeg:https://projectnewvillage.org/wp-content/uploads/2024/06/MFM-NatCity1.jpg
END:VEVENT
BEGIN:VEVENT
DTSTART;TZID=UTC:20250517T090000
DTEND;TZID=UTC:20250517T110000
DTSTAMP:20260425T085137
CREATED:20240605T084819Z
LAST-MODIFIED:20260311T184256Z
UID:10002177-1747472400-1747479600@projectnewvillage.org
SUMMARY:Community Work Day @ Mt. Hope Community Garden
DESCRIPTION:Strengthening our communities with a morning of gardening activities\, our Community Work Days are a great way to connect with like-minded neighbors with fun\, meaningful light-duty work at the Mt. Hope Community Garden. Open to all – join us\, and show up for food justice!
URL:https://projectnewvillage.org/event/community-work-day-mt-hope-community-garden/2025-05-17/
LOCATION:Mt. Hope Community Garden\, 4269 Market St.\, San Diego\, CA\, 92102\, United States
CATEGORIES:Community Work Day
ATTACH;FMTTYPE=image/jpeg:https://projectnewvillage.org/wp-content/uploads/2024/06/header.jpg
END:VEVENT
BEGIN:VEVENT
DTSTART;TZID=America/Los_Angeles:20250517T120000
DTEND;TZID=America/Los_Angeles:20250517T140000
DTSTAMP:20260425T085137
CREATED:20240805T182614Z
LAST-MODIFIED:20241220T232007Z
UID:10001307-1747483200-1747490400@projectnewvillage.org
SUMMARY:People's Produce @ Logan Heights CDC
DESCRIPTION:Mobile farmers truck bringing fresh\, locally grown produce to neighborhoods throughout greater Southeastern San Diego.
URL:https://projectnewvillage.org/event/peoples-produce-logan-heights-cdc/2025-05-17/
LOCATION:Logan Heights CDC\, 2835 Imperial Ave.\, San Diego\, CA\, 92123\, United States
CATEGORIES:Farmers Market
ATTACH;FMTTYPE=image/jpeg:https://projectnewvillage.org/wp-content/uploads/2024/05/Improve.jpg
END:VEVENT
BEGIN:VEVENT
DTSTART;TZID=UTC:20250521T110000
DTEND;TZID=UTC:20250521T130000
DTSTAMP:20260425T085137
CREATED:20240605T085037Z
LAST-MODIFIED:20241220T232503Z
UID:10000171-1747825200-1747832400@projectnewvillage.org
SUMMARY:People’s Produce @ Mt. Hope Community Garden
DESCRIPTION:Mobile farmers truck bringing fresh\, locally grown produce to neighborhoods throughout greater Southeastern San Diego. Champions for Health will be at this market providing free health screenings and vaccinations to community members.
URL:https://projectnewvillage.org/event/peoples-produce-mt-hope-community-garden/2025-05-21/
LOCATION:Mt. Hope Community Garden\, 4269 Market St.\, San Diego\, CA\, 92102\, United States
CATEGORIES:Farmers Market
ATTACH;FMTTYPE=image/jpeg:https://projectnewvillage.org/wp-content/uploads/2024/05/Improve.jpg
END:VEVENT
BEGIN:VEVENT
DTSTART;TZID=America/Los_Angeles:20250521T150000
DTEND;TZID=America/Los_Angeles:20250521T170000
DTSTAMP:20260425T085137
CREATED:20240805T183711Z
LAST-MODIFIED:20251224T162037Z
UID:10001459-1747839600-1747846800@projectnewvillage.org
SUMMARY:People's Produce @ Morse High School
DESCRIPTION:
URL:https://projectnewvillage.org/event/peoples-produce-morse-high-school/2025-05-21/
LOCATION:Morse High School\, 6905 Skyline Drive\, San Diego\, CA\, 92114\, United States
CATEGORIES:Farmers Market
ATTACH;FMTTYPE=image/jpeg:https://projectnewvillage.org/wp-content/uploads/2024/05/Improve.jpg
END:VEVENT
BEGIN:VEVENT
DTSTART;TZID=UTC:20250522T090000
DTEND;TZID=UTC:20250522T110000
DTSTAMP:20260425T085137
CREATED:20240605T085319Z
LAST-MODIFIED:20251224T162147Z
UID:10000432-1747904400-1747911600@projectnewvillage.org
SUMMARY:People's Produce @ ECC Campus
DESCRIPTION:Mobile farmers truck bringing fresh\, locally grown produce to neighborhoods throughout greater Southeastern San Diego.
URL:https://projectnewvillage.org/event/peoples-produce-ecc-campus/2025-05-22/
LOCATION:ECC Campus\, 4343 Ocean View Blvd.\, San Diego\, CA\, 92113\, United States
CATEGORIES:Farmers Market
ATTACH;FMTTYPE=image/jpeg:https://projectnewvillage.org/wp-content/uploads/2024/06/MFM-NatCity1.jpg
END:VEVENT
BEGIN:VEVENT
DTSTART;TZID=UTC:20250522T160000
DTEND;TZID=UTC:20250522T180000
DTSTAMP:20260425T085137
CREATED:20240605T085637Z
LAST-MODIFIED:20251224T162303Z
UID:10000693-1747929600-1747936800@projectnewvillage.org
SUMMARY:People's Produce @ Thrive Lemon Grove Farmers Market
DESCRIPTION:Mobile farmers truck bringing fresh\, locally grown produce to neighborhoods throughout greater Southeastern San Diego.
URL:https://projectnewvillage.org/event/peoples-produce-thrive-lemon-grove-farmers-market/2025-05-22/
LOCATION:Treganza Heritage Parrk\, 3200 Main St.\, Lemon Grove\, CA\, 91945\, United States
CATEGORIES:Farmers Market
ATTACH;FMTTYPE=image/jpeg:https://projectnewvillage.org/wp-content/uploads/2024/06/MFM-NatCity1.jpg
END:VEVENT
BEGIN:VEVENT
DTSTART;TZID=UTC:20250523T110000
DTEND;TZID=UTC:20250523T130000
DTSTAMP:20260425T085137
CREATED:20240605T085941Z
LAST-MODIFIED:20250109T163925Z
UID:10000954-1747998000-1748005200@projectnewvillage.org
SUMMARY:People's Produce @ Brooks Huffman Plaza
DESCRIPTION:Mobile farmers truck bringing fresh\, locally grown produce to neighborhoods throughout greater Southeastern San Diego.
URL:https://projectnewvillage.org/event/peoples-produce-brooks-huffman-plaza/2025-05-23/
LOCATION:Four Corners of Life\, Imperial & Euclid\, San Diego\, CA\, 92114\, United States
CATEGORIES:Farmers Market
ATTACH;FMTTYPE=image/jpeg:https://projectnewvillage.org/wp-content/uploads/2024/06/MFM-NatCity1.jpg
END:VEVENT
BEGIN:VEVENT
DTSTART;TZID=America/Los_Angeles:20250523T143000
DTEND;TZID=America/Los_Angeles:20250523T163000
DTSTAMP:20260425T085137
CREATED:20241030T204024Z
LAST-MODIFIED:20250109T164016Z
UID:10001708-1748010600-1748017800@projectnewvillage.org
SUMMARY:People's Produce @ Encanto Village
DESCRIPTION:Mobile farmers truck bringing fresh\, locally grown produce to neighborhoods throughout greater Southeastern San Diego.
URL:https://projectnewvillage.org/event/peoples-produce-encanto-village/2025-05-23/
LOCATION:Encanto Village\, 6315 Imperial Ave.\, San Diego\, CA\, 92114\, United States
CATEGORIES:Farmers Market
ATTACH;FMTTYPE=image/jpeg:https://projectnewvillage.org/wp-content/uploads/2024/06/MFM-NatCity1.jpg
END:VEVENT
BEGIN:VEVENT
DTSTART;TZID=America/Los_Angeles:20250524T100000
DTEND;TZID=America/Los_Angeles:20250524T120000
DTSTAMP:20260425T085137
CREATED:20240805T182943Z
LAST-MODIFIED:20241220T232607Z
UID:10001367-1748080800-1748088000@projectnewvillage.org
SUMMARY:People's Produce @ Mtn. View Community Center
DESCRIPTION:Mobile farmers truck bringing fresh\, locally grown produce to neighborhoods throughout greater Southeastern San Diego.
URL:https://projectnewvillage.org/event/peoples-produce-mtn-view-community-center/2025-05-24/
LOCATION:Mountain View Community Center\, 641 Boundary St.\, San Diego\, CA\, 92113\, United States
CATEGORIES:Farmers Market
ATTACH;FMTTYPE=image/jpeg:https://projectnewvillage.org/wp-content/uploads/2024/05/Improve.jpg
END:VEVENT
BEGIN:VEVENT
DTSTART;TZID=UTC:20250528T110000
DTEND;TZID=UTC:20250528T130000
DTSTAMP:20260425T085137
CREATED:20240605T085037Z
LAST-MODIFIED:20241220T232503Z
UID:10000172-1748430000-1748437200@projectnewvillage.org
SUMMARY:People’s Produce @ Mt. Hope Community Garden
DESCRIPTION:Mobile farmers truck bringing fresh\, locally grown produce to neighborhoods throughout greater Southeastern San Diego. Champions for Health will be at this market providing free health screenings and vaccinations to community members.
URL:https://projectnewvillage.org/event/peoples-produce-mt-hope-community-garden/2025-05-28/
LOCATION:Mt. Hope Community Garden\, 4269 Market St.\, San Diego\, CA\, 92102\, United States
CATEGORIES:Farmers Market
ATTACH;FMTTYPE=image/jpeg:https://projectnewvillage.org/wp-content/uploads/2024/05/Improve.jpg
END:VEVENT
BEGIN:VEVENT
DTSTART;TZID=America/Los_Angeles:20250528T150000
DTEND;TZID=America/Los_Angeles:20250528T170000
DTSTAMP:20260425T085137
CREATED:20240805T183711Z
LAST-MODIFIED:20251224T162037Z
UID:10001460-1748444400-1748451600@projectnewvillage.org
SUMMARY:People's Produce @ Morse High School
DESCRIPTION:
URL:https://projectnewvillage.org/event/peoples-produce-morse-high-school/2025-05-28/
LOCATION:Morse High School\, 6905 Skyline Drive\, San Diego\, CA\, 92114\, United States
CATEGORIES:Farmers Market
ATTACH;FMTTYPE=image/jpeg:https://projectnewvillage.org/wp-content/uploads/2024/05/Improve.jpg
END:VEVENT
BEGIN:VEVENT
DTSTART;TZID=UTC:20250529T090000
DTEND;TZID=UTC:20250529T110000
DTSTAMP:20260425T085137
CREATED:20240605T085319Z
LAST-MODIFIED:20251224T162147Z
UID:10000433-1748509200-1748516400@projectnewvillage.org
SUMMARY:People's Produce @ ECC Campus
DESCRIPTION:Mobile farmers truck bringing fresh\, locally grown produce to neighborhoods throughout greater Southeastern San Diego.
URL:https://projectnewvillage.org/event/peoples-produce-ecc-campus/2025-05-29/
LOCATION:ECC Campus\, 4343 Ocean View Blvd.\, San Diego\, CA\, 92113\, United States
CATEGORIES:Farmers Market
ATTACH;FMTTYPE=image/jpeg:https://projectnewvillage.org/wp-content/uploads/2024/06/MFM-NatCity1.jpg
END:VEVENT
BEGIN:VEVENT
DTSTART;TZID=UTC:20250529T160000
DTEND;TZID=UTC:20250529T180000
DTSTAMP:20260425T085137
CREATED:20240605T085637Z
LAST-MODIFIED:20251224T162303Z
UID:10000694-1748534400-1748541600@projectnewvillage.org
SUMMARY:People's Produce @ Thrive Lemon Grove Farmers Market
DESCRIPTION:Mobile farmers truck bringing fresh\, locally grown produce to neighborhoods throughout greater Southeastern San Diego.
URL:https://projectnewvillage.org/event/peoples-produce-thrive-lemon-grove-farmers-market/2025-05-29/
LOCATION:Treganza Heritage Parrk\, 3200 Main St.\, Lemon Grove\, CA\, 91945\, United States
CATEGORIES:Farmers Market
ATTACH;FMTTYPE=image/jpeg:https://projectnewvillage.org/wp-content/uploads/2024/06/MFM-NatCity1.jpg
END:VEVENT
BEGIN:VEVENT
DTSTART;TZID=UTC:20250530T110000
DTEND;TZID=UTC:20250530T130000
DTSTAMP:20260425T085137
CREATED:20240605T085941Z
LAST-MODIFIED:20250109T163925Z
UID:10000955-1748602800-1748610000@projectnewvillage.org
SUMMARY:People's Produce @ Brooks Huffman Plaza
DESCRIPTION:Mobile farmers truck bringing fresh\, locally grown produce to neighborhoods throughout greater Southeastern San Diego.
URL:https://projectnewvillage.org/event/peoples-produce-brooks-huffman-plaza/2025-05-30/
LOCATION:Four Corners of Life\, Imperial & Euclid\, San Diego\, CA\, 92114\, United States
CATEGORIES:Farmers Market
ATTACH;FMTTYPE=image/jpeg:https://projectnewvillage.org/wp-content/uploads/2024/06/MFM-NatCity1.jpg
END:VEVENT
BEGIN:VEVENT
DTSTART;TZID=America/Los_Angeles:20250530T143000
DTEND;TZID=America/Los_Angeles:20250530T163000
DTSTAMP:20260425T085137
CREATED:20241030T204024Z
LAST-MODIFIED:20250109T164016Z
UID:10001709-1748615400-1748622600@projectnewvillage.org
SUMMARY:People's Produce @ Encanto Village
DESCRIPTION:Mobile farmers truck bringing fresh\, locally grown produce to neighborhoods throughout greater Southeastern San Diego.
URL:https://projectnewvillage.org/event/peoples-produce-encanto-village/2025-05-30/
LOCATION:Encanto Village\, 6315 Imperial Ave.\, San Diego\, CA\, 92114\, United States
CATEGORIES:Farmers Market
ATTACH;FMTTYPE=image/jpeg:https://projectnewvillage.org/wp-content/uploads/2024/06/MFM-NatCity1.jpg
END:VEVENT
BEGIN:VEVENT
DTSTART;TZID=UTC:20250604T110000
DTEND;TZID=UTC:20250604T130000
DTSTAMP:20260425T085137
CREATED:20240605T085037Z
LAST-MODIFIED:20241220T232503Z
UID:10000173-1749034800-1749042000@projectnewvillage.org
SUMMARY:People’s Produce @ Mt. Hope Community Garden
DESCRIPTION:Mobile farmers truck bringing fresh\, locally grown produce to neighborhoods throughout greater Southeastern San Diego. Champions for Health will be at this market providing free health screenings and vaccinations to community members.
URL:https://projectnewvillage.org/event/peoples-produce-mt-hope-community-garden/2025-06-04/
LOCATION:Mt. Hope Community Garden\, 4269 Market St.\, San Diego\, CA\, 92102\, United States
CATEGORIES:Farmers Market
ATTACH;FMTTYPE=image/jpeg:https://projectnewvillage.org/wp-content/uploads/2024/05/Improve.jpg
END:VEVENT
BEGIN:VEVENT
DTSTART;TZID=America/Los_Angeles:20250604T150000
DTEND;TZID=America/Los_Angeles:20250604T170000
DTSTAMP:20260425T085137
CREATED:20240805T183711Z
LAST-MODIFIED:20251224T162037Z
UID:10001461-1749049200-1749056400@projectnewvillage.org
SUMMARY:People's Produce @ Morse High School
DESCRIPTION:
URL:https://projectnewvillage.org/event/peoples-produce-morse-high-school/2025-06-04/
LOCATION:Morse High School\, 6905 Skyline Drive\, San Diego\, CA\, 92114\, United States
CATEGORIES:Farmers Market
ATTACH;FMTTYPE=image/jpeg:https://projectnewvillage.org/wp-content/uploads/2024/05/Improve.jpg
END:VEVENT
BEGIN:VEVENT
DTSTART;TZID=UTC:20250605T090000
DTEND;TZID=UTC:20250605T110000
DTSTAMP:20260425T085137
CREATED:20240605T085319Z
LAST-MODIFIED:20251224T162147Z
UID:10000434-1749114000-1749121200@projectnewvillage.org
SUMMARY:People's Produce @ ECC Campus
DESCRIPTION:Mobile farmers truck bringing fresh\, locally grown produce to neighborhoods throughout greater Southeastern San Diego.
URL:https://projectnewvillage.org/event/peoples-produce-ecc-campus/2025-06-05/
LOCATION:ECC Campus\, 4343 Ocean View Blvd.\, San Diego\, CA\, 92113\, United States
CATEGORIES:Farmers Market
ATTACH;FMTTYPE=image/jpeg:https://projectnewvillage.org/wp-content/uploads/2024/06/MFM-NatCity1.jpg
END:VEVENT
BEGIN:VEVENT
DTSTART;TZID=UTC:20250605T160000
DTEND;TZID=UTC:20250605T180000
DTSTAMP:20260425T085137
CREATED:20240605T085637Z
LAST-MODIFIED:20251224T162303Z
UID:10000695-1749139200-1749146400@projectnewvillage.org
SUMMARY:People's Produce @ Thrive Lemon Grove Farmers Market
DESCRIPTION:Mobile farmers truck bringing fresh\, locally grown produce to neighborhoods throughout greater Southeastern San Diego.
URL:https://projectnewvillage.org/event/peoples-produce-thrive-lemon-grove-farmers-market/2025-06-05/
LOCATION:Treganza Heritage Parrk\, 3200 Main St.\, Lemon Grove\, CA\, 91945\, United States
CATEGORIES:Farmers Market
ATTACH;FMTTYPE=image/jpeg:https://projectnewvillage.org/wp-content/uploads/2024/06/MFM-NatCity1.jpg
END:VEVENT
BEGIN:VEVENT
DTSTART;TZID=UTC:20250606T110000
DTEND;TZID=UTC:20250606T130000
DTSTAMP:20260425T085137
CREATED:20240605T085941Z
LAST-MODIFIED:20250109T163925Z
UID:10000956-1749207600-1749214800@projectnewvillage.org
SUMMARY:People's Produce @ Brooks Huffman Plaza
DESCRIPTION:Mobile farmers truck bringing fresh\, locally grown produce to neighborhoods throughout greater Southeastern San Diego.
URL:https://projectnewvillage.org/event/peoples-produce-brooks-huffman-plaza/2025-06-06/
LOCATION:Four Corners of Life\, Imperial & Euclid\, San Diego\, CA\, 92114\, United States
CATEGORIES:Farmers Market
ATTACH;FMTTYPE=image/jpeg:https://projectnewvillage.org/wp-content/uploads/2024/06/MFM-NatCity1.jpg
END:VEVENT
BEGIN:VEVENT
DTSTART;TZID=America/Los_Angeles:20250606T143000
DTEND;TZID=America/Los_Angeles:20250606T163000
DTSTAMP:20260425T085137
CREATED:20241030T204024Z
LAST-MODIFIED:20250109T164016Z
UID:10001710-1749220200-1749227400@projectnewvillage.org
SUMMARY:People's Produce @ Encanto Village
DESCRIPTION:Mobile farmers truck bringing fresh\, locally grown produce to neighborhoods throughout greater Southeastern San Diego.
URL:https://projectnewvillage.org/event/peoples-produce-encanto-village/2025-06-06/
LOCATION:Encanto Village\, 6315 Imperial Ave.\, San Diego\, CA\, 92114\, United States
CATEGORIES:Farmers Market
ATTACH;FMTTYPE=image/jpeg:https://projectnewvillage.org/wp-content/uploads/2024/06/MFM-NatCity1.jpg
END:VEVENT
BEGIN:VEVENT
DTSTART;TZID=America/Los_Angeles:20250607T110000
DTEND;TZID=America/Los_Angeles:20250607T130000
DTSTAMP:20260425T085137
CREATED:20241030T204249Z
LAST-MODIFIED:20250402T161844Z
UID:10001946-1749294000-1749301200@projectnewvillage.org
SUMMARY:People's Produce @ Bethel AME Church
DESCRIPTION:Mobile farmers truck bringing fresh\, locally grown produce to neighborhoods throughout greater Southeastern San Diego.
URL:https://projectnewvillage.org/event/peoples-produce-bethel-ame-church-2/2025-06-07/
LOCATION:Bethel AME Church\, 3085 K Street\, San Diego\, CA\, 92102\, United States
CATEGORIES:Farmers Market
ATTACH;FMTTYPE=image/jpeg:https://projectnewvillage.org/wp-content/uploads/2024/06/MFM-NatCity1.jpg
END:VEVENT
BEGIN:VEVENT
DTSTART;TZID=UTC:20250611T110000
DTEND;TZID=UTC:20250611T130000
DTSTAMP:20260425T085137
CREATED:20240605T085037Z
LAST-MODIFIED:20241220T232503Z
UID:10000174-1749639600-1749646800@projectnewvillage.org
SUMMARY:People’s Produce @ Mt. Hope Community Garden
DESCRIPTION:Mobile farmers truck bringing fresh\, locally grown produce to neighborhoods throughout greater Southeastern San Diego. Champions for Health will be at this market providing free health screenings and vaccinations to community members.
URL:https://projectnewvillage.org/event/peoples-produce-mt-hope-community-garden/2025-06-11/
LOCATION:Mt. Hope Community Garden\, 4269 Market St.\, San Diego\, CA\, 92102\, United States
CATEGORIES:Farmers Market
ATTACH;FMTTYPE=image/jpeg:https://projectnewvillage.org/wp-content/uploads/2024/05/Improve.jpg
END:VEVENT
BEGIN:VEVENT
DTSTART;TZID=America/Los_Angeles:20250611T150000
DTEND;TZID=America/Los_Angeles:20250611T170000
DTSTAMP:20260425T085137
CREATED:20240805T183711Z
LAST-MODIFIED:20251224T162037Z
UID:10001462-1749654000-1749661200@projectnewvillage.org
SUMMARY:People's Produce @ Morse High School
DESCRIPTION:
URL:https://projectnewvillage.org/event/peoples-produce-morse-high-school/2025-06-11/
LOCATION:Morse High School\, 6905 Skyline Drive\, San Diego\, CA\, 92114\, United States
CATEGORIES:Farmers Market
ATTACH;FMTTYPE=image/jpeg:https://projectnewvillage.org/wp-content/uploads/2024/05/Improve.jpg
END:VEVENT
BEGIN:VEVENT
DTSTART;TZID=UTC:20250612T090000
DTEND;TZID=UTC:20250612T110000
DTSTAMP:20260425T085137
CREATED:20240605T085319Z
LAST-MODIFIED:20251224T162147Z
UID:10000435-1749718800-1749726000@projectnewvillage.org
SUMMARY:People's Produce @ ECC Campus
DESCRIPTION:Mobile farmers truck bringing fresh\, locally grown produce to neighborhoods throughout greater Southeastern San Diego.
URL:https://projectnewvillage.org/event/peoples-produce-ecc-campus/2025-06-12/
LOCATION:ECC Campus\, 4343 Ocean View Blvd.\, San Diego\, CA\, 92113\, United States
CATEGORIES:Farmers Market
ATTACH;FMTTYPE=image/jpeg:https://projectnewvillage.org/wp-content/uploads/2024/06/MFM-NatCity1.jpg
END:VEVENT
END:VCALENDAR