BEGIN:VCALENDAR
VERSION:2.0
PRODID:-//Project New Village - ECPv6.15.20//NONSGML v1.0//EN
CALSCALE:GREGORIAN
METHOD:PUBLISH
X-WR-CALNAME:Project New Village
X-ORIGINAL-URL:https://projectnewvillage.org
X-WR-CALDESC:Events for Project New Village
REFRESH-INTERVAL;VALUE=DURATION:PT1H
X-Robots-Tag:noindex
X-PUBLISHED-TTL:PT1H
BEGIN:VTIMEZONE
TZID:UTC
BEGIN:STANDARD
TZOFFSETFROM:+0000
TZOFFSETTO:+0000
TZNAME:UTC
DTSTART:20240101T000000
END:STANDARD
END:VTIMEZONE
BEGIN:VTIMEZONE
TZID:America/Los_Angeles
BEGIN:DAYLIGHT
TZOFFSETFROM:-0800
TZOFFSETTO:-0700
TZNAME:PDT
DTSTART:20240310T100000
END:DAYLIGHT
BEGIN:STANDARD
TZOFFSETFROM:-0700
TZOFFSETTO:-0800
TZNAME:PST
DTSTART:20241103T090000
END:STANDARD
BEGIN:DAYLIGHT
TZOFFSETFROM:-0800
TZOFFSETTO:-0700
TZNAME:PDT
DTSTART:20250309T100000
END:DAYLIGHT
BEGIN:STANDARD
TZOFFSETFROM:-0700
TZOFFSETTO:-0800
TZNAME:PST
DTSTART:20251102T090000
END:STANDARD
BEGIN:DAYLIGHT
TZOFFSETFROM:-0800
TZOFFSETTO:-0700
TZNAME:PDT
DTSTART:20260308T100000
END:DAYLIGHT
BEGIN:STANDARD
TZOFFSETFROM:-0700
TZOFFSETTO:-0800
TZNAME:PST
DTSTART:20261101T090000
END:STANDARD
END:VTIMEZONE
BEGIN:VEVENT
DTSTART;TZID=UTC:20250116T160000
DTEND;TZID=UTC:20250116T180000
DTSTAMP:20260424T005641
CREATED:20240605T085637Z
LAST-MODIFIED:20251224T162303Z
UID:10000675-1737043200-1737050400@projectnewvillage.org
SUMMARY:People's Produce @ Thrive Lemon Grove Farmers Market
DESCRIPTION:Mobile farmers truck bringing fresh\, locally grown produce to neighborhoods throughout greater Southeastern San Diego.
URL:https://projectnewvillage.org/event/peoples-produce-thrive-lemon-grove-farmers-market/2025-01-16/
LOCATION:Treganza Heritage Parrk\, 3200 Main St.\, Lemon Grove\, CA\, 91945\, United States
CATEGORIES:Farmers Market
ATTACH;FMTTYPE=image/jpeg:https://projectnewvillage.org/wp-content/uploads/2024/06/MFM-NatCity1.jpg
END:VEVENT
BEGIN:VEVENT
DTSTART;TZID=UTC:20250117T110000
DTEND;TZID=UTC:20250117T130000
DTSTAMP:20260424T005641
CREATED:20240605T085941Z
LAST-MODIFIED:20250109T163925Z
UID:10000936-1737111600-1737118800@projectnewvillage.org
SUMMARY:People's Produce @ Brooks Huffman Plaza
DESCRIPTION:Mobile farmers truck bringing fresh\, locally grown produce to neighborhoods throughout greater Southeastern San Diego.
URL:https://projectnewvillage.org/event/peoples-produce-brooks-huffman-plaza/2025-01-17/
LOCATION:Four Corners of Life\, Imperial & Euclid\, San Diego\, CA\, 92114\, United States
CATEGORIES:Farmers Market
ATTACH;FMTTYPE=image/jpeg:https://projectnewvillage.org/wp-content/uploads/2024/06/MFM-NatCity1.jpg
END:VEVENT
BEGIN:VEVENT
DTSTART;TZID=America/Los_Angeles:20250117T143000
DTEND;TZID=America/Los_Angeles:20250117T163000
DTSTAMP:20260424T005641
CREATED:20241030T204024Z
LAST-MODIFIED:20250109T164016Z
UID:10001690-1737124200-1737131400@projectnewvillage.org
SUMMARY:People's Produce @ Encanto Village
DESCRIPTION:Mobile farmers truck bringing fresh\, locally grown produce to neighborhoods throughout greater Southeastern San Diego.
URL:https://projectnewvillage.org/event/peoples-produce-encanto-village/2025-01-17/
LOCATION:Encanto Village\, 6315 Imperial Ave.\, San Diego\, CA\, 92114\, United States
CATEGORIES:Farmers Market
ATTACH;FMTTYPE=image/jpeg:https://projectnewvillage.org/wp-content/uploads/2024/06/MFM-NatCity1.jpg
END:VEVENT
BEGIN:VEVENT
DTSTART;TZID=UTC:20250118T090000
DTEND;TZID=UTC:20250118T110000
DTSTAMP:20260424T005641
CREATED:20240605T084819Z
LAST-MODIFIED:20260311T184256Z
UID:10002249-1737190800-1737198000@projectnewvillage.org
SUMMARY:Community Work Day @ Mt. Hope Community Garden
DESCRIPTION:Strengthening our communities with a morning of gardening activities\, our Community Work Days are a great way to connect with like-minded neighbors with fun\, meaningful light-duty work at the Mt. Hope Community Garden. Open to all – join us\, and show up for food justice!
URL:https://projectnewvillage.org/event/community-work-day-mt-hope-community-garden/2025-01-18/
LOCATION:Mt. Hope Community Garden\, 4269 Market St.\, San Diego\, CA\, 92102\, United States
CATEGORIES:Community Work Day
ATTACH;FMTTYPE=image/jpeg:https://projectnewvillage.org/wp-content/uploads/2024/06/header.jpg
END:VEVENT
BEGIN:VEVENT
DTSTART;TZID=America/Los_Angeles:20250118T090000
DTEND;TZID=America/Los_Angeles:20250118T120000
DTSTAMP:20260424T005641
CREATED:20250103T223720Z
LAST-MODIFIED:20250103T223721Z
UID:10002156-1737190800-1737201600@projectnewvillage.org
SUMMARY:MLK Day of Service @ Mt. Hope Community Garden
DESCRIPTION:Embracing Dr. King’s vision of “The Beloved Community” – a community in which everyone is cared for\, absent of poverty\, hunger\, and hate. \nJoin our community workday at the Mt. Hope Community Garden on Saturday\, Jan.18\, 2025 from 9am to 12pm. We will gather to plant seeds of thought and actions for the new year. This is an inclusive event for all ages\, featuring cultural expressions and refreshments. \n 
URL:https://projectnewvillage.org/event/mlk-day-of-service-mt-hope-community-garden-2/
LOCATION:Mt. Hope Community Garden\, 4269 Market St.\, San Diego\, CA\, 92102\, United States
CATEGORIES:Community Work Day,Special Event
ATTACH;FMTTYPE=image/jpeg:https://projectnewvillage.org/wp-content/uploads/2025/01/MLK-Dos-web-banner.jpg
END:VEVENT
BEGIN:VEVENT
DTSTART;TZID=America/Los_Angeles:20250118T120000
DTEND;TZID=America/Los_Angeles:20250118T140000
DTSTAMP:20260424T005641
CREATED:20240805T182614Z
LAST-MODIFIED:20241220T232007Z
UID:10001303-1737201600-1737208800@projectnewvillage.org
SUMMARY:People's Produce @ Logan Heights CDC
DESCRIPTION:Mobile farmers truck bringing fresh\, locally grown produce to neighborhoods throughout greater Southeastern San Diego.
URL:https://projectnewvillage.org/event/peoples-produce-logan-heights-cdc/2025-01-18/
LOCATION:Logan Heights CDC\, 2835 Imperial Ave.\, San Diego\, CA\, 92123\, United States
CATEGORIES:Farmers Market
ATTACH;FMTTYPE=image/jpeg:https://projectnewvillage.org/wp-content/uploads/2024/05/Improve.jpg
END:VEVENT
BEGIN:VEVENT
DTSTART;TZID=UTC:20250122T110000
DTEND;TZID=UTC:20250122T130000
DTSTAMP:20260424T005641
CREATED:20240605T085037Z
LAST-MODIFIED:20241220T232503Z
UID:10000154-1737543600-1737550800@projectnewvillage.org
SUMMARY:People’s Produce @ Mt. Hope Community Garden
DESCRIPTION:Mobile farmers truck bringing fresh\, locally grown produce to neighborhoods throughout greater Southeastern San Diego. Champions for Health will be at this market providing free health screenings and vaccinations to community members.
URL:https://projectnewvillage.org/event/peoples-produce-mt-hope-community-garden/2025-01-22/
LOCATION:Mt. Hope Community Garden\, 4269 Market St.\, San Diego\, CA\, 92102\, United States
CATEGORIES:Farmers Market
ATTACH;FMTTYPE=image/jpeg:https://projectnewvillage.org/wp-content/uploads/2024/05/Improve.jpg
END:VEVENT
BEGIN:VEVENT
DTSTART;TZID=America/Los_Angeles:20250122T150000
DTEND;TZID=America/Los_Angeles:20250122T170000
DTSTAMP:20260424T005641
CREATED:20240805T183711Z
LAST-MODIFIED:20251224T162037Z
UID:10001442-1737558000-1737565200@projectnewvillage.org
SUMMARY:People's Produce @ Morse High School
DESCRIPTION:
URL:https://projectnewvillage.org/event/peoples-produce-morse-high-school/2025-01-22/
LOCATION:Morse High School\, 6905 Skyline Drive\, San Diego\, CA\, 92114\, United States
CATEGORIES:Farmers Market
ATTACH;FMTTYPE=image/jpeg:https://projectnewvillage.org/wp-content/uploads/2024/05/Improve.jpg
END:VEVENT
BEGIN:VEVENT
DTSTART;TZID=UTC:20250123T090000
DTEND;TZID=UTC:20250123T110000
DTSTAMP:20260424T005641
CREATED:20240605T085319Z
LAST-MODIFIED:20251224T162147Z
UID:10000415-1737622800-1737630000@projectnewvillage.org
SUMMARY:People's Produce @ ECC Campus
DESCRIPTION:Mobile farmers truck bringing fresh\, locally grown produce to neighborhoods throughout greater Southeastern San Diego.
URL:https://projectnewvillage.org/event/peoples-produce-ecc-campus/2025-01-23/
LOCATION:ECC Campus\, 4343 Ocean View Blvd.\, San Diego\, CA\, 92113\, United States
CATEGORIES:Farmers Market
ATTACH;FMTTYPE=image/jpeg:https://projectnewvillage.org/wp-content/uploads/2024/06/MFM-NatCity1.jpg
END:VEVENT
BEGIN:VEVENT
DTSTART;TZID=UTC:20250123T160000
DTEND;TZID=UTC:20250123T180000
DTSTAMP:20260424T005641
CREATED:20240605T085637Z
LAST-MODIFIED:20251224T162303Z
UID:10000676-1737648000-1737655200@projectnewvillage.org
SUMMARY:People's Produce @ Thrive Lemon Grove Farmers Market
DESCRIPTION:Mobile farmers truck bringing fresh\, locally grown produce to neighborhoods throughout greater Southeastern San Diego.
URL:https://projectnewvillage.org/event/peoples-produce-thrive-lemon-grove-farmers-market/2025-01-23/
LOCATION:Treganza Heritage Parrk\, 3200 Main St.\, Lemon Grove\, CA\, 91945\, United States
CATEGORIES:Farmers Market
ATTACH;FMTTYPE=image/jpeg:https://projectnewvillage.org/wp-content/uploads/2024/06/MFM-NatCity1.jpg
END:VEVENT
BEGIN:VEVENT
DTSTART;TZID=UTC:20250124T110000
DTEND;TZID=UTC:20250124T130000
DTSTAMP:20260424T005641
CREATED:20240605T085941Z
LAST-MODIFIED:20250109T163925Z
UID:10000937-1737716400-1737723600@projectnewvillage.org
SUMMARY:People's Produce @ Brooks Huffman Plaza
DESCRIPTION:Mobile farmers truck bringing fresh\, locally grown produce to neighborhoods throughout greater Southeastern San Diego.
URL:https://projectnewvillage.org/event/peoples-produce-brooks-huffman-plaza/2025-01-24/
LOCATION:Four Corners of Life\, Imperial & Euclid\, San Diego\, CA\, 92114\, United States
CATEGORIES:Farmers Market
ATTACH;FMTTYPE=image/jpeg:https://projectnewvillage.org/wp-content/uploads/2024/06/MFM-NatCity1.jpg
END:VEVENT
BEGIN:VEVENT
DTSTART;TZID=America/Los_Angeles:20250124T143000
DTEND;TZID=America/Los_Angeles:20250124T163000
DTSTAMP:20260424T005641
CREATED:20241030T204024Z
LAST-MODIFIED:20250109T164016Z
UID:10001691-1737729000-1737736200@projectnewvillage.org
SUMMARY:People's Produce @ Encanto Village
DESCRIPTION:Mobile farmers truck bringing fresh\, locally grown produce to neighborhoods throughout greater Southeastern San Diego.
URL:https://projectnewvillage.org/event/peoples-produce-encanto-village/2025-01-24/
LOCATION:Encanto Village\, 6315 Imperial Ave.\, San Diego\, CA\, 92114\, United States
CATEGORIES:Farmers Market
ATTACH;FMTTYPE=image/jpeg:https://projectnewvillage.org/wp-content/uploads/2024/06/MFM-NatCity1.jpg
END:VEVENT
BEGIN:VEVENT
DTSTART;TZID=America/Los_Angeles:20250125T100000
DTEND;TZID=America/Los_Angeles:20250125T120000
DTSTAMP:20260424T005641
CREATED:20240805T182943Z
LAST-MODIFIED:20241220T232607Z
UID:10001363-1737799200-1737806400@projectnewvillage.org
SUMMARY:People's Produce @ Mtn. View Community Center
DESCRIPTION:Mobile farmers truck bringing fresh\, locally grown produce to neighborhoods throughout greater Southeastern San Diego.
URL:https://projectnewvillage.org/event/peoples-produce-mtn-view-community-center/2025-01-25/
LOCATION:Mountain View Community Center\, 641 Boundary St.\, San Diego\, CA\, 92113\, United States
CATEGORIES:Farmers Market
ATTACH;FMTTYPE=image/jpeg:https://projectnewvillage.org/wp-content/uploads/2024/05/Improve.jpg
END:VEVENT
BEGIN:VEVENT
DTSTART;TZID=UTC:20250129T110000
DTEND;TZID=UTC:20250129T130000
DTSTAMP:20260424T005641
CREATED:20240605T085037Z
LAST-MODIFIED:20241220T232503Z
UID:10000155-1738148400-1738155600@projectnewvillage.org
SUMMARY:People’s Produce @ Mt. Hope Community Garden
DESCRIPTION:Mobile farmers truck bringing fresh\, locally grown produce to neighborhoods throughout greater Southeastern San Diego. Champions for Health will be at this market providing free health screenings and vaccinations to community members.
URL:https://projectnewvillage.org/event/peoples-produce-mt-hope-community-garden/2025-01-29/
LOCATION:Mt. Hope Community Garden\, 4269 Market St.\, San Diego\, CA\, 92102\, United States
CATEGORIES:Farmers Market
ATTACH;FMTTYPE=image/jpeg:https://projectnewvillage.org/wp-content/uploads/2024/05/Improve.jpg
END:VEVENT
BEGIN:VEVENT
DTSTART;TZID=America/Los_Angeles:20250129T150000
DTEND;TZID=America/Los_Angeles:20250129T170000
DTSTAMP:20260424T005641
CREATED:20240805T183711Z
LAST-MODIFIED:20251224T162037Z
UID:10001443-1738162800-1738170000@projectnewvillage.org
SUMMARY:People's Produce @ Morse High School
DESCRIPTION:
URL:https://projectnewvillage.org/event/peoples-produce-morse-high-school/2025-01-29/
LOCATION:Morse High School\, 6905 Skyline Drive\, San Diego\, CA\, 92114\, United States
CATEGORIES:Farmers Market
ATTACH;FMTTYPE=image/jpeg:https://projectnewvillage.org/wp-content/uploads/2024/05/Improve.jpg
END:VEVENT
BEGIN:VEVENT
DTSTART;TZID=UTC:20250130T090000
DTEND;TZID=UTC:20250130T110000
DTSTAMP:20260424T005641
CREATED:20240605T085319Z
LAST-MODIFIED:20251224T162147Z
UID:10000416-1738227600-1738234800@projectnewvillage.org
SUMMARY:People's Produce @ ECC Campus
DESCRIPTION:Mobile farmers truck bringing fresh\, locally grown produce to neighborhoods throughout greater Southeastern San Diego.
URL:https://projectnewvillage.org/event/peoples-produce-ecc-campus/2025-01-30/
LOCATION:ECC Campus\, 4343 Ocean View Blvd.\, San Diego\, CA\, 92113\, United States
CATEGORIES:Farmers Market
ATTACH;FMTTYPE=image/jpeg:https://projectnewvillage.org/wp-content/uploads/2024/06/MFM-NatCity1.jpg
END:VEVENT
BEGIN:VEVENT
DTSTART;TZID=UTC:20250130T160000
DTEND;TZID=UTC:20250130T180000
DTSTAMP:20260424T005641
CREATED:20240605T085637Z
LAST-MODIFIED:20251224T162303Z
UID:10000677-1738252800-1738260000@projectnewvillage.org
SUMMARY:People's Produce @ Thrive Lemon Grove Farmers Market
DESCRIPTION:Mobile farmers truck bringing fresh\, locally grown produce to neighborhoods throughout greater Southeastern San Diego.
URL:https://projectnewvillage.org/event/peoples-produce-thrive-lemon-grove-farmers-market/2025-01-30/
LOCATION:Treganza Heritage Parrk\, 3200 Main St.\, Lemon Grove\, CA\, 91945\, United States
CATEGORIES:Farmers Market
ATTACH;FMTTYPE=image/jpeg:https://projectnewvillage.org/wp-content/uploads/2024/06/MFM-NatCity1.jpg
END:VEVENT
BEGIN:VEVENT
DTSTART;TZID=UTC:20250131T110000
DTEND;TZID=UTC:20250131T130000
DTSTAMP:20260424T005641
CREATED:20240605T085941Z
LAST-MODIFIED:20250109T163925Z
UID:10000938-1738321200-1738328400@projectnewvillage.org
SUMMARY:People's Produce @ Brooks Huffman Plaza
DESCRIPTION:Mobile farmers truck bringing fresh\, locally grown produce to neighborhoods throughout greater Southeastern San Diego.
URL:https://projectnewvillage.org/event/peoples-produce-brooks-huffman-plaza/2025-01-31/
LOCATION:Four Corners of Life\, Imperial & Euclid\, San Diego\, CA\, 92114\, United States
CATEGORIES:Farmers Market
ATTACH;FMTTYPE=image/jpeg:https://projectnewvillage.org/wp-content/uploads/2024/06/MFM-NatCity1.jpg
END:VEVENT
BEGIN:VEVENT
DTSTART;TZID=America/Los_Angeles:20250131T143000
DTEND;TZID=America/Los_Angeles:20250131T163000
DTSTAMP:20260424T005641
CREATED:20241030T204024Z
LAST-MODIFIED:20250109T164016Z
UID:10001692-1738333800-1738341000@projectnewvillage.org
SUMMARY:People's Produce @ Encanto Village
DESCRIPTION:Mobile farmers truck bringing fresh\, locally grown produce to neighborhoods throughout greater Southeastern San Diego.
URL:https://projectnewvillage.org/event/peoples-produce-encanto-village/2025-01-31/
LOCATION:Encanto Village\, 6315 Imperial Ave.\, San Diego\, CA\, 92114\, United States
CATEGORIES:Farmers Market
ATTACH;FMTTYPE=image/jpeg:https://projectnewvillage.org/wp-content/uploads/2024/06/MFM-NatCity1.jpg
END:VEVENT
BEGIN:VEVENT
DTSTART;TZID=America/Los_Angeles:20250201T110000
DTEND;TZID=America/Los_Angeles:20250201T130000
DTSTAMP:20260424T005641
CREATED:20241030T204249Z
LAST-MODIFIED:20250402T161844Z
UID:10001942-1738407600-1738414800@projectnewvillage.org
SUMMARY:People's Produce @ Bethel AME Church
DESCRIPTION:Mobile farmers truck bringing fresh\, locally grown produce to neighborhoods throughout greater Southeastern San Diego.
URL:https://projectnewvillage.org/event/peoples-produce-bethel-ame-church-2/2025-02-01/
LOCATION:Bethel AME Church\, 3085 K Street\, San Diego\, CA\, 92102\, United States
CATEGORIES:Farmers Market
ATTACH;FMTTYPE=image/jpeg:https://projectnewvillage.org/wp-content/uploads/2024/06/MFM-NatCity1.jpg
END:VEVENT
BEGIN:VEVENT
DTSTART;TZID=UTC:20250205T110000
DTEND;TZID=UTC:20250205T130000
DTSTAMP:20260424T005641
CREATED:20240605T085037Z
LAST-MODIFIED:20241220T232503Z
UID:10000156-1738753200-1738760400@projectnewvillage.org
SUMMARY:People’s Produce @ Mt. Hope Community Garden
DESCRIPTION:Mobile farmers truck bringing fresh\, locally grown produce to neighborhoods throughout greater Southeastern San Diego. Champions for Health will be at this market providing free health screenings and vaccinations to community members.
URL:https://projectnewvillage.org/event/peoples-produce-mt-hope-community-garden/2025-02-05/
LOCATION:Mt. Hope Community Garden\, 4269 Market St.\, San Diego\, CA\, 92102\, United States
CATEGORIES:Farmers Market
ATTACH;FMTTYPE=image/jpeg:https://projectnewvillage.org/wp-content/uploads/2024/05/Improve.jpg
END:VEVENT
BEGIN:VEVENT
DTSTART;TZID=America/Los_Angeles:20250205T150000
DTEND;TZID=America/Los_Angeles:20250205T170000
DTSTAMP:20260424T005641
CREATED:20240805T183711Z
LAST-MODIFIED:20251224T162037Z
UID:10001444-1738767600-1738774800@projectnewvillage.org
SUMMARY:People's Produce @ Morse High School
DESCRIPTION:
URL:https://projectnewvillage.org/event/peoples-produce-morse-high-school/2025-02-05/
LOCATION:Morse High School\, 6905 Skyline Drive\, San Diego\, CA\, 92114\, United States
CATEGORIES:Farmers Market
ATTACH;FMTTYPE=image/jpeg:https://projectnewvillage.org/wp-content/uploads/2024/05/Improve.jpg
END:VEVENT
BEGIN:VEVENT
DTSTART;TZID=UTC:20250206T090000
DTEND;TZID=UTC:20250206T110000
DTSTAMP:20260424T005641
CREATED:20240605T085319Z
LAST-MODIFIED:20251224T162147Z
UID:10000417-1738832400-1738839600@projectnewvillage.org
SUMMARY:People's Produce @ ECC Campus
DESCRIPTION:Mobile farmers truck bringing fresh\, locally grown produce to neighborhoods throughout greater Southeastern San Diego.
URL:https://projectnewvillage.org/event/peoples-produce-ecc-campus/2025-02-06/
LOCATION:ECC Campus\, 4343 Ocean View Blvd.\, San Diego\, CA\, 92113\, United States
CATEGORIES:Farmers Market
ATTACH;FMTTYPE=image/jpeg:https://projectnewvillage.org/wp-content/uploads/2024/06/MFM-NatCity1.jpg
END:VEVENT
BEGIN:VEVENT
DTSTART;TZID=UTC:20250206T160000
DTEND;TZID=UTC:20250206T180000
DTSTAMP:20260424T005641
CREATED:20240605T085637Z
LAST-MODIFIED:20251224T162303Z
UID:10000678-1738857600-1738864800@projectnewvillage.org
SUMMARY:People's Produce @ Thrive Lemon Grove Farmers Market
DESCRIPTION:Mobile farmers truck bringing fresh\, locally grown produce to neighborhoods throughout greater Southeastern San Diego.
URL:https://projectnewvillage.org/event/peoples-produce-thrive-lemon-grove-farmers-market/2025-02-06/
LOCATION:Treganza Heritage Parrk\, 3200 Main St.\, Lemon Grove\, CA\, 91945\, United States
CATEGORIES:Farmers Market
ATTACH;FMTTYPE=image/jpeg:https://projectnewvillage.org/wp-content/uploads/2024/06/MFM-NatCity1.jpg
END:VEVENT
BEGIN:VEVENT
DTSTART;TZID=UTC:20250207T110000
DTEND;TZID=UTC:20250207T130000
DTSTAMP:20260424T005641
CREATED:20240605T085941Z
LAST-MODIFIED:20250109T163925Z
UID:10000939-1738926000-1738933200@projectnewvillage.org
SUMMARY:People's Produce @ Brooks Huffman Plaza
DESCRIPTION:Mobile farmers truck bringing fresh\, locally grown produce to neighborhoods throughout greater Southeastern San Diego.
URL:https://projectnewvillage.org/event/peoples-produce-brooks-huffman-plaza/2025-02-07/
LOCATION:Four Corners of Life\, Imperial & Euclid\, San Diego\, CA\, 92114\, United States
CATEGORIES:Farmers Market
ATTACH;FMTTYPE=image/jpeg:https://projectnewvillage.org/wp-content/uploads/2024/06/MFM-NatCity1.jpg
END:VEVENT
BEGIN:VEVENT
DTSTART;TZID=America/Los_Angeles:20250207T143000
DTEND;TZID=America/Los_Angeles:20250207T163000
DTSTAMP:20260424T005641
CREATED:20241030T204024Z
LAST-MODIFIED:20250109T164016Z
UID:10001693-1738938600-1738945800@projectnewvillage.org
SUMMARY:People's Produce @ Encanto Village
DESCRIPTION:Mobile farmers truck bringing fresh\, locally grown produce to neighborhoods throughout greater Southeastern San Diego.
URL:https://projectnewvillage.org/event/peoples-produce-encanto-village/2025-02-07/
LOCATION:Encanto Village\, 6315 Imperial Ave.\, San Diego\, CA\, 92114\, United States
CATEGORIES:Farmers Market
ATTACH;FMTTYPE=image/jpeg:https://projectnewvillage.org/wp-content/uploads/2024/06/MFM-NatCity1.jpg
END:VEVENT
BEGIN:VEVENT
DTSTART;TZID=UTC:20250208T090000
DTEND;TZID=UTC:20250208T103000
DTSTAMP:20260424T005641
CREATED:20240605T084548Z
LAST-MODIFIED:20240605T084548Z
UID:10000009-1739005200-1739010600@projectnewvillage.org
SUMMARY:PNV Growers Collective Meeting
DESCRIPTION:We’re looking for community members with a passion for gardening and food growing to join us in creating a large collective of food growers locally who could eventually contribute produce to our People’s Produce Mobile Farmers Market. We want to create health and wellness throughout San Diego using urban agriculture as a means to combat food insecure neighborhoods. This is good for the environment\, good for our health and well-being\, and helps to build strong community connections. All levels of gardeners and growers welcome – we’re here to provide support and connect people with resources to create a strong neighborhood collective.
URL:https://projectnewvillage.org/event/pnv-growers-collective-meeting/2025-02-08/
LOCATION:Mt. Hope Community Garden\, 4269 Market St.\, San Diego\, CA\, 92102\, United States
CATEGORIES:Grower Collective
ATTACH;FMTTYPE=image/jpeg:https://projectnewvillage.org/wp-content/uploads/2024/05/Collective-members-header.jpg
END:VEVENT
BEGIN:VEVENT
DTSTART;TZID=UTC:20250212T110000
DTEND;TZID=UTC:20250212T130000
DTSTAMP:20260424T005641
CREATED:20240605T085037Z
LAST-MODIFIED:20241220T232503Z
UID:10000157-1739358000-1739365200@projectnewvillage.org
SUMMARY:People’s Produce @ Mt. Hope Community Garden
DESCRIPTION:Mobile farmers truck bringing fresh\, locally grown produce to neighborhoods throughout greater Southeastern San Diego. Champions for Health will be at this market providing free health screenings and vaccinations to community members.
URL:https://projectnewvillage.org/event/peoples-produce-mt-hope-community-garden/2025-02-12/
LOCATION:Mt. Hope Community Garden\, 4269 Market St.\, San Diego\, CA\, 92102\, United States
CATEGORIES:Farmers Market
ATTACH;FMTTYPE=image/jpeg:https://projectnewvillage.org/wp-content/uploads/2024/05/Improve.jpg
END:VEVENT
BEGIN:VEVENT
DTSTART;TZID=America/Los_Angeles:20250212T150000
DTEND;TZID=America/Los_Angeles:20250212T170000
DTSTAMP:20260424T005641
CREATED:20240805T183711Z
LAST-MODIFIED:20251224T162037Z
UID:10001445-1739372400-1739379600@projectnewvillage.org
SUMMARY:People's Produce @ Morse High School
DESCRIPTION:
URL:https://projectnewvillage.org/event/peoples-produce-morse-high-school/2025-02-12/
LOCATION:Morse High School\, 6905 Skyline Drive\, San Diego\, CA\, 92114\, United States
CATEGORIES:Farmers Market
ATTACH;FMTTYPE=image/jpeg:https://projectnewvillage.org/wp-content/uploads/2024/05/Improve.jpg
END:VEVENT
BEGIN:VEVENT
DTSTART;TZID=UTC:20250213T090000
DTEND;TZID=UTC:20250213T110000
DTSTAMP:20260424T005641
CREATED:20240605T085319Z
LAST-MODIFIED:20251224T162147Z
UID:10000418-1739437200-1739444400@projectnewvillage.org
SUMMARY:People's Produce @ ECC Campus
DESCRIPTION:Mobile farmers truck bringing fresh\, locally grown produce to neighborhoods throughout greater Southeastern San Diego.
URL:https://projectnewvillage.org/event/peoples-produce-ecc-campus/2025-02-13/
LOCATION:ECC Campus\, 4343 Ocean View Blvd.\, San Diego\, CA\, 92113\, United States
CATEGORIES:Farmers Market
ATTACH;FMTTYPE=image/jpeg:https://projectnewvillage.org/wp-content/uploads/2024/06/MFM-NatCity1.jpg
END:VEVENT
END:VCALENDAR