BEGIN:VCALENDAR
VERSION:2.0
PRODID:-//Project New Village - ECPv6.15.20//NONSGML v1.0//EN
CALSCALE:GREGORIAN
METHOD:PUBLISH
X-ORIGINAL-URL:https://projectnewvillage.org
X-WR-CALDESC:Events for Project New Village
REFRESH-INTERVAL;VALUE=DURATION:PT1H
X-Robots-Tag:noindex
X-PUBLISHED-TTL:PT1H
BEGIN:VTIMEZONE
TZID:America/Los_Angeles
BEGIN:DAYLIGHT
TZOFFSETFROM:-0800
TZOFFSETTO:-0700
TZNAME:PDT
DTSTART:20260308T100000
END:DAYLIGHT
BEGIN:STANDARD
TZOFFSETFROM:-0700
TZOFFSETTO:-0800
TZNAME:PST
DTSTART:20261101T090000
END:STANDARD
BEGIN:DAYLIGHT
TZOFFSETFROM:-0800
TZOFFSETTO:-0700
TZNAME:PDT
DTSTART:20270314T100000
END:DAYLIGHT
BEGIN:STANDARD
TZOFFSETFROM:-0700
TZOFFSETTO:-0800
TZNAME:PST
DTSTART:20271107T090000
END:STANDARD
BEGIN:DAYLIGHT
TZOFFSETFROM:-0800
TZOFFSETTO:-0700
TZNAME:PDT
DTSTART:20280312T100000
END:DAYLIGHT
BEGIN:STANDARD
TZOFFSETFROM:-0700
TZOFFSETTO:-0800
TZNAME:PST
DTSTART:20281105T090000
END:STANDARD
END:VTIMEZONE
BEGIN:VTIMEZONE
TZID:UTC
BEGIN:STANDARD
TZOFFSETFROM:+0000
TZOFFSETTO:+0000
TZNAME:UTC
DTSTART:20260101T000000
END:STANDARD
END:VTIMEZONE
BEGIN:VEVENT
DTSTART;TZID=America/Los_Angeles:20270217T100000
DTEND;TZID=America/Los_Angeles:20270217T120000
DTSTAMP:20260424T042036
CREATED:20260105T165854Z
LAST-MODIFIED:20260105T165854Z
UID:10003254-1802858400-1802865600@projectnewvillage.org
SUMMARY:Volunteer Hours @ Mt. Hope Community Garden
DESCRIPTION:Weekly volunteer hours at our Rooted Resources garden spaces. Open to all in the community – no equipment or experience needed.
URL:https://projectnewvillage.org/event/volunteer-hours-mt-hope-community-garden/2027-02-17/
LOCATION:Mt. Hope Community Garden\, 4269 Market St.\, San Diego\, CA\, 92102\, United States
CATEGORIES:Volunteer Hours
ATTACH;FMTTYPE=image/png:https://projectnewvillage.org/wp-content/uploads/2026/01/MT-HOPE-weekly-volunteer-hours.png
END:VEVENT
BEGIN:VEVENT
DTSTART;TZID=UTC:20270217T110000
DTEND;TZID=UTC:20270217T130000
DTSTAMP:20260424T042036
CREATED:20240605T085037Z
LAST-MODIFIED:20241220T232503Z
UID:10000262-1802862000-1802869200@projectnewvillage.org
SUMMARY:People’s Produce @ Mt. Hope Community Garden
DESCRIPTION:Mobile farmers truck bringing fresh\, locally grown produce to neighborhoods throughout greater Southeastern San Diego. Champions for Health will be at this market providing free health screenings and vaccinations to community members.
URL:https://projectnewvillage.org/event/peoples-produce-mt-hope-community-garden/2027-02-17/
LOCATION:Mt. Hope Community Garden\, 4269 Market St.\, San Diego\, CA\, 92102\, United States
CATEGORIES:Farmers Market
ATTACH;FMTTYPE=image/jpeg:https://projectnewvillage.org/wp-content/uploads/2024/05/Improve.jpg
END:VEVENT
BEGIN:VEVENT
DTSTART;TZID=America/Los_Angeles:20270217T150000
DTEND;TZID=America/Los_Angeles:20270217T170000
DTSTAMP:20260424T042036
CREATED:20240805T183711Z
LAST-MODIFIED:20251224T162037Z
UID:10001550-1802876400-1802883600@projectnewvillage.org
SUMMARY:People's Produce @ Morse High School
DESCRIPTION:
URL:https://projectnewvillage.org/event/peoples-produce-morse-high-school/2027-02-17/
LOCATION:Morse High School\, 6905 Skyline Drive\, San Diego\, CA\, 92114\, United States
CATEGORIES:Farmers Market
ATTACH;FMTTYPE=image/jpeg:https://projectnewvillage.org/wp-content/uploads/2024/05/Improve.jpg
END:VEVENT
BEGIN:VEVENT
DTSTART;TZID=America/Los_Angeles:20270217T150000
DTEND;TZID=America/Los_Angeles:20270217T170000
DTSTAMP:20260424T042036
CREATED:20260105T165612Z
LAST-MODIFIED:20260105T165612Z
UID:10002732-1802876400-1802883600@projectnewvillage.org
SUMMARY:Volunteer Hours @ Morse High School
DESCRIPTION:Weekly volunteer hours at our Rooted Resources garden spaces. Open to all in the community – no equipment or experience needed.
URL:https://projectnewvillage.org/event/volunteer-hours-morse-high-school/2027-02-17/
LOCATION:Morse High School\, 6905 Skyline Drive\, San Diego\, CA\, 92114\, United States
CATEGORIES:Volunteer Hours
ATTACH;FMTTYPE=image/png:https://projectnewvillage.org/wp-content/uploads/2026/01/MORSE-weekly-volunteer-hours.png
END:VEVENT
BEGIN:VEVENT
DTSTART;TZID=UTC:20270218T090000
DTEND;TZID=UTC:20270218T110000
DTSTAMP:20260424T042036
CREATED:20240605T085319Z
LAST-MODIFIED:20251224T162147Z
UID:10000523-1802941200-1802948400@projectnewvillage.org
SUMMARY:People's Produce @ ECC Campus
DESCRIPTION:Mobile farmers truck bringing fresh\, locally grown produce to neighborhoods throughout greater Southeastern San Diego.
URL:https://projectnewvillage.org/event/peoples-produce-ecc-campus/2027-02-18/
LOCATION:ECC Campus\, 4343 Ocean View Blvd.\, San Diego\, CA\, 92113\, United States
CATEGORIES:Farmers Market
ATTACH;FMTTYPE=image/jpeg:https://projectnewvillage.org/wp-content/uploads/2024/06/MFM-NatCity1.jpg
END:VEVENT
BEGIN:VEVENT
DTSTART;TZID=America/Los_Angeles:20270218T100000
DTEND;TZID=America/Los_Angeles:20270218T140000
DTSTAMP:20260424T042036
CREATED:20260105T165356Z
LAST-MODIFIED:20260105T165447Z
UID:10002471-1802944800-1802959200@projectnewvillage.org
SUMMARY:Volunteer Hours @ Uvas Wellness Garden
DESCRIPTION:Weekly volunteer hours at our Rooted Resources garden spaces. Open to all in the community – no equipment or experience needed.
URL:https://projectnewvillage.org/event/volunteer-hours-uvas-wellness-garden/2027-02-18/
LOCATION:Uvas Wellness Garden\, 4835 Market St.\, San Diego\, CA\, 92102\, United States
CATEGORIES:Volunteer Hours
ATTACH;FMTTYPE=image/png:https://projectnewvillage.org/wp-content/uploads/2026/01/UVAS-weekly-volunteer-hours.png
END:VEVENT
BEGIN:VEVENT
DTSTART;TZID=America/Los_Angeles:20270218T150000
DTEND;TZID=America/Los_Angeles:20270218T170000
DTSTAMP:20260424T042036
CREATED:20260105T170023Z
LAST-MODIFIED:20260105T170023Z
UID:10003515-1802962800-1802970000@projectnewvillage.org
SUMMARY:Volunteer Hours @ Mt. Hope Community Garden
DESCRIPTION:Weekly volunteer hours at our Rooted Resources garden spaces. Open to all in the community – no equipment or experience needed.
URL:https://projectnewvillage.org/event/volunteer-hours-mt-hope-community-garden-2/2027-02-18/
LOCATION:Mt. Hope Community Garden\, 4269 Market St.\, San Diego\, CA\, 92102\, United States
CATEGORIES:Volunteer Hours
ATTACH;FMTTYPE=image/png:https://projectnewvillage.org/wp-content/uploads/2026/01/MT-HOPE-weekly-volunteer-hours.png
END:VEVENT
BEGIN:VEVENT
DTSTART;TZID=UTC:20270218T160000
DTEND;TZID=UTC:20270218T180000
DTSTAMP:20260424T042036
CREATED:20240605T085637Z
LAST-MODIFIED:20251224T162303Z
UID:10000784-1802966400-1802973600@projectnewvillage.org
SUMMARY:People's Produce @ Thrive Lemon Grove Farmers Market
DESCRIPTION:Mobile farmers truck bringing fresh\, locally grown produce to neighborhoods throughout greater Southeastern San Diego.
URL:https://projectnewvillage.org/event/peoples-produce-thrive-lemon-grove-farmers-market/2027-02-18/
LOCATION:Treganza Heritage Parrk\, 3200 Main St.\, Lemon Grove\, CA\, 91945\, United States
CATEGORIES:Farmers Market
ATTACH;FMTTYPE=image/jpeg:https://projectnewvillage.org/wp-content/uploads/2024/06/MFM-NatCity1.jpg
END:VEVENT
BEGIN:VEVENT
DTSTART;TZID=America/Los_Angeles:20270219T090000
DTEND;TZID=America/Los_Angeles:20270219T120000
DTSTAMP:20260424T042036
CREATED:20260105T165732Z
LAST-MODIFIED:20260105T165732Z
UID:10002993-1803027600-1803038400@projectnewvillage.org
SUMMARY:Volunteer Hours @ Morse High School
DESCRIPTION:Weekly volunteer hours at our Rooted Resources garden spaces. Open to all in the community – no equipment or experience needed.
URL:https://projectnewvillage.org/event/volunteer-hours-morse-high-school-2/2027-02-19/
LOCATION:Morse High School\, 6905 Skyline Drive\, San Diego\, CA\, 92114\, United States
CATEGORIES:Volunteer Hours
ATTACH;FMTTYPE=image/png:https://projectnewvillage.org/wp-content/uploads/2026/01/MORSE-weekly-volunteer-hours.png
END:VEVENT
BEGIN:VEVENT
DTSTART;TZID=UTC:20270219T110000
DTEND;TZID=UTC:20270219T130000
DTSTAMP:20260424T042036
CREATED:20240605T085941Z
LAST-MODIFIED:20250109T163925Z
UID:10001045-1803034800-1803042000@projectnewvillage.org
SUMMARY:People's Produce @ Brooks Huffman Plaza
DESCRIPTION:Mobile farmers truck bringing fresh\, locally grown produce to neighborhoods throughout greater Southeastern San Diego.
URL:https://projectnewvillage.org/event/peoples-produce-brooks-huffman-plaza/2027-02-19/
LOCATION:Four Corners of Life\, Imperial & Euclid\, San Diego\, CA\, 92114\, United States
CATEGORIES:Farmers Market
ATTACH;FMTTYPE=image/jpeg:https://projectnewvillage.org/wp-content/uploads/2024/06/MFM-NatCity1.jpg
END:VEVENT
BEGIN:VEVENT
DTSTART;TZID=America/Los_Angeles:20270219T143000
DTEND;TZID=America/Los_Angeles:20270219T163000
DTSTAMP:20260424T042036
CREATED:20241030T204024Z
LAST-MODIFIED:20250109T164016Z
UID:10001799-1803047400-1803054600@projectnewvillage.org
SUMMARY:People's Produce @ Encanto Village
DESCRIPTION:Mobile farmers truck bringing fresh\, locally grown produce to neighborhoods throughout greater Southeastern San Diego.
URL:https://projectnewvillage.org/event/peoples-produce-encanto-village/2027-02-19/
LOCATION:Encanto Village\, 6315 Imperial Ave.\, San Diego\, CA\, 92114\, United States
CATEGORIES:Farmers Market
ATTACH;FMTTYPE=image/jpeg:https://projectnewvillage.org/wp-content/uploads/2024/06/MFM-NatCity1.jpg
END:VEVENT
BEGIN:VEVENT
DTSTART;TZID=UTC:20270220T090000
DTEND;TZID=UTC:20270220T110000
DTSTAMP:20260424T042036
CREATED:20240605T084819Z
LAST-MODIFIED:20260311T184256Z
UID:10002198-1803114000-1803121200@projectnewvillage.org
SUMMARY:Community Work Day @ Mt. Hope Community Garden
DESCRIPTION:Strengthening our communities with a morning of gardening activities\, our Community Work Days are a great way to connect with like-minded neighbors with fun\, meaningful light-duty work at the Mt. Hope Community Garden. Open to all – join us\, and show up for food justice!
URL:https://projectnewvillage.org/event/community-work-day-mt-hope-community-garden/2027-02-20/
LOCATION:Mt. Hope Community Garden\, 4269 Market St.\, San Diego\, CA\, 92102\, United States
CATEGORIES:Community Work Day
ATTACH;FMTTYPE=image/jpeg:https://projectnewvillage.org/wp-content/uploads/2024/06/header.jpg
END:VEVENT
BEGIN:VEVENT
DTSTART;TZID=America/Los_Angeles:20270220T120000
DTEND;TZID=America/Los_Angeles:20270220T140000
DTSTAMP:20260424T042036
CREATED:20240805T182614Z
LAST-MODIFIED:20241220T232007Z
UID:10001328-1803124800-1803132000@projectnewvillage.org
SUMMARY:People's Produce @ Logan Heights CDC
DESCRIPTION:Mobile farmers truck bringing fresh\, locally grown produce to neighborhoods throughout greater Southeastern San Diego.
URL:https://projectnewvillage.org/event/peoples-produce-logan-heights-cdc/2027-02-20/
LOCATION:Logan Heights CDC\, 2835 Imperial Ave.\, San Diego\, CA\, 92123\, United States
CATEGORIES:Farmers Market
ATTACH;FMTTYPE=image/jpeg:https://projectnewvillage.org/wp-content/uploads/2024/05/Improve.jpg
END:VEVENT
BEGIN:VEVENT
DTSTART;TZID=America/Los_Angeles:20270224T100000
DTEND;TZID=America/Los_Angeles:20270224T120000
DTSTAMP:20260424T042036
CREATED:20260105T165854Z
LAST-MODIFIED:20260105T165854Z
UID:10003255-1803463200-1803470400@projectnewvillage.org
SUMMARY:Volunteer Hours @ Mt. Hope Community Garden
DESCRIPTION:Weekly volunteer hours at our Rooted Resources garden spaces. Open to all in the community – no equipment or experience needed.
URL:https://projectnewvillage.org/event/volunteer-hours-mt-hope-community-garden/2027-02-24/
LOCATION:Mt. Hope Community Garden\, 4269 Market St.\, San Diego\, CA\, 92102\, United States
CATEGORIES:Volunteer Hours
ATTACH;FMTTYPE=image/png:https://projectnewvillage.org/wp-content/uploads/2026/01/MT-HOPE-weekly-volunteer-hours.png
END:VEVENT
BEGIN:VEVENT
DTSTART;TZID=UTC:20270224T110000
DTEND;TZID=UTC:20270224T130000
DTSTAMP:20260424T042036
CREATED:20240605T085037Z
LAST-MODIFIED:20241220T232503Z
UID:10000263-1803466800-1803474000@projectnewvillage.org
SUMMARY:People’s Produce @ Mt. Hope Community Garden
DESCRIPTION:Mobile farmers truck bringing fresh\, locally grown produce to neighborhoods throughout greater Southeastern San Diego. Champions for Health will be at this market providing free health screenings and vaccinations to community members.
URL:https://projectnewvillage.org/event/peoples-produce-mt-hope-community-garden/2027-02-24/
LOCATION:Mt. Hope Community Garden\, 4269 Market St.\, San Diego\, CA\, 92102\, United States
CATEGORIES:Farmers Market
ATTACH;FMTTYPE=image/jpeg:https://projectnewvillage.org/wp-content/uploads/2024/05/Improve.jpg
END:VEVENT
BEGIN:VEVENT
DTSTART;TZID=America/Los_Angeles:20270224T150000
DTEND;TZID=America/Los_Angeles:20270224T170000
DTSTAMP:20260424T042036
CREATED:20240805T183711Z
LAST-MODIFIED:20251224T162037Z
UID:10001551-1803481200-1803488400@projectnewvillage.org
SUMMARY:People's Produce @ Morse High School
DESCRIPTION:
URL:https://projectnewvillage.org/event/peoples-produce-morse-high-school/2027-02-24/
LOCATION:Morse High School\, 6905 Skyline Drive\, San Diego\, CA\, 92114\, United States
CATEGORIES:Farmers Market
ATTACH;FMTTYPE=image/jpeg:https://projectnewvillage.org/wp-content/uploads/2024/05/Improve.jpg
END:VEVENT
BEGIN:VEVENT
DTSTART;TZID=America/Los_Angeles:20270224T150000
DTEND;TZID=America/Los_Angeles:20270224T170000
DTSTAMP:20260424T042036
CREATED:20260105T165612Z
LAST-MODIFIED:20260105T165612Z
UID:10002733-1803481200-1803488400@projectnewvillage.org
SUMMARY:Volunteer Hours @ Morse High School
DESCRIPTION:Weekly volunteer hours at our Rooted Resources garden spaces. Open to all in the community – no equipment or experience needed.
URL:https://projectnewvillage.org/event/volunteer-hours-morse-high-school/2027-02-24/
LOCATION:Morse High School\, 6905 Skyline Drive\, San Diego\, CA\, 92114\, United States
CATEGORIES:Volunteer Hours
ATTACH;FMTTYPE=image/png:https://projectnewvillage.org/wp-content/uploads/2026/01/MORSE-weekly-volunteer-hours.png
END:VEVENT
BEGIN:VEVENT
DTSTART;TZID=UTC:20270225T090000
DTEND;TZID=UTC:20270225T110000
DTSTAMP:20260424T042036
CREATED:20240605T085319Z
LAST-MODIFIED:20251224T162147Z
UID:10000524-1803546000-1803553200@projectnewvillage.org
SUMMARY:People's Produce @ ECC Campus
DESCRIPTION:Mobile farmers truck bringing fresh\, locally grown produce to neighborhoods throughout greater Southeastern San Diego.
URL:https://projectnewvillage.org/event/peoples-produce-ecc-campus/2027-02-25/
LOCATION:ECC Campus\, 4343 Ocean View Blvd.\, San Diego\, CA\, 92113\, United States
CATEGORIES:Farmers Market
ATTACH;FMTTYPE=image/jpeg:https://projectnewvillage.org/wp-content/uploads/2024/06/MFM-NatCity1.jpg
END:VEVENT
BEGIN:VEVENT
DTSTART;TZID=America/Los_Angeles:20270225T100000
DTEND;TZID=America/Los_Angeles:20270225T140000
DTSTAMP:20260424T042036
CREATED:20260105T165356Z
LAST-MODIFIED:20260105T165447Z
UID:10002472-1803549600-1803564000@projectnewvillage.org
SUMMARY:Volunteer Hours @ Uvas Wellness Garden
DESCRIPTION:Weekly volunteer hours at our Rooted Resources garden spaces. Open to all in the community – no equipment or experience needed.
URL:https://projectnewvillage.org/event/volunteer-hours-uvas-wellness-garden/2027-02-25/
LOCATION:Uvas Wellness Garden\, 4835 Market St.\, San Diego\, CA\, 92102\, United States
CATEGORIES:Volunteer Hours
ATTACH;FMTTYPE=image/png:https://projectnewvillage.org/wp-content/uploads/2026/01/UVAS-weekly-volunteer-hours.png
END:VEVENT
BEGIN:VEVENT
DTSTART;TZID=America/Los_Angeles:20270225T150000
DTEND;TZID=America/Los_Angeles:20270225T170000
DTSTAMP:20260424T042036
CREATED:20260105T170023Z
LAST-MODIFIED:20260105T170023Z
UID:10003516-1803567600-1803574800@projectnewvillage.org
SUMMARY:Volunteer Hours @ Mt. Hope Community Garden
DESCRIPTION:Weekly volunteer hours at our Rooted Resources garden spaces. Open to all in the community – no equipment or experience needed.
URL:https://projectnewvillage.org/event/volunteer-hours-mt-hope-community-garden-2/2027-02-25/
LOCATION:Mt. Hope Community Garden\, 4269 Market St.\, San Diego\, CA\, 92102\, United States
CATEGORIES:Volunteer Hours
ATTACH;FMTTYPE=image/png:https://projectnewvillage.org/wp-content/uploads/2026/01/MT-HOPE-weekly-volunteer-hours.png
END:VEVENT
BEGIN:VEVENT
DTSTART;TZID=UTC:20270225T160000
DTEND;TZID=UTC:20270225T180000
DTSTAMP:20260424T042036
CREATED:20240605T085637Z
LAST-MODIFIED:20251224T162303Z
UID:10000785-1803571200-1803578400@projectnewvillage.org
SUMMARY:People's Produce @ Thrive Lemon Grove Farmers Market
DESCRIPTION:Mobile farmers truck bringing fresh\, locally grown produce to neighborhoods throughout greater Southeastern San Diego.
URL:https://projectnewvillage.org/event/peoples-produce-thrive-lemon-grove-farmers-market/2027-02-25/
LOCATION:Treganza Heritage Parrk\, 3200 Main St.\, Lemon Grove\, CA\, 91945\, United States
CATEGORIES:Farmers Market
ATTACH;FMTTYPE=image/jpeg:https://projectnewvillage.org/wp-content/uploads/2024/06/MFM-NatCity1.jpg
END:VEVENT
BEGIN:VEVENT
DTSTART;TZID=America/Los_Angeles:20270226T090000
DTEND;TZID=America/Los_Angeles:20270226T120000
DTSTAMP:20260424T042036
CREATED:20260105T165732Z
LAST-MODIFIED:20260105T165732Z
UID:10002994-1803632400-1803643200@projectnewvillage.org
SUMMARY:Volunteer Hours @ Morse High School
DESCRIPTION:Weekly volunteer hours at our Rooted Resources garden spaces. Open to all in the community – no equipment or experience needed.
URL:https://projectnewvillage.org/event/volunteer-hours-morse-high-school-2/2027-02-26/
LOCATION:Morse High School\, 6905 Skyline Drive\, San Diego\, CA\, 92114\, United States
CATEGORIES:Volunteer Hours
ATTACH;FMTTYPE=image/png:https://projectnewvillage.org/wp-content/uploads/2026/01/MORSE-weekly-volunteer-hours.png
END:VEVENT
BEGIN:VEVENT
DTSTART;TZID=UTC:20270226T110000
DTEND;TZID=UTC:20270226T130000
DTSTAMP:20260424T042036
CREATED:20240605T085941Z
LAST-MODIFIED:20250109T163925Z
UID:10001046-1803639600-1803646800@projectnewvillage.org
SUMMARY:People's Produce @ Brooks Huffman Plaza
DESCRIPTION:Mobile farmers truck bringing fresh\, locally grown produce to neighborhoods throughout greater Southeastern San Diego.
URL:https://projectnewvillage.org/event/peoples-produce-brooks-huffman-plaza/2027-02-26/
LOCATION:Four Corners of Life\, Imperial & Euclid\, San Diego\, CA\, 92114\, United States
CATEGORIES:Farmers Market
ATTACH;FMTTYPE=image/jpeg:https://projectnewvillage.org/wp-content/uploads/2024/06/MFM-NatCity1.jpg
END:VEVENT
BEGIN:VEVENT
DTSTART;TZID=America/Los_Angeles:20270226T143000
DTEND;TZID=America/Los_Angeles:20270226T163000
DTSTAMP:20260424T042036
CREATED:20241030T204024Z
LAST-MODIFIED:20250109T164016Z
UID:10001800-1803652200-1803659400@projectnewvillage.org
SUMMARY:People's Produce @ Encanto Village
DESCRIPTION:Mobile farmers truck bringing fresh\, locally grown produce to neighborhoods throughout greater Southeastern San Diego.
URL:https://projectnewvillage.org/event/peoples-produce-encanto-village/2027-02-26/
LOCATION:Encanto Village\, 6315 Imperial Ave.\, San Diego\, CA\, 92114\, United States
CATEGORIES:Farmers Market
ATTACH;FMTTYPE=image/jpeg:https://projectnewvillage.org/wp-content/uploads/2024/06/MFM-NatCity1.jpg
END:VEVENT
BEGIN:VEVENT
DTSTART;TZID=America/Los_Angeles:20270227T100000
DTEND;TZID=America/Los_Angeles:20270227T120000
DTSTAMP:20260424T042036
CREATED:20240805T182943Z
LAST-MODIFIED:20241220T232607Z
UID:10001388-1803722400-1803729600@projectnewvillage.org
SUMMARY:People's Produce @ Mtn. View Community Center
DESCRIPTION:Mobile farmers truck bringing fresh\, locally grown produce to neighborhoods throughout greater Southeastern San Diego.
URL:https://projectnewvillage.org/event/peoples-produce-mtn-view-community-center/2027-02-27/
LOCATION:Mountain View Community Center\, 641 Boundary St.\, San Diego\, CA\, 92113\, United States
CATEGORIES:Farmers Market
ATTACH;FMTTYPE=image/jpeg:https://projectnewvillage.org/wp-content/uploads/2024/05/Improve.jpg
END:VEVENT
BEGIN:VEVENT
DTSTART;TZID=America/Los_Angeles:20270303T100000
DTEND;TZID=America/Los_Angeles:20270303T120000
DTSTAMP:20260424T042036
CREATED:20260105T165854Z
LAST-MODIFIED:20260105T165854Z
UID:10003256-1804068000-1804075200@projectnewvillage.org
SUMMARY:Volunteer Hours @ Mt. Hope Community Garden
DESCRIPTION:Weekly volunteer hours at our Rooted Resources garden spaces. Open to all in the community – no equipment or experience needed.
URL:https://projectnewvillage.org/event/volunteer-hours-mt-hope-community-garden/2027-03-03/
LOCATION:Mt. Hope Community Garden\, 4269 Market St.\, San Diego\, CA\, 92102\, United States
CATEGORIES:Volunteer Hours
ATTACH;FMTTYPE=image/png:https://projectnewvillage.org/wp-content/uploads/2026/01/MT-HOPE-weekly-volunteer-hours.png
END:VEVENT
BEGIN:VEVENT
DTSTART;TZID=UTC:20270303T110000
DTEND;TZID=UTC:20270303T130000
DTSTAMP:20260424T042036
CREATED:20240605T085037Z
LAST-MODIFIED:20241220T232503Z
UID:10000264-1804071600-1804078800@projectnewvillage.org
SUMMARY:People’s Produce @ Mt. Hope Community Garden
DESCRIPTION:Mobile farmers truck bringing fresh\, locally grown produce to neighborhoods throughout greater Southeastern San Diego. Champions for Health will be at this market providing free health screenings and vaccinations to community members.
URL:https://projectnewvillage.org/event/peoples-produce-mt-hope-community-garden/2027-03-03/
LOCATION:Mt. Hope Community Garden\, 4269 Market St.\, San Diego\, CA\, 92102\, United States
CATEGORIES:Farmers Market
ATTACH;FMTTYPE=image/jpeg:https://projectnewvillage.org/wp-content/uploads/2024/05/Improve.jpg
END:VEVENT
BEGIN:VEVENT
DTSTART;TZID=America/Los_Angeles:20270303T150000
DTEND;TZID=America/Los_Angeles:20270303T170000
DTSTAMP:20260424T042036
CREATED:20240805T183711Z
LAST-MODIFIED:20251224T162037Z
UID:10001552-1804086000-1804093200@projectnewvillage.org
SUMMARY:People's Produce @ Morse High School
DESCRIPTION:
URL:https://projectnewvillage.org/event/peoples-produce-morse-high-school/2027-03-03/
LOCATION:Morse High School\, 6905 Skyline Drive\, San Diego\, CA\, 92114\, United States
CATEGORIES:Farmers Market
ATTACH;FMTTYPE=image/jpeg:https://projectnewvillage.org/wp-content/uploads/2024/05/Improve.jpg
END:VEVENT
BEGIN:VEVENT
DTSTART;TZID=America/Los_Angeles:20270303T150000
DTEND;TZID=America/Los_Angeles:20270303T170000
DTSTAMP:20260424T042036
CREATED:20260105T165612Z
LAST-MODIFIED:20260105T165612Z
UID:10002734-1804086000-1804093200@projectnewvillage.org
SUMMARY:Volunteer Hours @ Morse High School
DESCRIPTION:Weekly volunteer hours at our Rooted Resources garden spaces. Open to all in the community – no equipment or experience needed.
URL:https://projectnewvillage.org/event/volunteer-hours-morse-high-school/2027-03-03/
LOCATION:Morse High School\, 6905 Skyline Drive\, San Diego\, CA\, 92114\, United States
CATEGORIES:Volunteer Hours
ATTACH;FMTTYPE=image/png:https://projectnewvillage.org/wp-content/uploads/2026/01/MORSE-weekly-volunteer-hours.png
END:VEVENT
BEGIN:VEVENT
DTSTART;TZID=UTC:20270304T090000
DTEND;TZID=UTC:20270304T110000
DTSTAMP:20260424T042036
CREATED:20240605T085319Z
LAST-MODIFIED:20251224T162147Z
UID:10000525-1804150800-1804158000@projectnewvillage.org
SUMMARY:People's Produce @ ECC Campus
DESCRIPTION:Mobile farmers truck bringing fresh\, locally grown produce to neighborhoods throughout greater Southeastern San Diego.
URL:https://projectnewvillage.org/event/peoples-produce-ecc-campus/2027-03-04/
LOCATION:ECC Campus\, 4343 Ocean View Blvd.\, San Diego\, CA\, 92113\, United States
CATEGORIES:Farmers Market
ATTACH;FMTTYPE=image/jpeg:https://projectnewvillage.org/wp-content/uploads/2024/06/MFM-NatCity1.jpg
END:VEVENT
END:VCALENDAR