BEGIN:VCALENDAR
VERSION:2.0
PRODID:-//Project New Village - ECPv6.15.20//NONSGML v1.0//EN
CALSCALE:GREGORIAN
METHOD:PUBLISH
X-WR-CALNAME:Project New Village
X-ORIGINAL-URL:https://projectnewvillage.org
X-WR-CALDESC:Events for Project New Village
REFRESH-INTERVAL;VALUE=DURATION:PT1H
X-Robots-Tag:noindex
X-PUBLISHED-TTL:PT1H
BEGIN:VTIMEZONE
TZID:America/Los_Angeles
BEGIN:DAYLIGHT
TZOFFSETFROM:-0800
TZOFFSETTO:-0700
TZNAME:PDT
DTSTART:20230312T100000
END:DAYLIGHT
BEGIN:STANDARD
TZOFFSETFROM:-0700
TZOFFSETTO:-0800
TZNAME:PST
DTSTART:20231105T090000
END:STANDARD
BEGIN:DAYLIGHT
TZOFFSETFROM:-0800
TZOFFSETTO:-0700
TZNAME:PDT
DTSTART:20240310T100000
END:DAYLIGHT
BEGIN:STANDARD
TZOFFSETFROM:-0700
TZOFFSETTO:-0800
TZNAME:PST
DTSTART:20241103T090000
END:STANDARD
BEGIN:DAYLIGHT
TZOFFSETFROM:-0800
TZOFFSETTO:-0700
TZNAME:PDT
DTSTART:20250309T100000
END:DAYLIGHT
BEGIN:STANDARD
TZOFFSETFROM:-0700
TZOFFSETTO:-0800
TZNAME:PST
DTSTART:20251102T090000
END:STANDARD
END:VTIMEZONE
BEGIN:VEVENT
DTSTART;TZID=America/Los_Angeles:20240824T090000
DTEND;TZID=America/Los_Angeles:20240824T130000
DTSTAMP:20260423T112527
CREATED:20240731T200727Z
LAST-MODIFIED:20240731T200729Z
UID:10001237-1724490000-1724504400@projectnewvillage.org
SUMMARY:2024 Health & Healing Summerfest
DESCRIPTION:A FREE community event that connects community to traditional and sustainable pathways for wellness. This year’s event will feature community resource vendors\, fun family activities\, a main stage with wellness presentations\, mindful movement workshops\, food and refreshsments\, and a free swag bag full of goodies and wellness resource tools. Please be sure register for this amazing FREE event! Go to https://bit.ly/2024Summerfest-RSVP – all registered attendees will receive a FREE lunch and a swag bag full of FREE goodies and wellness resource tools!
URL:https://projectnewvillage.org/event/2024-health-healing-summerfest/
LOCATION:ECC Campus\, 4343 Ocean View Blvd.\, San Diego\, CA\, 92113\, United States
CATEGORIES:Special Event
ATTACH;FMTTYPE=image/png:https://projectnewvillage.org/wp-content/uploads/2024/07/2024_Summerfest_Handbill_English.png
ORGANIZER;CN="Project New Village":MAILTO:info@projectnewvillage.org
END:VEVENT
END:VCALENDAR