BEGIN:VCALENDAR
VERSION:2.0
PRODID:-//Project New Village - ECPv6.15.20//NONSGML v1.0//EN
CALSCALE:GREGORIAN
METHOD:PUBLISH
X-WR-CALNAME:Project New Village
X-ORIGINAL-URL:https://projectnewvillage.org
X-WR-CALDESC:Events for Project New Village
REFRESH-INTERVAL;VALUE=DURATION:PT1H
X-Robots-Tag:noindex
X-PUBLISHED-TTL:PT1H
BEGIN:VTIMEZONE
TZID:UTC
BEGIN:STANDARD
TZOFFSETFROM:+0000
TZOFFSETTO:+0000
TZNAME:UTC
DTSTART:20280101T000000
END:STANDARD
END:VTIMEZONE
BEGIN:VEVENT
DTSTART;TZID=UTC:20290719T090000
DTEND;TZID=UTC:20290719T110000
DTSTAMP:20260423T231424
CREATED:20240605T085319Z
LAST-MODIFIED:20251224T162147Z
UID:10002015-1879146000-1879153200@projectnewvillage.org
SUMMARY:People's Produce @ ECC Campus
DESCRIPTION:Mobile farmers truck bringing fresh\, locally grown produce to neighborhoods throughout greater Southeastern San Diego.
URL:https://projectnewvillage.org/event/peoples-produce-ecc-campus/2029-07-19/
LOCATION:ECC Campus\, 4343 Ocean View Blvd.\, San Diego\, CA\, 92113\, United States
CATEGORIES:Farmers Market
ATTACH;FMTTYPE=image/jpeg:https://projectnewvillage.org/wp-content/uploads/2024/06/MFM-NatCity1.jpg
END:VEVENT
BEGIN:VEVENT
DTSTART;TZID=UTC:20290726T090000
DTEND;TZID=UTC:20290726T110000
DTSTAMP:20260423T231424
CREATED:20240605T085319Z
LAST-MODIFIED:20251224T162147Z
UID:10002016-1879750800-1879758000@projectnewvillage.org
SUMMARY:People's Produce @ ECC Campus
DESCRIPTION:Mobile farmers truck bringing fresh\, locally grown produce to neighborhoods throughout greater Southeastern San Diego.
URL:https://projectnewvillage.org/event/peoples-produce-ecc-campus/2029-07-26/
LOCATION:ECC Campus\, 4343 Ocean View Blvd.\, San Diego\, CA\, 92113\, United States
CATEGORIES:Farmers Market
ATTACH;FMTTYPE=image/jpeg:https://projectnewvillage.org/wp-content/uploads/2024/06/MFM-NatCity1.jpg
END:VEVENT
BEGIN:VEVENT
DTSTART;TZID=UTC:20290802T090000
DTEND;TZID=UTC:20290802T110000
DTSTAMP:20260423T231424
CREATED:20240605T085319Z
LAST-MODIFIED:20251224T162147Z
UID:10002017-1880355600-1880362800@projectnewvillage.org
SUMMARY:People's Produce @ ECC Campus
DESCRIPTION:Mobile farmers truck bringing fresh\, locally grown produce to neighborhoods throughout greater Southeastern San Diego.
URL:https://projectnewvillage.org/event/peoples-produce-ecc-campus/2029-08-02/
LOCATION:ECC Campus\, 4343 Ocean View Blvd.\, San Diego\, CA\, 92113\, United States
CATEGORIES:Farmers Market
ATTACH;FMTTYPE=image/jpeg:https://projectnewvillage.org/wp-content/uploads/2024/06/MFM-NatCity1.jpg
END:VEVENT
BEGIN:VEVENT
DTSTART;TZID=UTC:20290809T090000
DTEND;TZID=UTC:20290809T110000
DTSTAMP:20260423T231424
CREATED:20240605T085319Z
LAST-MODIFIED:20251224T162147Z
UID:10002018-1880960400-1880967600@projectnewvillage.org
SUMMARY:People's Produce @ ECC Campus
DESCRIPTION:Mobile farmers truck bringing fresh\, locally grown produce to neighborhoods throughout greater Southeastern San Diego.
URL:https://projectnewvillage.org/event/peoples-produce-ecc-campus/2029-08-09/
LOCATION:ECC Campus\, 4343 Ocean View Blvd.\, San Diego\, CA\, 92113\, United States
CATEGORIES:Farmers Market
ATTACH;FMTTYPE=image/jpeg:https://projectnewvillage.org/wp-content/uploads/2024/06/MFM-NatCity1.jpg
END:VEVENT
BEGIN:VEVENT
DTSTART;TZID=UTC:20290816T090000
DTEND;TZID=UTC:20290816T110000
DTSTAMP:20260423T231424
CREATED:20240605T085319Z
LAST-MODIFIED:20251224T162147Z
UID:10002019-1881565200-1881572400@projectnewvillage.org
SUMMARY:People's Produce @ ECC Campus
DESCRIPTION:Mobile farmers truck bringing fresh\, locally grown produce to neighborhoods throughout greater Southeastern San Diego.
URL:https://projectnewvillage.org/event/peoples-produce-ecc-campus/2029-08-16/
LOCATION:ECC Campus\, 4343 Ocean View Blvd.\, San Diego\, CA\, 92113\, United States
CATEGORIES:Farmers Market
ATTACH;FMTTYPE=image/jpeg:https://projectnewvillage.org/wp-content/uploads/2024/06/MFM-NatCity1.jpg
END:VEVENT
BEGIN:VEVENT
DTSTART;TZID=UTC:20290823T090000
DTEND;TZID=UTC:20290823T110000
DTSTAMP:20260423T231424
CREATED:20240605T085319Z
LAST-MODIFIED:20251224T162147Z
UID:10002020-1882170000-1882177200@projectnewvillage.org
SUMMARY:People's Produce @ ECC Campus
DESCRIPTION:Mobile farmers truck bringing fresh\, locally grown produce to neighborhoods throughout greater Southeastern San Diego.
URL:https://projectnewvillage.org/event/peoples-produce-ecc-campus/2029-08-23/
LOCATION:ECC Campus\, 4343 Ocean View Blvd.\, San Diego\, CA\, 92113\, United States
CATEGORIES:Farmers Market
ATTACH;FMTTYPE=image/jpeg:https://projectnewvillage.org/wp-content/uploads/2024/06/MFM-NatCity1.jpg
END:VEVENT
BEGIN:VEVENT
DTSTART;TZID=UTC:20290830T090000
DTEND;TZID=UTC:20290830T110000
DTSTAMP:20260423T231424
CREATED:20240605T085319Z
LAST-MODIFIED:20251224T162147Z
UID:10002021-1882774800-1882782000@projectnewvillage.org
SUMMARY:People's Produce @ ECC Campus
DESCRIPTION:Mobile farmers truck bringing fresh\, locally grown produce to neighborhoods throughout greater Southeastern San Diego.
URL:https://projectnewvillage.org/event/peoples-produce-ecc-campus/2029-08-30/
LOCATION:ECC Campus\, 4343 Ocean View Blvd.\, San Diego\, CA\, 92113\, United States
CATEGORIES:Farmers Market
ATTACH;FMTTYPE=image/jpeg:https://projectnewvillage.org/wp-content/uploads/2024/06/MFM-NatCity1.jpg
END:VEVENT
BEGIN:VEVENT
DTSTART;TZID=UTC:20290906T090000
DTEND;TZID=UTC:20290906T110000
DTSTAMP:20260423T231424
CREATED:20240605T085319Z
LAST-MODIFIED:20251224T162147Z
UID:10002022-1883379600-1883386800@projectnewvillage.org
SUMMARY:People's Produce @ ECC Campus
DESCRIPTION:Mobile farmers truck bringing fresh\, locally grown produce to neighborhoods throughout greater Southeastern San Diego.
URL:https://projectnewvillage.org/event/peoples-produce-ecc-campus/2029-09-06/
LOCATION:ECC Campus\, 4343 Ocean View Blvd.\, San Diego\, CA\, 92113\, United States
CATEGORIES:Farmers Market
ATTACH;FMTTYPE=image/jpeg:https://projectnewvillage.org/wp-content/uploads/2024/06/MFM-NatCity1.jpg
END:VEVENT
BEGIN:VEVENT
DTSTART;TZID=UTC:20290913T090000
DTEND;TZID=UTC:20290913T110000
DTSTAMP:20260423T231424
CREATED:20240605T085319Z
LAST-MODIFIED:20251224T162147Z
UID:10002023-1883984400-1883991600@projectnewvillage.org
SUMMARY:People's Produce @ ECC Campus
DESCRIPTION:Mobile farmers truck bringing fresh\, locally grown produce to neighborhoods throughout greater Southeastern San Diego.
URL:https://projectnewvillage.org/event/peoples-produce-ecc-campus/2029-09-13/
LOCATION:ECC Campus\, 4343 Ocean View Blvd.\, San Diego\, CA\, 92113\, United States
CATEGORIES:Farmers Market
ATTACH;FMTTYPE=image/jpeg:https://projectnewvillage.org/wp-content/uploads/2024/06/MFM-NatCity1.jpg
END:VEVENT
BEGIN:VEVENT
DTSTART;TZID=UTC:20290920T090000
DTEND;TZID=UTC:20290920T110000
DTSTAMP:20260423T231424
CREATED:20240605T085319Z
LAST-MODIFIED:20251224T162147Z
UID:10002024-1884589200-1884596400@projectnewvillage.org
SUMMARY:People's Produce @ ECC Campus
DESCRIPTION:Mobile farmers truck bringing fresh\, locally grown produce to neighborhoods throughout greater Southeastern San Diego.
URL:https://projectnewvillage.org/event/peoples-produce-ecc-campus/2029-09-20/
LOCATION:ECC Campus\, 4343 Ocean View Blvd.\, San Diego\, CA\, 92113\, United States
CATEGORIES:Farmers Market
ATTACH;FMTTYPE=image/jpeg:https://projectnewvillage.org/wp-content/uploads/2024/06/MFM-NatCity1.jpg
END:VEVENT
BEGIN:VEVENT
DTSTART;TZID=UTC:20290927T090000
DTEND;TZID=UTC:20290927T110000
DTSTAMP:20260423T231424
CREATED:20240605T085319Z
LAST-MODIFIED:20251224T162147Z
UID:10002025-1885194000-1885201200@projectnewvillage.org
SUMMARY:People's Produce @ ECC Campus
DESCRIPTION:Mobile farmers truck bringing fresh\, locally grown produce to neighborhoods throughout greater Southeastern San Diego.
URL:https://projectnewvillage.org/event/peoples-produce-ecc-campus/2029-09-27/
LOCATION:ECC Campus\, 4343 Ocean View Blvd.\, San Diego\, CA\, 92113\, United States
CATEGORIES:Farmers Market
ATTACH;FMTTYPE=image/jpeg:https://projectnewvillage.org/wp-content/uploads/2024/06/MFM-NatCity1.jpg
END:VEVENT
BEGIN:VEVENT
DTSTART;TZID=UTC:20291004T090000
DTEND;TZID=UTC:20291004T110000
DTSTAMP:20260423T231424
CREATED:20240605T085319Z
LAST-MODIFIED:20251224T162147Z
UID:10002026-1885798800-1885806000@projectnewvillage.org
SUMMARY:People's Produce @ ECC Campus
DESCRIPTION:Mobile farmers truck bringing fresh\, locally grown produce to neighborhoods throughout greater Southeastern San Diego.
URL:https://projectnewvillage.org/event/peoples-produce-ecc-campus/2029-10-04/
LOCATION:ECC Campus\, 4343 Ocean View Blvd.\, San Diego\, CA\, 92113\, United States
CATEGORIES:Farmers Market
ATTACH;FMTTYPE=image/jpeg:https://projectnewvillage.org/wp-content/uploads/2024/06/MFM-NatCity1.jpg
END:VEVENT
BEGIN:VEVENT
DTSTART;TZID=UTC:20291011T090000
DTEND;TZID=UTC:20291011T110000
DTSTAMP:20260423T231424
CREATED:20240605T085319Z
LAST-MODIFIED:20251224T162147Z
UID:10002027-1886403600-1886410800@projectnewvillage.org
SUMMARY:People's Produce @ ECC Campus
DESCRIPTION:Mobile farmers truck bringing fresh\, locally grown produce to neighborhoods throughout greater Southeastern San Diego.
URL:https://projectnewvillage.org/event/peoples-produce-ecc-campus/2029-10-11/
LOCATION:ECC Campus\, 4343 Ocean View Blvd.\, San Diego\, CA\, 92113\, United States
CATEGORIES:Farmers Market
ATTACH;FMTTYPE=image/jpeg:https://projectnewvillage.org/wp-content/uploads/2024/06/MFM-NatCity1.jpg
END:VEVENT
BEGIN:VEVENT
DTSTART;TZID=UTC:20291018T090000
DTEND;TZID=UTC:20291018T110000
DTSTAMP:20260423T231424
CREATED:20240605T085319Z
LAST-MODIFIED:20251224T162147Z
UID:10002028-1887008400-1887015600@projectnewvillage.org
SUMMARY:People's Produce @ ECC Campus
DESCRIPTION:Mobile farmers truck bringing fresh\, locally grown produce to neighborhoods throughout greater Southeastern San Diego.
URL:https://projectnewvillage.org/event/peoples-produce-ecc-campus/2029-10-18/
LOCATION:ECC Campus\, 4343 Ocean View Blvd.\, San Diego\, CA\, 92113\, United States
CATEGORIES:Farmers Market
ATTACH;FMTTYPE=image/jpeg:https://projectnewvillage.org/wp-content/uploads/2024/06/MFM-NatCity1.jpg
END:VEVENT
BEGIN:VEVENT
DTSTART;TZID=UTC:20291025T090000
DTEND;TZID=UTC:20291025T110000
DTSTAMP:20260423T231424
CREATED:20240605T085319Z
LAST-MODIFIED:20251224T162147Z
UID:10002029-1887613200-1887620400@projectnewvillage.org
SUMMARY:People's Produce @ ECC Campus
DESCRIPTION:Mobile farmers truck bringing fresh\, locally grown produce to neighborhoods throughout greater Southeastern San Diego.
URL:https://projectnewvillage.org/event/peoples-produce-ecc-campus/2029-10-25/
LOCATION:ECC Campus\, 4343 Ocean View Blvd.\, San Diego\, CA\, 92113\, United States
CATEGORIES:Farmers Market
ATTACH;FMTTYPE=image/jpeg:https://projectnewvillage.org/wp-content/uploads/2024/06/MFM-NatCity1.jpg
END:VEVENT
BEGIN:VEVENT
DTSTART;TZID=UTC:20291101T090000
DTEND;TZID=UTC:20291101T110000
DTSTAMP:20260423T231424
CREATED:20240605T085319Z
LAST-MODIFIED:20251224T162147Z
UID:10002104-1888218000-1888225200@projectnewvillage.org
SUMMARY:People's Produce @ ECC Campus
DESCRIPTION:Mobile farmers truck bringing fresh\, locally grown produce to neighborhoods throughout greater Southeastern San Diego.
URL:https://projectnewvillage.org/event/peoples-produce-ecc-campus/2029-11-01/
LOCATION:ECC Campus\, 4343 Ocean View Blvd.\, San Diego\, CA\, 92113\, United States
CATEGORIES:Farmers Market
ATTACH;FMTTYPE=image/jpeg:https://projectnewvillage.org/wp-content/uploads/2024/06/MFM-NatCity1.jpg
END:VEVENT
BEGIN:VEVENT
DTSTART;TZID=UTC:20291108T090000
DTEND;TZID=UTC:20291108T110000
DTSTAMP:20260423T231424
CREATED:20240605T085319Z
LAST-MODIFIED:20251224T162147Z
UID:10002105-1888822800-1888830000@projectnewvillage.org
SUMMARY:People's Produce @ ECC Campus
DESCRIPTION:Mobile farmers truck bringing fresh\, locally grown produce to neighborhoods throughout greater Southeastern San Diego.
URL:https://projectnewvillage.org/event/peoples-produce-ecc-campus/2029-11-08/
LOCATION:ECC Campus\, 4343 Ocean View Blvd.\, San Diego\, CA\, 92113\, United States
CATEGORIES:Farmers Market
ATTACH;FMTTYPE=image/jpeg:https://projectnewvillage.org/wp-content/uploads/2024/06/MFM-NatCity1.jpg
END:VEVENT
BEGIN:VEVENT
DTSTART;TZID=UTC:20291115T090000
DTEND;TZID=UTC:20291115T110000
DTSTAMP:20260423T231424
CREATED:20240605T085319Z
LAST-MODIFIED:20251224T162147Z
UID:10002106-1889427600-1889434800@projectnewvillage.org
SUMMARY:People's Produce @ ECC Campus
DESCRIPTION:Mobile farmers truck bringing fresh\, locally grown produce to neighborhoods throughout greater Southeastern San Diego.
URL:https://projectnewvillage.org/event/peoples-produce-ecc-campus/2029-11-15/
LOCATION:ECC Campus\, 4343 Ocean View Blvd.\, San Diego\, CA\, 92113\, United States
CATEGORIES:Farmers Market
ATTACH;FMTTYPE=image/jpeg:https://projectnewvillage.org/wp-content/uploads/2024/06/MFM-NatCity1.jpg
END:VEVENT
BEGIN:VEVENT
DTSTART;TZID=UTC:20291122T090000
DTEND;TZID=UTC:20291122T110000
DTSTAMP:20260423T231424
CREATED:20240605T085319Z
LAST-MODIFIED:20251224T162147Z
UID:10002107-1890032400-1890039600@projectnewvillage.org
SUMMARY:People's Produce @ ECC Campus
DESCRIPTION:Mobile farmers truck bringing fresh\, locally grown produce to neighborhoods throughout greater Southeastern San Diego.
URL:https://projectnewvillage.org/event/peoples-produce-ecc-campus/2029-11-22/
LOCATION:ECC Campus\, 4343 Ocean View Blvd.\, San Diego\, CA\, 92113\, United States
CATEGORIES:Farmers Market
ATTACH;FMTTYPE=image/jpeg:https://projectnewvillage.org/wp-content/uploads/2024/06/MFM-NatCity1.jpg
END:VEVENT
BEGIN:VEVENT
DTSTART;TZID=UTC:20291129T090000
DTEND;TZID=UTC:20291129T110000
DTSTAMP:20260423T231424
CREATED:20240605T085319Z
LAST-MODIFIED:20251224T162147Z
UID:10002108-1890637200-1890644400@projectnewvillage.org
SUMMARY:People's Produce @ ECC Campus
DESCRIPTION:Mobile farmers truck bringing fresh\, locally grown produce to neighborhoods throughout greater Southeastern San Diego.
URL:https://projectnewvillage.org/event/peoples-produce-ecc-campus/2029-11-29/
LOCATION:ECC Campus\, 4343 Ocean View Blvd.\, San Diego\, CA\, 92113\, United States
CATEGORIES:Farmers Market
ATTACH;FMTTYPE=image/jpeg:https://projectnewvillage.org/wp-content/uploads/2024/06/MFM-NatCity1.jpg
END:VEVENT
BEGIN:VEVENT
DTSTART;TZID=UTC:20291206T090000
DTEND;TZID=UTC:20291206T110000
DTSTAMP:20260423T231424
CREATED:20240605T085319Z
LAST-MODIFIED:20251224T162147Z
UID:10002109-1891242000-1891249200@projectnewvillage.org
SUMMARY:People's Produce @ ECC Campus
DESCRIPTION:Mobile farmers truck bringing fresh\, locally grown produce to neighborhoods throughout greater Southeastern San Diego.
URL:https://projectnewvillage.org/event/peoples-produce-ecc-campus/2029-12-06/
LOCATION:ECC Campus\, 4343 Ocean View Blvd.\, San Diego\, CA\, 92113\, United States
CATEGORIES:Farmers Market
ATTACH;FMTTYPE=image/jpeg:https://projectnewvillage.org/wp-content/uploads/2024/06/MFM-NatCity1.jpg
END:VEVENT
BEGIN:VEVENT
DTSTART;TZID=UTC:20291213T090000
DTEND;TZID=UTC:20291213T110000
DTSTAMP:20260423T231424
CREATED:20240605T085319Z
LAST-MODIFIED:20251224T162147Z
UID:10002110-1891846800-1891854000@projectnewvillage.org
SUMMARY:People's Produce @ ECC Campus
DESCRIPTION:Mobile farmers truck bringing fresh\, locally grown produce to neighborhoods throughout greater Southeastern San Diego.
URL:https://projectnewvillage.org/event/peoples-produce-ecc-campus/2029-12-13/
LOCATION:ECC Campus\, 4343 Ocean View Blvd.\, San Diego\, CA\, 92113\, United States
CATEGORIES:Farmers Market
ATTACH;FMTTYPE=image/jpeg:https://projectnewvillage.org/wp-content/uploads/2024/06/MFM-NatCity1.jpg
END:VEVENT
BEGIN:VEVENT
DTSTART;TZID=UTC:20291220T090000
DTEND;TZID=UTC:20291220T110000
DTSTAMP:20260423T231424
CREATED:20240605T085319Z
LAST-MODIFIED:20251224T162147Z
UID:10002111-1892451600-1892458800@projectnewvillage.org
SUMMARY:People's Produce @ ECC Campus
DESCRIPTION:Mobile farmers truck bringing fresh\, locally grown produce to neighborhoods throughout greater Southeastern San Diego.
URL:https://projectnewvillage.org/event/peoples-produce-ecc-campus/2029-12-20/
LOCATION:ECC Campus\, 4343 Ocean View Blvd.\, San Diego\, CA\, 92113\, United States
CATEGORIES:Farmers Market
ATTACH;FMTTYPE=image/jpeg:https://projectnewvillage.org/wp-content/uploads/2024/06/MFM-NatCity1.jpg
END:VEVENT
BEGIN:VEVENT
DTSTART;TZID=UTC:20291227T090000
DTEND;TZID=UTC:20291227T110000
DTSTAMP:20260423T231424
CREATED:20240605T085319Z
LAST-MODIFIED:20251224T162147Z
UID:10002157-1893056400-1893063600@projectnewvillage.org
SUMMARY:People's Produce @ ECC Campus
DESCRIPTION:Mobile farmers truck bringing fresh\, locally grown produce to neighborhoods throughout greater Southeastern San Diego.
URL:https://projectnewvillage.org/event/peoples-produce-ecc-campus/2029-12-27/
LOCATION:ECC Campus\, 4343 Ocean View Blvd.\, San Diego\, CA\, 92113\, United States
CATEGORIES:Farmers Market
ATTACH;FMTTYPE=image/jpeg:https://projectnewvillage.org/wp-content/uploads/2024/06/MFM-NatCity1.jpg
END:VEVENT
BEGIN:VEVENT
DTSTART;TZID=UTC:20300103T090000
DTEND;TZID=UTC:20300103T110000
DTSTAMP:20260423T231424
CREATED:20240605T085319Z
LAST-MODIFIED:20251224T162147Z
UID:10002158-1893661200-1893668400@projectnewvillage.org
SUMMARY:People's Produce @ ECC Campus
DESCRIPTION:Mobile farmers truck bringing fresh\, locally grown produce to neighborhoods throughout greater Southeastern San Diego.
URL:https://projectnewvillage.org/event/peoples-produce-ecc-campus/2030-01-03/
LOCATION:ECC Campus\, 4343 Ocean View Blvd.\, San Diego\, CA\, 92113\, United States
CATEGORIES:Farmers Market
ATTACH;FMTTYPE=image/jpeg:https://projectnewvillage.org/wp-content/uploads/2024/06/MFM-NatCity1.jpg
END:VEVENT
BEGIN:VEVENT
DTSTART;TZID=UTC:20300110T090000
DTEND;TZID=UTC:20300110T110000
DTSTAMP:20260423T231424
CREATED:20240605T085319Z
LAST-MODIFIED:20251224T162147Z
UID:10002275-1894266000-1894273200@projectnewvillage.org
SUMMARY:People's Produce @ ECC Campus
DESCRIPTION:Mobile farmers truck bringing fresh\, locally grown produce to neighborhoods throughout greater Southeastern San Diego.
URL:https://projectnewvillage.org/event/peoples-produce-ecc-campus/2030-01-10/
LOCATION:ECC Campus\, 4343 Ocean View Blvd.\, San Diego\, CA\, 92113\, United States
CATEGORIES:Farmers Market
ATTACH;FMTTYPE=image/jpeg:https://projectnewvillage.org/wp-content/uploads/2024/06/MFM-NatCity1.jpg
END:VEVENT
BEGIN:VEVENT
DTSTART;TZID=UTC:20300117T090000
DTEND;TZID=UTC:20300117T110000
DTSTAMP:20260423T231424
CREATED:20240605T085319Z
LAST-MODIFIED:20251224T162147Z
UID:10002276-1894870800-1894878000@projectnewvillage.org
SUMMARY:People's Produce @ ECC Campus
DESCRIPTION:Mobile farmers truck bringing fresh\, locally grown produce to neighborhoods throughout greater Southeastern San Diego.
URL:https://projectnewvillage.org/event/peoples-produce-ecc-campus/2030-01-17/
LOCATION:ECC Campus\, 4343 Ocean View Blvd.\, San Diego\, CA\, 92113\, United States
CATEGORIES:Farmers Market
ATTACH;FMTTYPE=image/jpeg:https://projectnewvillage.org/wp-content/uploads/2024/06/MFM-NatCity1.jpg
END:VEVENT
BEGIN:VEVENT
DTSTART;TZID=UTC:20300124T090000
DTEND;TZID=UTC:20300124T110000
DTSTAMP:20260423T231424
CREATED:20240605T085319Z
LAST-MODIFIED:20251224T162147Z
UID:10002277-1895475600-1895482800@projectnewvillage.org
SUMMARY:People's Produce @ ECC Campus
DESCRIPTION:Mobile farmers truck bringing fresh\, locally grown produce to neighborhoods throughout greater Southeastern San Diego.
URL:https://projectnewvillage.org/event/peoples-produce-ecc-campus/2030-01-24/
LOCATION:ECC Campus\, 4343 Ocean View Blvd.\, San Diego\, CA\, 92113\, United States
CATEGORIES:Farmers Market
ATTACH;FMTTYPE=image/jpeg:https://projectnewvillage.org/wp-content/uploads/2024/06/MFM-NatCity1.jpg
END:VEVENT
BEGIN:VEVENT
DTSTART;TZID=UTC:20300131T090000
DTEND;TZID=UTC:20300131T110000
DTSTAMP:20260423T231424
CREATED:20240605T085319Z
LAST-MODIFIED:20251224T162147Z
UID:10002278-1896080400-1896087600@projectnewvillage.org
SUMMARY:People's Produce @ ECC Campus
DESCRIPTION:Mobile farmers truck bringing fresh\, locally grown produce to neighborhoods throughout greater Southeastern San Diego.
URL:https://projectnewvillage.org/event/peoples-produce-ecc-campus/2030-01-31/
LOCATION:ECC Campus\, 4343 Ocean View Blvd.\, San Diego\, CA\, 92113\, United States
CATEGORIES:Farmers Market
ATTACH;FMTTYPE=image/jpeg:https://projectnewvillage.org/wp-content/uploads/2024/06/MFM-NatCity1.jpg
END:VEVENT
BEGIN:VEVENT
DTSTART;TZID=UTC:20300207T090000
DTEND;TZID=UTC:20300207T110000
DTSTAMP:20260423T231424
CREATED:20240605T085319Z
LAST-MODIFIED:20251224T162147Z
UID:10002279-1896685200-1896692400@projectnewvillage.org
SUMMARY:People's Produce @ ECC Campus
DESCRIPTION:Mobile farmers truck bringing fresh\, locally grown produce to neighborhoods throughout greater Southeastern San Diego.
URL:https://projectnewvillage.org/event/peoples-produce-ecc-campus/2030-02-07/
LOCATION:ECC Campus\, 4343 Ocean View Blvd.\, San Diego\, CA\, 92113\, United States
CATEGORIES:Farmers Market
ATTACH;FMTTYPE=image/jpeg:https://projectnewvillage.org/wp-content/uploads/2024/06/MFM-NatCity1.jpg
END:VEVENT
END:VCALENDAR