BEGIN:VCALENDAR
VERSION:2.0
PRODID:-//Project New Village - ECPv6.15.20//NONSGML v1.0//EN
CALSCALE:GREGORIAN
METHOD:PUBLISH
X-ORIGINAL-URL:https://projectnewvillage.org
X-WR-CALDESC:Events for Project New Village
REFRESH-INTERVAL;VALUE=DURATION:PT1H
X-Robots-Tag:noindex
X-PUBLISHED-TTL:PT1H
BEGIN:VTIMEZONE
TZID:America/Los_Angeles
BEGIN:DAYLIGHT
TZOFFSETFROM:-0800
TZOFFSETTO:-0700
TZNAME:PDT
DTSTART:20250309T100000
END:DAYLIGHT
BEGIN:STANDARD
TZOFFSETFROM:-0700
TZOFFSETTO:-0800
TZNAME:PST
DTSTART:20251102T090000
END:STANDARD
BEGIN:DAYLIGHT
TZOFFSETFROM:-0800
TZOFFSETTO:-0700
TZNAME:PDT
DTSTART:20260308T100000
END:DAYLIGHT
BEGIN:STANDARD
TZOFFSETFROM:-0700
TZOFFSETTO:-0800
TZNAME:PST
DTSTART:20261101T090000
END:STANDARD
BEGIN:DAYLIGHT
TZOFFSETFROM:-0800
TZOFFSETTO:-0700
TZNAME:PDT
DTSTART:20270314T100000
END:DAYLIGHT
BEGIN:STANDARD
TZOFFSETFROM:-0700
TZOFFSETTO:-0800
TZNAME:PST
DTSTART:20271107T090000
END:STANDARD
BEGIN:DAYLIGHT
TZOFFSETFROM:-0800
TZOFFSETTO:-0700
TZNAME:PDT
DTSTART:20280312T100000
END:DAYLIGHT
BEGIN:STANDARD
TZOFFSETFROM:-0700
TZOFFSETTO:-0800
TZNAME:PST
DTSTART:20281105T090000
END:STANDARD
END:VTIMEZONE
BEGIN:VEVENT
DTSTART;TZID=America/Los_Angeles:20260717T143000
DTEND;TZID=America/Los_Angeles:20260717T163000
DTSTAMP:20260423T055423
CREATED:20241030T204024Z
LAST-MODIFIED:20250109T164016Z
UID:10001768-1784298600-1784305800@projectnewvillage.org
SUMMARY:People's Produce @ Encanto Village
DESCRIPTION:Mobile farmers truck bringing fresh\, locally grown produce to neighborhoods throughout greater Southeastern San Diego.
URL:https://projectnewvillage.org/event/peoples-produce-encanto-village/2026-07-17/
LOCATION:Encanto Village\, 6315 Imperial Ave.\, San Diego\, CA\, 92114\, United States
CATEGORIES:Farmers Market
ATTACH;FMTTYPE=image/jpeg:https://projectnewvillage.org/wp-content/uploads/2024/06/MFM-NatCity1.jpg
END:VEVENT
BEGIN:VEVENT
DTSTART;TZID=America/Los_Angeles:20260724T143000
DTEND;TZID=America/Los_Angeles:20260724T163000
DTSTAMP:20260423T055423
CREATED:20241030T204024Z
LAST-MODIFIED:20250109T164016Z
UID:10001769-1784903400-1784910600@projectnewvillage.org
SUMMARY:People's Produce @ Encanto Village
DESCRIPTION:Mobile farmers truck bringing fresh\, locally grown produce to neighborhoods throughout greater Southeastern San Diego.
URL:https://projectnewvillage.org/event/peoples-produce-encanto-village/2026-07-24/
LOCATION:Encanto Village\, 6315 Imperial Ave.\, San Diego\, CA\, 92114\, United States
CATEGORIES:Farmers Market
ATTACH;FMTTYPE=image/jpeg:https://projectnewvillage.org/wp-content/uploads/2024/06/MFM-NatCity1.jpg
END:VEVENT
BEGIN:VEVENT
DTSTART;TZID=America/Los_Angeles:20260731T143000
DTEND;TZID=America/Los_Angeles:20260731T163000
DTSTAMP:20260423T055423
CREATED:20241030T204024Z
LAST-MODIFIED:20250109T164016Z
UID:10001770-1785508200-1785515400@projectnewvillage.org
SUMMARY:People's Produce @ Encanto Village
DESCRIPTION:Mobile farmers truck bringing fresh\, locally grown produce to neighborhoods throughout greater Southeastern San Diego.
URL:https://projectnewvillage.org/event/peoples-produce-encanto-village/2026-07-31/
LOCATION:Encanto Village\, 6315 Imperial Ave.\, San Diego\, CA\, 92114\, United States
CATEGORIES:Farmers Market
ATTACH;FMTTYPE=image/jpeg:https://projectnewvillage.org/wp-content/uploads/2024/06/MFM-NatCity1.jpg
END:VEVENT
BEGIN:VEVENT
DTSTART;TZID=America/Los_Angeles:20260807T143000
DTEND;TZID=America/Los_Angeles:20260807T163000
DTSTAMP:20260423T055423
CREATED:20241030T204024Z
LAST-MODIFIED:20250109T164016Z
UID:10001771-1786113000-1786120200@projectnewvillage.org
SUMMARY:People's Produce @ Encanto Village
DESCRIPTION:Mobile farmers truck bringing fresh\, locally grown produce to neighborhoods throughout greater Southeastern San Diego.
URL:https://projectnewvillage.org/event/peoples-produce-encanto-village/2026-08-07/
LOCATION:Encanto Village\, 6315 Imperial Ave.\, San Diego\, CA\, 92114\, United States
CATEGORIES:Farmers Market
ATTACH;FMTTYPE=image/jpeg:https://projectnewvillage.org/wp-content/uploads/2024/06/MFM-NatCity1.jpg
END:VEVENT
BEGIN:VEVENT
DTSTART;TZID=America/Los_Angeles:20260814T143000
DTEND;TZID=America/Los_Angeles:20260814T163000
DTSTAMP:20260423T055423
CREATED:20241030T204024Z
LAST-MODIFIED:20250109T164016Z
UID:10001772-1786717800-1786725000@projectnewvillage.org
SUMMARY:People's Produce @ Encanto Village
DESCRIPTION:Mobile farmers truck bringing fresh\, locally grown produce to neighborhoods throughout greater Southeastern San Diego.
URL:https://projectnewvillage.org/event/peoples-produce-encanto-village/2026-08-14/
LOCATION:Encanto Village\, 6315 Imperial Ave.\, San Diego\, CA\, 92114\, United States
CATEGORIES:Farmers Market
ATTACH;FMTTYPE=image/jpeg:https://projectnewvillage.org/wp-content/uploads/2024/06/MFM-NatCity1.jpg
END:VEVENT
BEGIN:VEVENT
DTSTART;TZID=America/Los_Angeles:20260821T143000
DTEND;TZID=America/Los_Angeles:20260821T163000
DTSTAMP:20260423T055423
CREATED:20241030T204024Z
LAST-MODIFIED:20250109T164016Z
UID:10001773-1787322600-1787329800@projectnewvillage.org
SUMMARY:People's Produce @ Encanto Village
DESCRIPTION:Mobile farmers truck bringing fresh\, locally grown produce to neighborhoods throughout greater Southeastern San Diego.
URL:https://projectnewvillage.org/event/peoples-produce-encanto-village/2026-08-21/
LOCATION:Encanto Village\, 6315 Imperial Ave.\, San Diego\, CA\, 92114\, United States
CATEGORIES:Farmers Market
ATTACH;FMTTYPE=image/jpeg:https://projectnewvillage.org/wp-content/uploads/2024/06/MFM-NatCity1.jpg
END:VEVENT
BEGIN:VEVENT
DTSTART;TZID=America/Los_Angeles:20260828T143000
DTEND;TZID=America/Los_Angeles:20260828T163000
DTSTAMP:20260423T055423
CREATED:20241030T204024Z
LAST-MODIFIED:20250109T164016Z
UID:10001774-1787927400-1787934600@projectnewvillage.org
SUMMARY:People's Produce @ Encanto Village
DESCRIPTION:Mobile farmers truck bringing fresh\, locally grown produce to neighborhoods throughout greater Southeastern San Diego.
URL:https://projectnewvillage.org/event/peoples-produce-encanto-village/2026-08-28/
LOCATION:Encanto Village\, 6315 Imperial Ave.\, San Diego\, CA\, 92114\, United States
CATEGORIES:Farmers Market
ATTACH;FMTTYPE=image/jpeg:https://projectnewvillage.org/wp-content/uploads/2024/06/MFM-NatCity1.jpg
END:VEVENT
BEGIN:VEVENT
DTSTART;TZID=America/Los_Angeles:20260904T143000
DTEND;TZID=America/Los_Angeles:20260904T163000
DTSTAMP:20260423T055423
CREATED:20241030T204024Z
LAST-MODIFIED:20250109T164016Z
UID:10001775-1788532200-1788539400@projectnewvillage.org
SUMMARY:People's Produce @ Encanto Village
DESCRIPTION:Mobile farmers truck bringing fresh\, locally grown produce to neighborhoods throughout greater Southeastern San Diego.
URL:https://projectnewvillage.org/event/peoples-produce-encanto-village/2026-09-04/
LOCATION:Encanto Village\, 6315 Imperial Ave.\, San Diego\, CA\, 92114\, United States
CATEGORIES:Farmers Market
ATTACH;FMTTYPE=image/jpeg:https://projectnewvillage.org/wp-content/uploads/2024/06/MFM-NatCity1.jpg
END:VEVENT
BEGIN:VEVENT
DTSTART;TZID=America/Los_Angeles:20260911T143000
DTEND;TZID=America/Los_Angeles:20260911T163000
DTSTAMP:20260423T055423
CREATED:20241030T204024Z
LAST-MODIFIED:20250109T164016Z
UID:10001776-1789137000-1789144200@projectnewvillage.org
SUMMARY:People's Produce @ Encanto Village
DESCRIPTION:Mobile farmers truck bringing fresh\, locally grown produce to neighborhoods throughout greater Southeastern San Diego.
URL:https://projectnewvillage.org/event/peoples-produce-encanto-village/2026-09-11/
LOCATION:Encanto Village\, 6315 Imperial Ave.\, San Diego\, CA\, 92114\, United States
CATEGORIES:Farmers Market
ATTACH;FMTTYPE=image/jpeg:https://projectnewvillage.org/wp-content/uploads/2024/06/MFM-NatCity1.jpg
END:VEVENT
BEGIN:VEVENT
DTSTART;TZID=America/Los_Angeles:20260918T143000
DTEND;TZID=America/Los_Angeles:20260918T163000
DTSTAMP:20260423T055423
CREATED:20241030T204024Z
LAST-MODIFIED:20250109T164016Z
UID:10001777-1789741800-1789749000@projectnewvillage.org
SUMMARY:People's Produce @ Encanto Village
DESCRIPTION:Mobile farmers truck bringing fresh\, locally grown produce to neighborhoods throughout greater Southeastern San Diego.
URL:https://projectnewvillage.org/event/peoples-produce-encanto-village/2026-09-18/
LOCATION:Encanto Village\, 6315 Imperial Ave.\, San Diego\, CA\, 92114\, United States
CATEGORIES:Farmers Market
ATTACH;FMTTYPE=image/jpeg:https://projectnewvillage.org/wp-content/uploads/2024/06/MFM-NatCity1.jpg
END:VEVENT
BEGIN:VEVENT
DTSTART;TZID=America/Los_Angeles:20260925T143000
DTEND;TZID=America/Los_Angeles:20260925T163000
DTSTAMP:20260423T055423
CREATED:20241030T204024Z
LAST-MODIFIED:20250109T164016Z
UID:10001778-1790346600-1790353800@projectnewvillage.org
SUMMARY:People's Produce @ Encanto Village
DESCRIPTION:Mobile farmers truck bringing fresh\, locally grown produce to neighborhoods throughout greater Southeastern San Diego.
URL:https://projectnewvillage.org/event/peoples-produce-encanto-village/2026-09-25/
LOCATION:Encanto Village\, 6315 Imperial Ave.\, San Diego\, CA\, 92114\, United States
CATEGORIES:Farmers Market
ATTACH;FMTTYPE=image/jpeg:https://projectnewvillage.org/wp-content/uploads/2024/06/MFM-NatCity1.jpg
END:VEVENT
BEGIN:VEVENT
DTSTART;TZID=America/Los_Angeles:20261002T143000
DTEND;TZID=America/Los_Angeles:20261002T163000
DTSTAMP:20260423T055423
CREATED:20241030T204024Z
LAST-MODIFIED:20250109T164016Z
UID:10001779-1790951400-1790958600@projectnewvillage.org
SUMMARY:People's Produce @ Encanto Village
DESCRIPTION:Mobile farmers truck bringing fresh\, locally grown produce to neighborhoods throughout greater Southeastern San Diego.
URL:https://projectnewvillage.org/event/peoples-produce-encanto-village/2026-10-02/
LOCATION:Encanto Village\, 6315 Imperial Ave.\, San Diego\, CA\, 92114\, United States
CATEGORIES:Farmers Market
ATTACH;FMTTYPE=image/jpeg:https://projectnewvillage.org/wp-content/uploads/2024/06/MFM-NatCity1.jpg
END:VEVENT
BEGIN:VEVENT
DTSTART;TZID=America/Los_Angeles:20261009T143000
DTEND;TZID=America/Los_Angeles:20261009T163000
DTSTAMP:20260423T055423
CREATED:20241030T204024Z
LAST-MODIFIED:20250109T164016Z
UID:10001780-1791556200-1791563400@projectnewvillage.org
SUMMARY:People's Produce @ Encanto Village
DESCRIPTION:Mobile farmers truck bringing fresh\, locally grown produce to neighborhoods throughout greater Southeastern San Diego.
URL:https://projectnewvillage.org/event/peoples-produce-encanto-village/2026-10-09/
LOCATION:Encanto Village\, 6315 Imperial Ave.\, San Diego\, CA\, 92114\, United States
CATEGORIES:Farmers Market
ATTACH;FMTTYPE=image/jpeg:https://projectnewvillage.org/wp-content/uploads/2024/06/MFM-NatCity1.jpg
END:VEVENT
BEGIN:VEVENT
DTSTART;TZID=America/Los_Angeles:20261016T143000
DTEND;TZID=America/Los_Angeles:20261016T163000
DTSTAMP:20260423T055423
CREATED:20241030T204024Z
LAST-MODIFIED:20250109T164016Z
UID:10001781-1792161000-1792168200@projectnewvillage.org
SUMMARY:People's Produce @ Encanto Village
DESCRIPTION:Mobile farmers truck bringing fresh\, locally grown produce to neighborhoods throughout greater Southeastern San Diego.
URL:https://projectnewvillage.org/event/peoples-produce-encanto-village/2026-10-16/
LOCATION:Encanto Village\, 6315 Imperial Ave.\, San Diego\, CA\, 92114\, United States
CATEGORIES:Farmers Market
ATTACH;FMTTYPE=image/jpeg:https://projectnewvillage.org/wp-content/uploads/2024/06/MFM-NatCity1.jpg
END:VEVENT
BEGIN:VEVENT
DTSTART;TZID=America/Los_Angeles:20261023T143000
DTEND;TZID=America/Los_Angeles:20261023T163000
DTSTAMP:20260423T055423
CREATED:20241030T204024Z
LAST-MODIFIED:20250109T164016Z
UID:10001782-1792765800-1792773000@projectnewvillage.org
SUMMARY:People's Produce @ Encanto Village
DESCRIPTION:Mobile farmers truck bringing fresh\, locally grown produce to neighborhoods throughout greater Southeastern San Diego.
URL:https://projectnewvillage.org/event/peoples-produce-encanto-village/2026-10-23/
LOCATION:Encanto Village\, 6315 Imperial Ave.\, San Diego\, CA\, 92114\, United States
CATEGORIES:Farmers Market
ATTACH;FMTTYPE=image/jpeg:https://projectnewvillage.org/wp-content/uploads/2024/06/MFM-NatCity1.jpg
END:VEVENT
BEGIN:VEVENT
DTSTART;TZID=America/Los_Angeles:20261030T143000
DTEND;TZID=America/Los_Angeles:20261030T163000
DTSTAMP:20260423T055423
CREATED:20241030T204024Z
LAST-MODIFIED:20250109T164016Z
UID:10001783-1793370600-1793377800@projectnewvillage.org
SUMMARY:People's Produce @ Encanto Village
DESCRIPTION:Mobile farmers truck bringing fresh\, locally grown produce to neighborhoods throughout greater Southeastern San Diego.
URL:https://projectnewvillage.org/event/peoples-produce-encanto-village/2026-10-30/
LOCATION:Encanto Village\, 6315 Imperial Ave.\, San Diego\, CA\, 92114\, United States
CATEGORIES:Farmers Market
ATTACH;FMTTYPE=image/jpeg:https://projectnewvillage.org/wp-content/uploads/2024/06/MFM-NatCity1.jpg
END:VEVENT
BEGIN:VEVENT
DTSTART;TZID=America/Los_Angeles:20261106T143000
DTEND;TZID=America/Los_Angeles:20261106T163000
DTSTAMP:20260423T055423
CREATED:20241030T204024Z
LAST-MODIFIED:20250109T164016Z
UID:10001784-1793975400-1793982600@projectnewvillage.org
SUMMARY:People's Produce @ Encanto Village
DESCRIPTION:Mobile farmers truck bringing fresh\, locally grown produce to neighborhoods throughout greater Southeastern San Diego.
URL:https://projectnewvillage.org/event/peoples-produce-encanto-village/2026-11-06/
LOCATION:Encanto Village\, 6315 Imperial Ave.\, San Diego\, CA\, 92114\, United States
CATEGORIES:Farmers Market
ATTACH;FMTTYPE=image/jpeg:https://projectnewvillage.org/wp-content/uploads/2024/06/MFM-NatCity1.jpg
END:VEVENT
BEGIN:VEVENT
DTSTART;TZID=America/Los_Angeles:20261113T143000
DTEND;TZID=America/Los_Angeles:20261113T163000
DTSTAMP:20260423T055423
CREATED:20241030T204024Z
LAST-MODIFIED:20250109T164016Z
UID:10001785-1794580200-1794587400@projectnewvillage.org
SUMMARY:People's Produce @ Encanto Village
DESCRIPTION:Mobile farmers truck bringing fresh\, locally grown produce to neighborhoods throughout greater Southeastern San Diego.
URL:https://projectnewvillage.org/event/peoples-produce-encanto-village/2026-11-13/
LOCATION:Encanto Village\, 6315 Imperial Ave.\, San Diego\, CA\, 92114\, United States
CATEGORIES:Farmers Market
ATTACH;FMTTYPE=image/jpeg:https://projectnewvillage.org/wp-content/uploads/2024/06/MFM-NatCity1.jpg
END:VEVENT
BEGIN:VEVENT
DTSTART;TZID=America/Los_Angeles:20261120T143000
DTEND;TZID=America/Los_Angeles:20261120T163000
DTSTAMP:20260423T055423
CREATED:20241030T204024Z
LAST-MODIFIED:20250109T164016Z
UID:10001786-1795185000-1795192200@projectnewvillage.org
SUMMARY:People's Produce @ Encanto Village
DESCRIPTION:Mobile farmers truck bringing fresh\, locally grown produce to neighborhoods throughout greater Southeastern San Diego.
URL:https://projectnewvillage.org/event/peoples-produce-encanto-village/2026-11-20/
LOCATION:Encanto Village\, 6315 Imperial Ave.\, San Diego\, CA\, 92114\, United States
CATEGORIES:Farmers Market
ATTACH;FMTTYPE=image/jpeg:https://projectnewvillage.org/wp-content/uploads/2024/06/MFM-NatCity1.jpg
END:VEVENT
BEGIN:VEVENT
DTSTART;TZID=America/Los_Angeles:20261127T143000
DTEND;TZID=America/Los_Angeles:20261127T163000
DTSTAMP:20260423T055423
CREATED:20241030T204024Z
LAST-MODIFIED:20250109T164016Z
UID:10001787-1795789800-1795797000@projectnewvillage.org
SUMMARY:People's Produce @ Encanto Village
DESCRIPTION:Mobile farmers truck bringing fresh\, locally grown produce to neighborhoods throughout greater Southeastern San Diego.
URL:https://projectnewvillage.org/event/peoples-produce-encanto-village/2026-11-27/
LOCATION:Encanto Village\, 6315 Imperial Ave.\, San Diego\, CA\, 92114\, United States
CATEGORIES:Farmers Market
ATTACH;FMTTYPE=image/jpeg:https://projectnewvillage.org/wp-content/uploads/2024/06/MFM-NatCity1.jpg
END:VEVENT
BEGIN:VEVENT
DTSTART;TZID=America/Los_Angeles:20261204T143000
DTEND;TZID=America/Los_Angeles:20261204T163000
DTSTAMP:20260423T055423
CREATED:20241030T204024Z
LAST-MODIFIED:20250109T164016Z
UID:10001788-1796394600-1796401800@projectnewvillage.org
SUMMARY:People's Produce @ Encanto Village
DESCRIPTION:Mobile farmers truck bringing fresh\, locally grown produce to neighborhoods throughout greater Southeastern San Diego.
URL:https://projectnewvillage.org/event/peoples-produce-encanto-village/2026-12-04/
LOCATION:Encanto Village\, 6315 Imperial Ave.\, San Diego\, CA\, 92114\, United States
CATEGORIES:Farmers Market
ATTACH;FMTTYPE=image/jpeg:https://projectnewvillage.org/wp-content/uploads/2024/06/MFM-NatCity1.jpg
END:VEVENT
BEGIN:VEVENT
DTSTART;TZID=America/Los_Angeles:20261211T143000
DTEND;TZID=America/Los_Angeles:20261211T163000
DTSTAMP:20260423T055423
CREATED:20241030T204024Z
LAST-MODIFIED:20250109T164016Z
UID:10001789-1796999400-1797006600@projectnewvillage.org
SUMMARY:People's Produce @ Encanto Village
DESCRIPTION:Mobile farmers truck bringing fresh\, locally grown produce to neighborhoods throughout greater Southeastern San Diego.
URL:https://projectnewvillage.org/event/peoples-produce-encanto-village/2026-12-11/
LOCATION:Encanto Village\, 6315 Imperial Ave.\, San Diego\, CA\, 92114\, United States
CATEGORIES:Farmers Market
ATTACH;FMTTYPE=image/jpeg:https://projectnewvillage.org/wp-content/uploads/2024/06/MFM-NatCity1.jpg
END:VEVENT
BEGIN:VEVENT
DTSTART;TZID=America/Los_Angeles:20261218T143000
DTEND;TZID=America/Los_Angeles:20261218T163000
DTSTAMP:20260423T055423
CREATED:20241030T204024Z
LAST-MODIFIED:20250109T164016Z
UID:10001790-1797604200-1797611400@projectnewvillage.org
SUMMARY:People's Produce @ Encanto Village
DESCRIPTION:Mobile farmers truck bringing fresh\, locally grown produce to neighborhoods throughout greater Southeastern San Diego.
URL:https://projectnewvillage.org/event/peoples-produce-encanto-village/2026-12-18/
LOCATION:Encanto Village\, 6315 Imperial Ave.\, San Diego\, CA\, 92114\, United States
CATEGORIES:Farmers Market
ATTACH;FMTTYPE=image/jpeg:https://projectnewvillage.org/wp-content/uploads/2024/06/MFM-NatCity1.jpg
END:VEVENT
BEGIN:VEVENT
DTSTART;TZID=America/Los_Angeles:20261225T143000
DTEND;TZID=America/Los_Angeles:20261225T163000
DTSTAMP:20260423T055423
CREATED:20241030T204024Z
LAST-MODIFIED:20250109T164016Z
UID:10001791-1798209000-1798216200@projectnewvillage.org
SUMMARY:People's Produce @ Encanto Village
DESCRIPTION:Mobile farmers truck bringing fresh\, locally grown produce to neighborhoods throughout greater Southeastern San Diego.
URL:https://projectnewvillage.org/event/peoples-produce-encanto-village/2026-12-25/
LOCATION:Encanto Village\, 6315 Imperial Ave.\, San Diego\, CA\, 92114\, United States
CATEGORIES:Farmers Market
ATTACH;FMTTYPE=image/jpeg:https://projectnewvillage.org/wp-content/uploads/2024/06/MFM-NatCity1.jpg
END:VEVENT
BEGIN:VEVENT
DTSTART;TZID=America/Los_Angeles:20270101T143000
DTEND;TZID=America/Los_Angeles:20270101T163000
DTSTAMP:20260423T055423
CREATED:20241030T204024Z
LAST-MODIFIED:20250109T164016Z
UID:10001792-1798813800-1798821000@projectnewvillage.org
SUMMARY:People's Produce @ Encanto Village
DESCRIPTION:Mobile farmers truck bringing fresh\, locally grown produce to neighborhoods throughout greater Southeastern San Diego.
URL:https://projectnewvillage.org/event/peoples-produce-encanto-village/2027-01-01/
LOCATION:Encanto Village\, 6315 Imperial Ave.\, San Diego\, CA\, 92114\, United States
CATEGORIES:Farmers Market
ATTACH;FMTTYPE=image/jpeg:https://projectnewvillage.org/wp-content/uploads/2024/06/MFM-NatCity1.jpg
END:VEVENT
BEGIN:VEVENT
DTSTART;TZID=America/Los_Angeles:20270108T143000
DTEND;TZID=America/Los_Angeles:20270108T163000
DTSTAMP:20260423T055423
CREATED:20241030T204024Z
LAST-MODIFIED:20250109T164016Z
UID:10001793-1799418600-1799425800@projectnewvillage.org
SUMMARY:People's Produce @ Encanto Village
DESCRIPTION:Mobile farmers truck bringing fresh\, locally grown produce to neighborhoods throughout greater Southeastern San Diego.
URL:https://projectnewvillage.org/event/peoples-produce-encanto-village/2027-01-08/
LOCATION:Encanto Village\, 6315 Imperial Ave.\, San Diego\, CA\, 92114\, United States
CATEGORIES:Farmers Market
ATTACH;FMTTYPE=image/jpeg:https://projectnewvillage.org/wp-content/uploads/2024/06/MFM-NatCity1.jpg
END:VEVENT
BEGIN:VEVENT
DTSTART;TZID=America/Los_Angeles:20270115T143000
DTEND;TZID=America/Los_Angeles:20270115T163000
DTSTAMP:20260423T055423
CREATED:20241030T204024Z
LAST-MODIFIED:20250109T164016Z
UID:10001794-1800023400-1800030600@projectnewvillage.org
SUMMARY:People's Produce @ Encanto Village
DESCRIPTION:Mobile farmers truck bringing fresh\, locally grown produce to neighborhoods throughout greater Southeastern San Diego.
URL:https://projectnewvillage.org/event/peoples-produce-encanto-village/2027-01-15/
LOCATION:Encanto Village\, 6315 Imperial Ave.\, San Diego\, CA\, 92114\, United States
CATEGORIES:Farmers Market
ATTACH;FMTTYPE=image/jpeg:https://projectnewvillage.org/wp-content/uploads/2024/06/MFM-NatCity1.jpg
END:VEVENT
BEGIN:VEVENT
DTSTART;TZID=America/Los_Angeles:20270122T143000
DTEND;TZID=America/Los_Angeles:20270122T163000
DTSTAMP:20260423T055423
CREATED:20241030T204024Z
LAST-MODIFIED:20250109T164016Z
UID:10001795-1800628200-1800635400@projectnewvillage.org
SUMMARY:People's Produce @ Encanto Village
DESCRIPTION:Mobile farmers truck bringing fresh\, locally grown produce to neighborhoods throughout greater Southeastern San Diego.
URL:https://projectnewvillage.org/event/peoples-produce-encanto-village/2027-01-22/
LOCATION:Encanto Village\, 6315 Imperial Ave.\, San Diego\, CA\, 92114\, United States
CATEGORIES:Farmers Market
ATTACH;FMTTYPE=image/jpeg:https://projectnewvillage.org/wp-content/uploads/2024/06/MFM-NatCity1.jpg
END:VEVENT
BEGIN:VEVENT
DTSTART;TZID=America/Los_Angeles:20270129T143000
DTEND;TZID=America/Los_Angeles:20270129T163000
DTSTAMP:20260423T055423
CREATED:20241030T204024Z
LAST-MODIFIED:20250109T164016Z
UID:10001796-1801233000-1801240200@projectnewvillage.org
SUMMARY:People's Produce @ Encanto Village
DESCRIPTION:Mobile farmers truck bringing fresh\, locally grown produce to neighborhoods throughout greater Southeastern San Diego.
URL:https://projectnewvillage.org/event/peoples-produce-encanto-village/2027-01-29/
LOCATION:Encanto Village\, 6315 Imperial Ave.\, San Diego\, CA\, 92114\, United States
CATEGORIES:Farmers Market
ATTACH;FMTTYPE=image/jpeg:https://projectnewvillage.org/wp-content/uploads/2024/06/MFM-NatCity1.jpg
END:VEVENT
BEGIN:VEVENT
DTSTART;TZID=America/Los_Angeles:20270205T143000
DTEND;TZID=America/Los_Angeles:20270205T163000
DTSTAMP:20260423T055423
CREATED:20241030T204024Z
LAST-MODIFIED:20250109T164016Z
UID:10001797-1801837800-1801845000@projectnewvillage.org
SUMMARY:People's Produce @ Encanto Village
DESCRIPTION:Mobile farmers truck bringing fresh\, locally grown produce to neighborhoods throughout greater Southeastern San Diego.
URL:https://projectnewvillage.org/event/peoples-produce-encanto-village/2027-02-05/
LOCATION:Encanto Village\, 6315 Imperial Ave.\, San Diego\, CA\, 92114\, United States
CATEGORIES:Farmers Market
ATTACH;FMTTYPE=image/jpeg:https://projectnewvillage.org/wp-content/uploads/2024/06/MFM-NatCity1.jpg
END:VEVENT
END:VCALENDAR