BEGIN:VCALENDAR
VERSION:2.0
PRODID:-//Project New Village - ECPv6.15.20//NONSGML v1.0//EN
CALSCALE:GREGORIAN
METHOD:PUBLISH
X-ORIGINAL-URL:https://projectnewvillage.org
X-WR-CALDESC:Events for Project New Village
REFRESH-INTERVAL;VALUE=DURATION:PT1H
X-Robots-Tag:noindex
X-PUBLISHED-TTL:PT1H
BEGIN:VTIMEZONE
TZID:UTC
BEGIN:STANDARD
TZOFFSETFROM:+0000
TZOFFSETTO:+0000
TZNAME:UTC
DTSTART:20270101T000000
END:STANDARD
END:VTIMEZONE
BEGIN:VEVENT
DTSTART;TZID=UTC:20280818T110000
DTEND;TZID=UTC:20280818T130000
DTSTAMP:20260425T172033
CREATED:20240605T085941Z
LAST-MODIFIED:20250109T163925Z
UID:10001123-1850209200-1850216400@projectnewvillage.org
SUMMARY:People's Produce @ Brooks Huffman Plaza
DESCRIPTION:Mobile farmers truck bringing fresh\, locally grown produce to neighborhoods throughout greater Southeastern San Diego.
URL:https://projectnewvillage.org/event/peoples-produce-brooks-huffman-plaza/2028-08-18/
LOCATION:Four Corners of Life\, Imperial & Euclid\, San Diego\, CA\, 92114\, United States
CATEGORIES:Farmers Market
ATTACH;FMTTYPE=image/jpeg:https://projectnewvillage.org/wp-content/uploads/2024/06/MFM-NatCity1.jpg
END:VEVENT
BEGIN:VEVENT
DTSTART;TZID=UTC:20280825T110000
DTEND;TZID=UTC:20280825T130000
DTSTAMP:20260425T172033
CREATED:20240605T085941Z
LAST-MODIFIED:20250109T163925Z
UID:10001124-1850814000-1850821200@projectnewvillage.org
SUMMARY:People's Produce @ Brooks Huffman Plaza
DESCRIPTION:Mobile farmers truck bringing fresh\, locally grown produce to neighborhoods throughout greater Southeastern San Diego.
URL:https://projectnewvillage.org/event/peoples-produce-brooks-huffman-plaza/2028-08-25/
LOCATION:Four Corners of Life\, Imperial & Euclid\, San Diego\, CA\, 92114\, United States
CATEGORIES:Farmers Market
ATTACH;FMTTYPE=image/jpeg:https://projectnewvillage.org/wp-content/uploads/2024/06/MFM-NatCity1.jpg
END:VEVENT
BEGIN:VEVENT
DTSTART;TZID=UTC:20280901T110000
DTEND;TZID=UTC:20280901T130000
DTSTAMP:20260425T172033
CREATED:20240605T085941Z
LAST-MODIFIED:20250109T163925Z
UID:10001125-1851418800-1851426000@projectnewvillage.org
SUMMARY:People's Produce @ Brooks Huffman Plaza
DESCRIPTION:Mobile farmers truck bringing fresh\, locally grown produce to neighborhoods throughout greater Southeastern San Diego.
URL:https://projectnewvillage.org/event/peoples-produce-brooks-huffman-plaza/2028-09-01/
LOCATION:Four Corners of Life\, Imperial & Euclid\, San Diego\, CA\, 92114\, United States
CATEGORIES:Farmers Market
ATTACH;FMTTYPE=image/jpeg:https://projectnewvillage.org/wp-content/uploads/2024/06/MFM-NatCity1.jpg
END:VEVENT
BEGIN:VEVENT
DTSTART;TZID=UTC:20280908T110000
DTEND;TZID=UTC:20280908T130000
DTSTAMP:20260425T172033
CREATED:20240605T085941Z
LAST-MODIFIED:20250109T163925Z
UID:10001126-1852023600-1852030800@projectnewvillage.org
SUMMARY:People's Produce @ Brooks Huffman Plaza
DESCRIPTION:Mobile farmers truck bringing fresh\, locally grown produce to neighborhoods throughout greater Southeastern San Diego.
URL:https://projectnewvillage.org/event/peoples-produce-brooks-huffman-plaza/2028-09-08/
LOCATION:Four Corners of Life\, Imperial & Euclid\, San Diego\, CA\, 92114\, United States
CATEGORIES:Farmers Market
ATTACH;FMTTYPE=image/jpeg:https://projectnewvillage.org/wp-content/uploads/2024/06/MFM-NatCity1.jpg
END:VEVENT
BEGIN:VEVENT
DTSTART;TZID=UTC:20280915T110000
DTEND;TZID=UTC:20280915T130000
DTSTAMP:20260425T172033
CREATED:20240605T085941Z
LAST-MODIFIED:20250109T163925Z
UID:10001127-1852628400-1852635600@projectnewvillage.org
SUMMARY:People's Produce @ Brooks Huffman Plaza
DESCRIPTION:Mobile farmers truck bringing fresh\, locally grown produce to neighborhoods throughout greater Southeastern San Diego.
URL:https://projectnewvillage.org/event/peoples-produce-brooks-huffman-plaza/2028-09-15/
LOCATION:Four Corners of Life\, Imperial & Euclid\, San Diego\, CA\, 92114\, United States
CATEGORIES:Farmers Market
ATTACH;FMTTYPE=image/jpeg:https://projectnewvillage.org/wp-content/uploads/2024/06/MFM-NatCity1.jpg
END:VEVENT
BEGIN:VEVENT
DTSTART;TZID=UTC:20280922T110000
DTEND;TZID=UTC:20280922T130000
DTSTAMP:20260425T172033
CREATED:20240605T085941Z
LAST-MODIFIED:20250109T163925Z
UID:10001128-1853233200-1853240400@projectnewvillage.org
SUMMARY:People's Produce @ Brooks Huffman Plaza
DESCRIPTION:Mobile farmers truck bringing fresh\, locally grown produce to neighborhoods throughout greater Southeastern San Diego.
URL:https://projectnewvillage.org/event/peoples-produce-brooks-huffman-plaza/2028-09-22/
LOCATION:Four Corners of Life\, Imperial & Euclid\, San Diego\, CA\, 92114\, United States
CATEGORIES:Farmers Market
ATTACH;FMTTYPE=image/jpeg:https://projectnewvillage.org/wp-content/uploads/2024/06/MFM-NatCity1.jpg
END:VEVENT
BEGIN:VEVENT
DTSTART;TZID=UTC:20280929T110000
DTEND;TZID=UTC:20280929T130000
DTSTAMP:20260425T172033
CREATED:20240605T085941Z
LAST-MODIFIED:20250109T163925Z
UID:10001129-1853838000-1853845200@projectnewvillage.org
SUMMARY:People's Produce @ Brooks Huffman Plaza
DESCRIPTION:Mobile farmers truck bringing fresh\, locally grown produce to neighborhoods throughout greater Southeastern San Diego.
URL:https://projectnewvillage.org/event/peoples-produce-brooks-huffman-plaza/2028-09-29/
LOCATION:Four Corners of Life\, Imperial & Euclid\, San Diego\, CA\, 92114\, United States
CATEGORIES:Farmers Market
ATTACH;FMTTYPE=image/jpeg:https://projectnewvillage.org/wp-content/uploads/2024/06/MFM-NatCity1.jpg
END:VEVENT
BEGIN:VEVENT
DTSTART;TZID=UTC:20281006T110000
DTEND;TZID=UTC:20281006T130000
DTSTAMP:20260425T172033
CREATED:20240605T085941Z
LAST-MODIFIED:20250109T163925Z
UID:10001130-1854442800-1854450000@projectnewvillage.org
SUMMARY:People's Produce @ Brooks Huffman Plaza
DESCRIPTION:Mobile farmers truck bringing fresh\, locally grown produce to neighborhoods throughout greater Southeastern San Diego.
URL:https://projectnewvillage.org/event/peoples-produce-brooks-huffman-plaza/2028-10-06/
LOCATION:Four Corners of Life\, Imperial & Euclid\, San Diego\, CA\, 92114\, United States
CATEGORIES:Farmers Market
ATTACH;FMTTYPE=image/jpeg:https://projectnewvillage.org/wp-content/uploads/2024/06/MFM-NatCity1.jpg
END:VEVENT
BEGIN:VEVENT
DTSTART;TZID=UTC:20281013T110000
DTEND;TZID=UTC:20281013T130000
DTSTAMP:20260425T172033
CREATED:20240605T085941Z
LAST-MODIFIED:20250109T163925Z
UID:10001131-1855047600-1855054800@projectnewvillage.org
SUMMARY:People's Produce @ Brooks Huffman Plaza
DESCRIPTION:Mobile farmers truck bringing fresh\, locally grown produce to neighborhoods throughout greater Southeastern San Diego.
URL:https://projectnewvillage.org/event/peoples-produce-brooks-huffman-plaza/2028-10-13/
LOCATION:Four Corners of Life\, Imperial & Euclid\, San Diego\, CA\, 92114\, United States
CATEGORIES:Farmers Market
ATTACH;FMTTYPE=image/jpeg:https://projectnewvillage.org/wp-content/uploads/2024/06/MFM-NatCity1.jpg
END:VEVENT
BEGIN:VEVENT
DTSTART;TZID=UTC:20281020T110000
DTEND;TZID=UTC:20281020T130000
DTSTAMP:20260425T172033
CREATED:20240605T085941Z
LAST-MODIFIED:20250109T163925Z
UID:10001132-1855652400-1855659600@projectnewvillage.org
SUMMARY:People's Produce @ Brooks Huffman Plaza
DESCRIPTION:Mobile farmers truck bringing fresh\, locally grown produce to neighborhoods throughout greater Southeastern San Diego.
URL:https://projectnewvillage.org/event/peoples-produce-brooks-huffman-plaza/2028-10-20/
LOCATION:Four Corners of Life\, Imperial & Euclid\, San Diego\, CA\, 92114\, United States
CATEGORIES:Farmers Market
ATTACH;FMTTYPE=image/jpeg:https://projectnewvillage.org/wp-content/uploads/2024/06/MFM-NatCity1.jpg
END:VEVENT
BEGIN:VEVENT
DTSTART;TZID=UTC:20281027T110000
DTEND;TZID=UTC:20281027T130000
DTSTAMP:20260425T172033
CREATED:20240605T085941Z
LAST-MODIFIED:20250109T163925Z
UID:10001133-1856257200-1856264400@projectnewvillage.org
SUMMARY:People's Produce @ Brooks Huffman Plaza
DESCRIPTION:Mobile farmers truck bringing fresh\, locally grown produce to neighborhoods throughout greater Southeastern San Diego.
URL:https://projectnewvillage.org/event/peoples-produce-brooks-huffman-plaza/2028-10-27/
LOCATION:Four Corners of Life\, Imperial & Euclid\, San Diego\, CA\, 92114\, United States
CATEGORIES:Farmers Market
ATTACH;FMTTYPE=image/jpeg:https://projectnewvillage.org/wp-content/uploads/2024/06/MFM-NatCity1.jpg
END:VEVENT
BEGIN:VEVENT
DTSTART;TZID=UTC:20281103T110000
DTEND;TZID=UTC:20281103T130000
DTSTAMP:20260425T172033
CREATED:20240605T085941Z
LAST-MODIFIED:20250109T163925Z
UID:10001134-1856862000-1856869200@projectnewvillage.org
SUMMARY:People's Produce @ Brooks Huffman Plaza
DESCRIPTION:Mobile farmers truck bringing fresh\, locally grown produce to neighborhoods throughout greater Southeastern San Diego.
URL:https://projectnewvillage.org/event/peoples-produce-brooks-huffman-plaza/2028-11-03/
LOCATION:Four Corners of Life\, Imperial & Euclid\, San Diego\, CA\, 92114\, United States
CATEGORIES:Farmers Market
ATTACH;FMTTYPE=image/jpeg:https://projectnewvillage.org/wp-content/uploads/2024/06/MFM-NatCity1.jpg
END:VEVENT
BEGIN:VEVENT
DTSTART;TZID=UTC:20281110T110000
DTEND;TZID=UTC:20281110T130000
DTSTAMP:20260425T172033
CREATED:20240605T085941Z
LAST-MODIFIED:20250109T163925Z
UID:10001135-1857466800-1857474000@projectnewvillage.org
SUMMARY:People's Produce @ Brooks Huffman Plaza
DESCRIPTION:Mobile farmers truck bringing fresh\, locally grown produce to neighborhoods throughout greater Southeastern San Diego.
URL:https://projectnewvillage.org/event/peoples-produce-brooks-huffman-plaza/2028-11-10/
LOCATION:Four Corners of Life\, Imperial & Euclid\, San Diego\, CA\, 92114\, United States
CATEGORIES:Farmers Market
ATTACH;FMTTYPE=image/jpeg:https://projectnewvillage.org/wp-content/uploads/2024/06/MFM-NatCity1.jpg
END:VEVENT
BEGIN:VEVENT
DTSTART;TZID=UTC:20281117T110000
DTEND;TZID=UTC:20281117T130000
DTSTAMP:20260425T172033
CREATED:20240605T085941Z
LAST-MODIFIED:20250109T163925Z
UID:10001136-1858071600-1858078800@projectnewvillage.org
SUMMARY:People's Produce @ Brooks Huffman Plaza
DESCRIPTION:Mobile farmers truck bringing fresh\, locally grown produce to neighborhoods throughout greater Southeastern San Diego.
URL:https://projectnewvillage.org/event/peoples-produce-brooks-huffman-plaza/2028-11-17/
LOCATION:Four Corners of Life\, Imperial & Euclid\, San Diego\, CA\, 92114\, United States
CATEGORIES:Farmers Market
ATTACH;FMTTYPE=image/jpeg:https://projectnewvillage.org/wp-content/uploads/2024/06/MFM-NatCity1.jpg
END:VEVENT
BEGIN:VEVENT
DTSTART;TZID=UTC:20281124T110000
DTEND;TZID=UTC:20281124T130000
DTSTAMP:20260425T172033
CREATED:20240605T085941Z
LAST-MODIFIED:20250109T163925Z
UID:10001137-1858676400-1858683600@projectnewvillage.org
SUMMARY:People's Produce @ Brooks Huffman Plaza
DESCRIPTION:Mobile farmers truck bringing fresh\, locally grown produce to neighborhoods throughout greater Southeastern San Diego.
URL:https://projectnewvillage.org/event/peoples-produce-brooks-huffman-plaza/2028-11-24/
LOCATION:Four Corners of Life\, Imperial & Euclid\, San Diego\, CA\, 92114\, United States
CATEGORIES:Farmers Market
ATTACH;FMTTYPE=image/jpeg:https://projectnewvillage.org/wp-content/uploads/2024/06/MFM-NatCity1.jpg
END:VEVENT
BEGIN:VEVENT
DTSTART;TZID=UTC:20281201T110000
DTEND;TZID=UTC:20281201T130000
DTSTAMP:20260425T172033
CREATED:20240605T085941Z
LAST-MODIFIED:20250109T163925Z
UID:10001138-1859281200-1859288400@projectnewvillage.org
SUMMARY:People's Produce @ Brooks Huffman Plaza
DESCRIPTION:Mobile farmers truck bringing fresh\, locally grown produce to neighborhoods throughout greater Southeastern San Diego.
URL:https://projectnewvillage.org/event/peoples-produce-brooks-huffman-plaza/2028-12-01/
LOCATION:Four Corners of Life\, Imperial & Euclid\, San Diego\, CA\, 92114\, United States
CATEGORIES:Farmers Market
ATTACH;FMTTYPE=image/jpeg:https://projectnewvillage.org/wp-content/uploads/2024/06/MFM-NatCity1.jpg
END:VEVENT
BEGIN:VEVENT
DTSTART;TZID=UTC:20281208T110000
DTEND;TZID=UTC:20281208T130000
DTSTAMP:20260425T172033
CREATED:20240605T085941Z
LAST-MODIFIED:20250109T163925Z
UID:10001139-1859886000-1859893200@projectnewvillage.org
SUMMARY:People's Produce @ Brooks Huffman Plaza
DESCRIPTION:Mobile farmers truck bringing fresh\, locally grown produce to neighborhoods throughout greater Southeastern San Diego.
URL:https://projectnewvillage.org/event/peoples-produce-brooks-huffman-plaza/2028-12-08/
LOCATION:Four Corners of Life\, Imperial & Euclid\, San Diego\, CA\, 92114\, United States
CATEGORIES:Farmers Market
ATTACH;FMTTYPE=image/jpeg:https://projectnewvillage.org/wp-content/uploads/2024/06/MFM-NatCity1.jpg
END:VEVENT
BEGIN:VEVENT
DTSTART;TZID=UTC:20281215T110000
DTEND;TZID=UTC:20281215T130000
DTSTAMP:20260425T172033
CREATED:20240605T085941Z
LAST-MODIFIED:20250109T163925Z
UID:10001140-1860490800-1860498000@projectnewvillage.org
SUMMARY:People's Produce @ Brooks Huffman Plaza
DESCRIPTION:Mobile farmers truck bringing fresh\, locally grown produce to neighborhoods throughout greater Southeastern San Diego.
URL:https://projectnewvillage.org/event/peoples-produce-brooks-huffman-plaza/2028-12-15/
LOCATION:Four Corners of Life\, Imperial & Euclid\, San Diego\, CA\, 92114\, United States
CATEGORIES:Farmers Market
ATTACH;FMTTYPE=image/jpeg:https://projectnewvillage.org/wp-content/uploads/2024/06/MFM-NatCity1.jpg
END:VEVENT
BEGIN:VEVENT
DTSTART;TZID=UTC:20281222T110000
DTEND;TZID=UTC:20281222T130000
DTSTAMP:20260425T172033
CREATED:20240605T085941Z
LAST-MODIFIED:20250109T163925Z
UID:10001141-1861095600-1861102800@projectnewvillage.org
SUMMARY:People's Produce @ Brooks Huffman Plaza
DESCRIPTION:Mobile farmers truck bringing fresh\, locally grown produce to neighborhoods throughout greater Southeastern San Diego.
URL:https://projectnewvillage.org/event/peoples-produce-brooks-huffman-plaza/2028-12-22/
LOCATION:Four Corners of Life\, Imperial & Euclid\, San Diego\, CA\, 92114\, United States
CATEGORIES:Farmers Market
ATTACH;FMTTYPE=image/jpeg:https://projectnewvillage.org/wp-content/uploads/2024/06/MFM-NatCity1.jpg
END:VEVENT
BEGIN:VEVENT
DTSTART;TZID=UTC:20281229T110000
DTEND;TZID=UTC:20281229T130000
DTSTAMP:20260425T172033
CREATED:20240605T085941Z
LAST-MODIFIED:20250109T163925Z
UID:10001142-1861700400-1861707600@projectnewvillage.org
SUMMARY:People's Produce @ Brooks Huffman Plaza
DESCRIPTION:Mobile farmers truck bringing fresh\, locally grown produce to neighborhoods throughout greater Southeastern San Diego.
URL:https://projectnewvillage.org/event/peoples-produce-brooks-huffman-plaza/2028-12-29/
LOCATION:Four Corners of Life\, Imperial & Euclid\, San Diego\, CA\, 92114\, United States
CATEGORIES:Farmers Market
ATTACH;FMTTYPE=image/jpeg:https://projectnewvillage.org/wp-content/uploads/2024/06/MFM-NatCity1.jpg
END:VEVENT
BEGIN:VEVENT
DTSTART;TZID=UTC:20290105T110000
DTEND;TZID=UTC:20290105T130000
DTSTAMP:20260425T172033
CREATED:20240605T085941Z
LAST-MODIFIED:20250109T163925Z
UID:10001143-1862305200-1862312400@projectnewvillage.org
SUMMARY:People's Produce @ Brooks Huffman Plaza
DESCRIPTION:Mobile farmers truck bringing fresh\, locally grown produce to neighborhoods throughout greater Southeastern San Diego.
URL:https://projectnewvillage.org/event/peoples-produce-brooks-huffman-plaza/2029-01-05/
LOCATION:Four Corners of Life\, Imperial & Euclid\, San Diego\, CA\, 92114\, United States
CATEGORIES:Farmers Market
ATTACH;FMTTYPE=image/jpeg:https://projectnewvillage.org/wp-content/uploads/2024/06/MFM-NatCity1.jpg
END:VEVENT
BEGIN:VEVENT
DTSTART;TZID=UTC:20290112T110000
DTEND;TZID=UTC:20290112T130000
DTSTAMP:20260425T172033
CREATED:20240605T085941Z
LAST-MODIFIED:20250109T163925Z
UID:10001144-1862910000-1862917200@projectnewvillage.org
SUMMARY:People's Produce @ Brooks Huffman Plaza
DESCRIPTION:Mobile farmers truck bringing fresh\, locally grown produce to neighborhoods throughout greater Southeastern San Diego.
URL:https://projectnewvillage.org/event/peoples-produce-brooks-huffman-plaza/2029-01-12/
LOCATION:Four Corners of Life\, Imperial & Euclid\, San Diego\, CA\, 92114\, United States
CATEGORIES:Farmers Market
ATTACH;FMTTYPE=image/jpeg:https://projectnewvillage.org/wp-content/uploads/2024/06/MFM-NatCity1.jpg
END:VEVENT
BEGIN:VEVENT
DTSTART;TZID=UTC:20290119T110000
DTEND;TZID=UTC:20290119T130000
DTSTAMP:20260425T172033
CREATED:20240605T085941Z
LAST-MODIFIED:20250109T163925Z
UID:10001145-1863514800-1863522000@projectnewvillage.org
SUMMARY:People's Produce @ Brooks Huffman Plaza
DESCRIPTION:Mobile farmers truck bringing fresh\, locally grown produce to neighborhoods throughout greater Southeastern San Diego.
URL:https://projectnewvillage.org/event/peoples-produce-brooks-huffman-plaza/2029-01-19/
LOCATION:Four Corners of Life\, Imperial & Euclid\, San Diego\, CA\, 92114\, United States
CATEGORIES:Farmers Market
ATTACH;FMTTYPE=image/jpeg:https://projectnewvillage.org/wp-content/uploads/2024/06/MFM-NatCity1.jpg
END:VEVENT
BEGIN:VEVENT
DTSTART;TZID=UTC:20290126T110000
DTEND;TZID=UTC:20290126T130000
DTSTAMP:20260425T172033
CREATED:20240605T085941Z
LAST-MODIFIED:20250109T163925Z
UID:10001146-1864119600-1864126800@projectnewvillage.org
SUMMARY:People's Produce @ Brooks Huffman Plaza
DESCRIPTION:Mobile farmers truck bringing fresh\, locally grown produce to neighborhoods throughout greater Southeastern San Diego.
URL:https://projectnewvillage.org/event/peoples-produce-brooks-huffman-plaza/2029-01-26/
LOCATION:Four Corners of Life\, Imperial & Euclid\, San Diego\, CA\, 92114\, United States
CATEGORIES:Farmers Market
ATTACH;FMTTYPE=image/jpeg:https://projectnewvillage.org/wp-content/uploads/2024/06/MFM-NatCity1.jpg
END:VEVENT
BEGIN:VEVENT
DTSTART;TZID=UTC:20290202T110000
DTEND;TZID=UTC:20290202T130000
DTSTAMP:20260425T172033
CREATED:20240605T085941Z
LAST-MODIFIED:20250109T163925Z
UID:10001147-1864724400-1864731600@projectnewvillage.org
SUMMARY:People's Produce @ Brooks Huffman Plaza
DESCRIPTION:Mobile farmers truck bringing fresh\, locally grown produce to neighborhoods throughout greater Southeastern San Diego.
URL:https://projectnewvillage.org/event/peoples-produce-brooks-huffman-plaza/2029-02-02/
LOCATION:Four Corners of Life\, Imperial & Euclid\, San Diego\, CA\, 92114\, United States
CATEGORIES:Farmers Market
ATTACH;FMTTYPE=image/jpeg:https://projectnewvillage.org/wp-content/uploads/2024/06/MFM-NatCity1.jpg
END:VEVENT
BEGIN:VEVENT
DTSTART;TZID=UTC:20290209T110000
DTEND;TZID=UTC:20290209T130000
DTSTAMP:20260425T172033
CREATED:20240605T085941Z
LAST-MODIFIED:20250109T163925Z
UID:10001148-1865329200-1865336400@projectnewvillage.org
SUMMARY:People's Produce @ Brooks Huffman Plaza
DESCRIPTION:Mobile farmers truck bringing fresh\, locally grown produce to neighborhoods throughout greater Southeastern San Diego.
URL:https://projectnewvillage.org/event/peoples-produce-brooks-huffman-plaza/2029-02-09/
LOCATION:Four Corners of Life\, Imperial & Euclid\, San Diego\, CA\, 92114\, United States
CATEGORIES:Farmers Market
ATTACH;FMTTYPE=image/jpeg:https://projectnewvillage.org/wp-content/uploads/2024/06/MFM-NatCity1.jpg
END:VEVENT
BEGIN:VEVENT
DTSTART;TZID=UTC:20290216T110000
DTEND;TZID=UTC:20290216T130000
DTSTAMP:20260425T172033
CREATED:20240605T085941Z
LAST-MODIFIED:20250109T163925Z
UID:10001149-1865934000-1865941200@projectnewvillage.org
SUMMARY:People's Produce @ Brooks Huffman Plaza
DESCRIPTION:Mobile farmers truck bringing fresh\, locally grown produce to neighborhoods throughout greater Southeastern San Diego.
URL:https://projectnewvillage.org/event/peoples-produce-brooks-huffman-plaza/2029-02-16/
LOCATION:Four Corners of Life\, Imperial & Euclid\, San Diego\, CA\, 92114\, United States
CATEGORIES:Farmers Market
ATTACH;FMTTYPE=image/jpeg:https://projectnewvillage.org/wp-content/uploads/2024/06/MFM-NatCity1.jpg
END:VEVENT
BEGIN:VEVENT
DTSTART;TZID=UTC:20290223T110000
DTEND;TZID=UTC:20290223T130000
DTSTAMP:20260425T172033
CREATED:20240605T085941Z
LAST-MODIFIED:20250109T163925Z
UID:10001150-1866538800-1866546000@projectnewvillage.org
SUMMARY:People's Produce @ Brooks Huffman Plaza
DESCRIPTION:Mobile farmers truck bringing fresh\, locally grown produce to neighborhoods throughout greater Southeastern San Diego.
URL:https://projectnewvillage.org/event/peoples-produce-brooks-huffman-plaza/2029-02-23/
LOCATION:Four Corners of Life\, Imperial & Euclid\, San Diego\, CA\, 92114\, United States
CATEGORIES:Farmers Market
ATTACH;FMTTYPE=image/jpeg:https://projectnewvillage.org/wp-content/uploads/2024/06/MFM-NatCity1.jpg
END:VEVENT
BEGIN:VEVENT
DTSTART;TZID=UTC:20290302T110000
DTEND;TZID=UTC:20290302T130000
DTSTAMP:20260425T172033
CREATED:20240605T085941Z
LAST-MODIFIED:20250109T163925Z
UID:10001151-1867143600-1867150800@projectnewvillage.org
SUMMARY:People's Produce @ Brooks Huffman Plaza
DESCRIPTION:Mobile farmers truck bringing fresh\, locally grown produce to neighborhoods throughout greater Southeastern San Diego.
URL:https://projectnewvillage.org/event/peoples-produce-brooks-huffman-plaza/2029-03-02/
LOCATION:Four Corners of Life\, Imperial & Euclid\, San Diego\, CA\, 92114\, United States
CATEGORIES:Farmers Market
ATTACH;FMTTYPE=image/jpeg:https://projectnewvillage.org/wp-content/uploads/2024/06/MFM-NatCity1.jpg
END:VEVENT
BEGIN:VEVENT
DTSTART;TZID=UTC:20290309T110000
DTEND;TZID=UTC:20290309T130000
DTSTAMP:20260425T172033
CREATED:20240605T085941Z
LAST-MODIFIED:20250109T163925Z
UID:10001152-1867748400-1867755600@projectnewvillage.org
SUMMARY:People's Produce @ Brooks Huffman Plaza
DESCRIPTION:Mobile farmers truck bringing fresh\, locally grown produce to neighborhoods throughout greater Southeastern San Diego.
URL:https://projectnewvillage.org/event/peoples-produce-brooks-huffman-plaza/2029-03-09/
LOCATION:Four Corners of Life\, Imperial & Euclid\, San Diego\, CA\, 92114\, United States
CATEGORIES:Farmers Market
ATTACH;FMTTYPE=image/jpeg:https://projectnewvillage.org/wp-content/uploads/2024/06/MFM-NatCity1.jpg
END:VEVENT
END:VCALENDAR