BEGIN:VCALENDAR
VERSION:2.0
PRODID:-//Project New Village - ECPv6.15.20//NONSGML v1.0//EN
CALSCALE:GREGORIAN
METHOD:PUBLISH
X-WR-CALNAME:Project New Village
X-ORIGINAL-URL:https://projectnewvillage.org
X-WR-CALDESC:Events for Project New Village
REFRESH-INTERVAL;VALUE=DURATION:PT1H
X-Robots-Tag:noindex
X-PUBLISHED-TTL:PT1H
BEGIN:VTIMEZONE
TZID:America/Los_Angeles
BEGIN:DAYLIGHT
TZOFFSETFROM:-0800
TZOFFSETTO:-0700
TZNAME:PDT
DTSTART:20260308T100000
END:DAYLIGHT
BEGIN:STANDARD
TZOFFSETFROM:-0700
TZOFFSETTO:-0800
TZNAME:PST
DTSTART:20261101T090000
END:STANDARD
BEGIN:DAYLIGHT
TZOFFSETFROM:-0800
TZOFFSETTO:-0700
TZNAME:PDT
DTSTART:20270314T100000
END:DAYLIGHT
BEGIN:STANDARD
TZOFFSETFROM:-0700
TZOFFSETTO:-0800
TZNAME:PST
DTSTART:20271107T090000
END:STANDARD
BEGIN:DAYLIGHT
TZOFFSETFROM:-0800
TZOFFSETTO:-0700
TZNAME:PDT
DTSTART:20280312T100000
END:DAYLIGHT
BEGIN:STANDARD
TZOFFSETFROM:-0700
TZOFFSETTO:-0800
TZNAME:PST
DTSTART:20281105T090000
END:STANDARD
END:VTIMEZONE
BEGIN:VEVENT
DTSTART;TZID=America/Los_Angeles:20271013T150000
DTEND;TZID=America/Los_Angeles:20271013T170000
DTSTAMP:20260425T122912
CREATED:20240805T183711Z
LAST-MODIFIED:20251224T162037Z
UID:10001584-1823439600-1823446800@projectnewvillage.org
SUMMARY:People's Produce @ Morse High School
DESCRIPTION:
URL:https://projectnewvillage.org/event/peoples-produce-morse-high-school/2027-10-13/
LOCATION:Morse High School\, 6905 Skyline Drive\, San Diego\, CA\, 92114\, United States
CATEGORIES:Farmers Market
ATTACH;FMTTYPE=image/jpeg:https://projectnewvillage.org/wp-content/uploads/2024/05/Improve.jpg
END:VEVENT
BEGIN:VEVENT
DTSTART;TZID=America/Los_Angeles:20271013T150000
DTEND;TZID=America/Los_Angeles:20271013T170000
DTSTAMP:20260425T122912
CREATED:20260105T165612Z
LAST-MODIFIED:20260105T165612Z
UID:10002766-1823439600-1823446800@projectnewvillage.org
SUMMARY:Volunteer Hours @ Morse High School
DESCRIPTION:Weekly volunteer hours at our Rooted Resources garden spaces. Open to all in the community – no equipment or experience needed.
URL:https://projectnewvillage.org/event/volunteer-hours-morse-high-school/2027-10-13/
LOCATION:Morse High School\, 6905 Skyline Drive\, San Diego\, CA\, 92114\, United States
CATEGORIES:Volunteer Hours
ATTACH;FMTTYPE=image/png:https://projectnewvillage.org/wp-content/uploads/2026/01/MORSE-weekly-volunteer-hours.png
END:VEVENT
BEGIN:VEVENT
DTSTART;TZID=America/Los_Angeles:20271015T090000
DTEND;TZID=America/Los_Angeles:20271015T120000
DTSTAMP:20260425T122912
CREATED:20260105T165732Z
LAST-MODIFIED:20260105T165732Z
UID:10003027-1823590800-1823601600@projectnewvillage.org
SUMMARY:Volunteer Hours @ Morse High School
DESCRIPTION:Weekly volunteer hours at our Rooted Resources garden spaces. Open to all in the community – no equipment or experience needed.
URL:https://projectnewvillage.org/event/volunteer-hours-morse-high-school-2/2027-10-15/
LOCATION:Morse High School\, 6905 Skyline Drive\, San Diego\, CA\, 92114\, United States
CATEGORIES:Volunteer Hours
ATTACH;FMTTYPE=image/png:https://projectnewvillage.org/wp-content/uploads/2026/01/MORSE-weekly-volunteer-hours.png
END:VEVENT
BEGIN:VEVENT
DTSTART;TZID=America/Los_Angeles:20271020T150000
DTEND;TZID=America/Los_Angeles:20271020T170000
DTSTAMP:20260425T122912
CREATED:20240805T183711Z
LAST-MODIFIED:20251224T162037Z
UID:10001585-1824044400-1824051600@projectnewvillage.org
SUMMARY:People's Produce @ Morse High School
DESCRIPTION:
URL:https://projectnewvillage.org/event/peoples-produce-morse-high-school/2027-10-20/
LOCATION:Morse High School\, 6905 Skyline Drive\, San Diego\, CA\, 92114\, United States
CATEGORIES:Farmers Market
ATTACH;FMTTYPE=image/jpeg:https://projectnewvillage.org/wp-content/uploads/2024/05/Improve.jpg
END:VEVENT
BEGIN:VEVENT
DTSTART;TZID=America/Los_Angeles:20271020T150000
DTEND;TZID=America/Los_Angeles:20271020T170000
DTSTAMP:20260425T122912
CREATED:20260105T165612Z
LAST-MODIFIED:20260105T165612Z
UID:10002767-1824044400-1824051600@projectnewvillage.org
SUMMARY:Volunteer Hours @ Morse High School
DESCRIPTION:Weekly volunteer hours at our Rooted Resources garden spaces. Open to all in the community – no equipment or experience needed.
URL:https://projectnewvillage.org/event/volunteer-hours-morse-high-school/2027-10-20/
LOCATION:Morse High School\, 6905 Skyline Drive\, San Diego\, CA\, 92114\, United States
CATEGORIES:Volunteer Hours
ATTACH;FMTTYPE=image/png:https://projectnewvillage.org/wp-content/uploads/2026/01/MORSE-weekly-volunteer-hours.png
END:VEVENT
BEGIN:VEVENT
DTSTART;TZID=America/Los_Angeles:20271022T090000
DTEND;TZID=America/Los_Angeles:20271022T120000
DTSTAMP:20260425T122912
CREATED:20260105T165732Z
LAST-MODIFIED:20260105T165732Z
UID:10003028-1824195600-1824206400@projectnewvillage.org
SUMMARY:Volunteer Hours @ Morse High School
DESCRIPTION:Weekly volunteer hours at our Rooted Resources garden spaces. Open to all in the community – no equipment or experience needed.
URL:https://projectnewvillage.org/event/volunteer-hours-morse-high-school-2/2027-10-22/
LOCATION:Morse High School\, 6905 Skyline Drive\, San Diego\, CA\, 92114\, United States
CATEGORIES:Volunteer Hours
ATTACH;FMTTYPE=image/png:https://projectnewvillage.org/wp-content/uploads/2026/01/MORSE-weekly-volunteer-hours.png
END:VEVENT
BEGIN:VEVENT
DTSTART;TZID=America/Los_Angeles:20271027T150000
DTEND;TZID=America/Los_Angeles:20271027T170000
DTSTAMP:20260425T122912
CREATED:20240805T183711Z
LAST-MODIFIED:20251224T162037Z
UID:10001586-1824649200-1824656400@projectnewvillage.org
SUMMARY:People's Produce @ Morse High School
DESCRIPTION:
URL:https://projectnewvillage.org/event/peoples-produce-morse-high-school/2027-10-27/
LOCATION:Morse High School\, 6905 Skyline Drive\, San Diego\, CA\, 92114\, United States
CATEGORIES:Farmers Market
ATTACH;FMTTYPE=image/jpeg:https://projectnewvillage.org/wp-content/uploads/2024/05/Improve.jpg
END:VEVENT
BEGIN:VEVENT
DTSTART;TZID=America/Los_Angeles:20271027T150000
DTEND;TZID=America/Los_Angeles:20271027T170000
DTSTAMP:20260425T122912
CREATED:20260105T165612Z
LAST-MODIFIED:20260105T165612Z
UID:10002768-1824649200-1824656400@projectnewvillage.org
SUMMARY:Volunteer Hours @ Morse High School
DESCRIPTION:Weekly volunteer hours at our Rooted Resources garden spaces. Open to all in the community – no equipment or experience needed.
URL:https://projectnewvillage.org/event/volunteer-hours-morse-high-school/2027-10-27/
LOCATION:Morse High School\, 6905 Skyline Drive\, San Diego\, CA\, 92114\, United States
CATEGORIES:Volunteer Hours
ATTACH;FMTTYPE=image/png:https://projectnewvillage.org/wp-content/uploads/2026/01/MORSE-weekly-volunteer-hours.png
END:VEVENT
BEGIN:VEVENT
DTSTART;TZID=America/Los_Angeles:20271029T090000
DTEND;TZID=America/Los_Angeles:20271029T120000
DTSTAMP:20260425T122912
CREATED:20260105T165732Z
LAST-MODIFIED:20260105T165732Z
UID:10003029-1824800400-1824811200@projectnewvillage.org
SUMMARY:Volunteer Hours @ Morse High School
DESCRIPTION:Weekly volunteer hours at our Rooted Resources garden spaces. Open to all in the community – no equipment or experience needed.
URL:https://projectnewvillage.org/event/volunteer-hours-morse-high-school-2/2027-10-29/
LOCATION:Morse High School\, 6905 Skyline Drive\, San Diego\, CA\, 92114\, United States
CATEGORIES:Volunteer Hours
ATTACH;FMTTYPE=image/png:https://projectnewvillage.org/wp-content/uploads/2026/01/MORSE-weekly-volunteer-hours.png
END:VEVENT
BEGIN:VEVENT
DTSTART;TZID=America/Los_Angeles:20271103T150000
DTEND;TZID=America/Los_Angeles:20271103T170000
DTSTAMP:20260425T122912
CREATED:20240805T183711Z
LAST-MODIFIED:20251224T162037Z
UID:10001587-1825254000-1825261200@projectnewvillage.org
SUMMARY:People's Produce @ Morse High School
DESCRIPTION:
URL:https://projectnewvillage.org/event/peoples-produce-morse-high-school/2027-11-03/
LOCATION:Morse High School\, 6905 Skyline Drive\, San Diego\, CA\, 92114\, United States
CATEGORIES:Farmers Market
ATTACH;FMTTYPE=image/jpeg:https://projectnewvillage.org/wp-content/uploads/2024/05/Improve.jpg
END:VEVENT
BEGIN:VEVENT
DTSTART;TZID=America/Los_Angeles:20271103T150000
DTEND;TZID=America/Los_Angeles:20271103T170000
DTSTAMP:20260425T122912
CREATED:20260105T165612Z
LAST-MODIFIED:20260105T165612Z
UID:10002769-1825254000-1825261200@projectnewvillage.org
SUMMARY:Volunteer Hours @ Morse High School
DESCRIPTION:Weekly volunteer hours at our Rooted Resources garden spaces. Open to all in the community – no equipment or experience needed.
URL:https://projectnewvillage.org/event/volunteer-hours-morse-high-school/2027-11-03/
LOCATION:Morse High School\, 6905 Skyline Drive\, San Diego\, CA\, 92114\, United States
CATEGORIES:Volunteer Hours
ATTACH;FMTTYPE=image/png:https://projectnewvillage.org/wp-content/uploads/2026/01/MORSE-weekly-volunteer-hours.png
END:VEVENT
BEGIN:VEVENT
DTSTART;TZID=America/Los_Angeles:20271105T090000
DTEND;TZID=America/Los_Angeles:20271105T120000
DTSTAMP:20260425T122912
CREATED:20260105T165732Z
LAST-MODIFIED:20260105T165732Z
UID:10003030-1825405200-1825416000@projectnewvillage.org
SUMMARY:Volunteer Hours @ Morse High School
DESCRIPTION:Weekly volunteer hours at our Rooted Resources garden spaces. Open to all in the community – no equipment or experience needed.
URL:https://projectnewvillage.org/event/volunteer-hours-morse-high-school-2/2027-11-05/
LOCATION:Morse High School\, 6905 Skyline Drive\, San Diego\, CA\, 92114\, United States
CATEGORIES:Volunteer Hours
ATTACH;FMTTYPE=image/png:https://projectnewvillage.org/wp-content/uploads/2026/01/MORSE-weekly-volunteer-hours.png
END:VEVENT
BEGIN:VEVENT
DTSTART;TZID=America/Los_Angeles:20271110T150000
DTEND;TZID=America/Los_Angeles:20271110T170000
DTSTAMP:20260425T122912
CREATED:20240805T183711Z
LAST-MODIFIED:20251224T162037Z
UID:10001588-1825858800-1825866000@projectnewvillage.org
SUMMARY:People's Produce @ Morse High School
DESCRIPTION:
URL:https://projectnewvillage.org/event/peoples-produce-morse-high-school/2027-11-10/
LOCATION:Morse High School\, 6905 Skyline Drive\, San Diego\, CA\, 92114\, United States
CATEGORIES:Farmers Market
ATTACH;FMTTYPE=image/jpeg:https://projectnewvillage.org/wp-content/uploads/2024/05/Improve.jpg
END:VEVENT
BEGIN:VEVENT
DTSTART;TZID=America/Los_Angeles:20271110T150000
DTEND;TZID=America/Los_Angeles:20271110T170000
DTSTAMP:20260425T122912
CREATED:20260105T165612Z
LAST-MODIFIED:20260105T165612Z
UID:10002770-1825858800-1825866000@projectnewvillage.org
SUMMARY:Volunteer Hours @ Morse High School
DESCRIPTION:Weekly volunteer hours at our Rooted Resources garden spaces. Open to all in the community – no equipment or experience needed.
URL:https://projectnewvillage.org/event/volunteer-hours-morse-high-school/2027-11-10/
LOCATION:Morse High School\, 6905 Skyline Drive\, San Diego\, CA\, 92114\, United States
CATEGORIES:Volunteer Hours
ATTACH;FMTTYPE=image/png:https://projectnewvillage.org/wp-content/uploads/2026/01/MORSE-weekly-volunteer-hours.png
END:VEVENT
BEGIN:VEVENT
DTSTART;TZID=America/Los_Angeles:20271112T090000
DTEND;TZID=America/Los_Angeles:20271112T120000
DTSTAMP:20260425T122912
CREATED:20260105T165732Z
LAST-MODIFIED:20260105T165732Z
UID:10003031-1826010000-1826020800@projectnewvillage.org
SUMMARY:Volunteer Hours @ Morse High School
DESCRIPTION:Weekly volunteer hours at our Rooted Resources garden spaces. Open to all in the community – no equipment or experience needed.
URL:https://projectnewvillage.org/event/volunteer-hours-morse-high-school-2/2027-11-12/
LOCATION:Morse High School\, 6905 Skyline Drive\, San Diego\, CA\, 92114\, United States
CATEGORIES:Volunteer Hours
ATTACH;FMTTYPE=image/png:https://projectnewvillage.org/wp-content/uploads/2026/01/MORSE-weekly-volunteer-hours.png
END:VEVENT
BEGIN:VEVENT
DTSTART;TZID=America/Los_Angeles:20271117T150000
DTEND;TZID=America/Los_Angeles:20271117T170000
DTSTAMP:20260425T122912
CREATED:20240805T183711Z
LAST-MODIFIED:20251224T162037Z
UID:10001589-1826463600-1826470800@projectnewvillage.org
SUMMARY:People's Produce @ Morse High School
DESCRIPTION:
URL:https://projectnewvillage.org/event/peoples-produce-morse-high-school/2027-11-17/
LOCATION:Morse High School\, 6905 Skyline Drive\, San Diego\, CA\, 92114\, United States
CATEGORIES:Farmers Market
ATTACH;FMTTYPE=image/jpeg:https://projectnewvillage.org/wp-content/uploads/2024/05/Improve.jpg
END:VEVENT
BEGIN:VEVENT
DTSTART;TZID=America/Los_Angeles:20271117T150000
DTEND;TZID=America/Los_Angeles:20271117T170000
DTSTAMP:20260425T122912
CREATED:20260105T165612Z
LAST-MODIFIED:20260105T165612Z
UID:10002771-1826463600-1826470800@projectnewvillage.org
SUMMARY:Volunteer Hours @ Morse High School
DESCRIPTION:Weekly volunteer hours at our Rooted Resources garden spaces. Open to all in the community – no equipment or experience needed.
URL:https://projectnewvillage.org/event/volunteer-hours-morse-high-school/2027-11-17/
LOCATION:Morse High School\, 6905 Skyline Drive\, San Diego\, CA\, 92114\, United States
CATEGORIES:Volunteer Hours
ATTACH;FMTTYPE=image/png:https://projectnewvillage.org/wp-content/uploads/2026/01/MORSE-weekly-volunteer-hours.png
END:VEVENT
BEGIN:VEVENT
DTSTART;TZID=America/Los_Angeles:20271119T090000
DTEND;TZID=America/Los_Angeles:20271119T120000
DTSTAMP:20260425T122912
CREATED:20260105T165732Z
LAST-MODIFIED:20260105T165732Z
UID:10003032-1826614800-1826625600@projectnewvillage.org
SUMMARY:Volunteer Hours @ Morse High School
DESCRIPTION:Weekly volunteer hours at our Rooted Resources garden spaces. Open to all in the community – no equipment or experience needed.
URL:https://projectnewvillage.org/event/volunteer-hours-morse-high-school-2/2027-11-19/
LOCATION:Morse High School\, 6905 Skyline Drive\, San Diego\, CA\, 92114\, United States
CATEGORIES:Volunteer Hours
ATTACH;FMTTYPE=image/png:https://projectnewvillage.org/wp-content/uploads/2026/01/MORSE-weekly-volunteer-hours.png
END:VEVENT
BEGIN:VEVENT
DTSTART;TZID=America/Los_Angeles:20271124T150000
DTEND;TZID=America/Los_Angeles:20271124T170000
DTSTAMP:20260425T122912
CREATED:20240805T183711Z
LAST-MODIFIED:20251224T162037Z
UID:10001590-1827068400-1827075600@projectnewvillage.org
SUMMARY:People's Produce @ Morse High School
DESCRIPTION:
URL:https://projectnewvillage.org/event/peoples-produce-morse-high-school/2027-11-24/
LOCATION:Morse High School\, 6905 Skyline Drive\, San Diego\, CA\, 92114\, United States
CATEGORIES:Farmers Market
ATTACH;FMTTYPE=image/jpeg:https://projectnewvillage.org/wp-content/uploads/2024/05/Improve.jpg
END:VEVENT
BEGIN:VEVENT
DTSTART;TZID=America/Los_Angeles:20271124T150000
DTEND;TZID=America/Los_Angeles:20271124T170000
DTSTAMP:20260425T122912
CREATED:20260105T165612Z
LAST-MODIFIED:20260105T165612Z
UID:10002772-1827068400-1827075600@projectnewvillage.org
SUMMARY:Volunteer Hours @ Morse High School
DESCRIPTION:Weekly volunteer hours at our Rooted Resources garden spaces. Open to all in the community – no equipment or experience needed.
URL:https://projectnewvillage.org/event/volunteer-hours-morse-high-school/2027-11-24/
LOCATION:Morse High School\, 6905 Skyline Drive\, San Diego\, CA\, 92114\, United States
CATEGORIES:Volunteer Hours
ATTACH;FMTTYPE=image/png:https://projectnewvillage.org/wp-content/uploads/2026/01/MORSE-weekly-volunteer-hours.png
END:VEVENT
BEGIN:VEVENT
DTSTART;TZID=America/Los_Angeles:20271126T090000
DTEND;TZID=America/Los_Angeles:20271126T120000
DTSTAMP:20260425T122912
CREATED:20260105T165732Z
LAST-MODIFIED:20260105T165732Z
UID:10003033-1827219600-1827230400@projectnewvillage.org
SUMMARY:Volunteer Hours @ Morse High School
DESCRIPTION:Weekly volunteer hours at our Rooted Resources garden spaces. Open to all in the community – no equipment or experience needed.
URL:https://projectnewvillage.org/event/volunteer-hours-morse-high-school-2/2027-11-26/
LOCATION:Morse High School\, 6905 Skyline Drive\, San Diego\, CA\, 92114\, United States
CATEGORIES:Volunteer Hours
ATTACH;FMTTYPE=image/png:https://projectnewvillage.org/wp-content/uploads/2026/01/MORSE-weekly-volunteer-hours.png
END:VEVENT
BEGIN:VEVENT
DTSTART;TZID=America/Los_Angeles:20271201T150000
DTEND;TZID=America/Los_Angeles:20271201T170000
DTSTAMP:20260425T122912
CREATED:20240805T183711Z
LAST-MODIFIED:20251224T162037Z
UID:10001591-1827673200-1827680400@projectnewvillage.org
SUMMARY:People's Produce @ Morse High School
DESCRIPTION:
URL:https://projectnewvillage.org/event/peoples-produce-morse-high-school/2027-12-01/
LOCATION:Morse High School\, 6905 Skyline Drive\, San Diego\, CA\, 92114\, United States
CATEGORIES:Farmers Market
ATTACH;FMTTYPE=image/jpeg:https://projectnewvillage.org/wp-content/uploads/2024/05/Improve.jpg
END:VEVENT
BEGIN:VEVENT
DTSTART;TZID=America/Los_Angeles:20271201T150000
DTEND;TZID=America/Los_Angeles:20271201T170000
DTSTAMP:20260425T122912
CREATED:20260105T165612Z
LAST-MODIFIED:20260105T165612Z
UID:10002773-1827673200-1827680400@projectnewvillage.org
SUMMARY:Volunteer Hours @ Morse High School
DESCRIPTION:Weekly volunteer hours at our Rooted Resources garden spaces. Open to all in the community – no equipment or experience needed.
URL:https://projectnewvillage.org/event/volunteer-hours-morse-high-school/2027-12-01/
LOCATION:Morse High School\, 6905 Skyline Drive\, San Diego\, CA\, 92114\, United States
CATEGORIES:Volunteer Hours
ATTACH;FMTTYPE=image/png:https://projectnewvillage.org/wp-content/uploads/2026/01/MORSE-weekly-volunteer-hours.png
END:VEVENT
BEGIN:VEVENT
DTSTART;TZID=America/Los_Angeles:20271203T090000
DTEND;TZID=America/Los_Angeles:20271203T120000
DTSTAMP:20260425T122912
CREATED:20260105T165732Z
LAST-MODIFIED:20260105T165732Z
UID:10003034-1827824400-1827835200@projectnewvillage.org
SUMMARY:Volunteer Hours @ Morse High School
DESCRIPTION:Weekly volunteer hours at our Rooted Resources garden spaces. Open to all in the community – no equipment or experience needed.
URL:https://projectnewvillage.org/event/volunteer-hours-morse-high-school-2/2027-12-03/
LOCATION:Morse High School\, 6905 Skyline Drive\, San Diego\, CA\, 92114\, United States
CATEGORIES:Volunteer Hours
ATTACH;FMTTYPE=image/png:https://projectnewvillage.org/wp-content/uploads/2026/01/MORSE-weekly-volunteer-hours.png
END:VEVENT
BEGIN:VEVENT
DTSTART;TZID=America/Los_Angeles:20271208T150000
DTEND;TZID=America/Los_Angeles:20271208T170000
DTSTAMP:20260425T122912
CREATED:20240805T183711Z
LAST-MODIFIED:20251224T162037Z
UID:10001592-1828278000-1828285200@projectnewvillage.org
SUMMARY:People's Produce @ Morse High School
DESCRIPTION:
URL:https://projectnewvillage.org/event/peoples-produce-morse-high-school/2027-12-08/
LOCATION:Morse High School\, 6905 Skyline Drive\, San Diego\, CA\, 92114\, United States
CATEGORIES:Farmers Market
ATTACH;FMTTYPE=image/jpeg:https://projectnewvillage.org/wp-content/uploads/2024/05/Improve.jpg
END:VEVENT
BEGIN:VEVENT
DTSTART;TZID=America/Los_Angeles:20271208T150000
DTEND;TZID=America/Los_Angeles:20271208T170000
DTSTAMP:20260425T122912
CREATED:20260105T165612Z
LAST-MODIFIED:20260105T165612Z
UID:10002774-1828278000-1828285200@projectnewvillage.org
SUMMARY:Volunteer Hours @ Morse High School
DESCRIPTION:Weekly volunteer hours at our Rooted Resources garden spaces. Open to all in the community – no equipment or experience needed.
URL:https://projectnewvillage.org/event/volunteer-hours-morse-high-school/2027-12-08/
LOCATION:Morse High School\, 6905 Skyline Drive\, San Diego\, CA\, 92114\, United States
CATEGORIES:Volunteer Hours
ATTACH;FMTTYPE=image/png:https://projectnewvillage.org/wp-content/uploads/2026/01/MORSE-weekly-volunteer-hours.png
END:VEVENT
BEGIN:VEVENT
DTSTART;TZID=America/Los_Angeles:20271210T090000
DTEND;TZID=America/Los_Angeles:20271210T120000
DTSTAMP:20260425T122912
CREATED:20260105T165732Z
LAST-MODIFIED:20260105T165732Z
UID:10003035-1828429200-1828440000@projectnewvillage.org
SUMMARY:Volunteer Hours @ Morse High School
DESCRIPTION:Weekly volunteer hours at our Rooted Resources garden spaces. Open to all in the community – no equipment or experience needed.
URL:https://projectnewvillage.org/event/volunteer-hours-morse-high-school-2/2027-12-10/
LOCATION:Morse High School\, 6905 Skyline Drive\, San Diego\, CA\, 92114\, United States
CATEGORIES:Volunteer Hours
ATTACH;FMTTYPE=image/png:https://projectnewvillage.org/wp-content/uploads/2026/01/MORSE-weekly-volunteer-hours.png
END:VEVENT
BEGIN:VEVENT
DTSTART;TZID=America/Los_Angeles:20271215T150000
DTEND;TZID=America/Los_Angeles:20271215T170000
DTSTAMP:20260425T122912
CREATED:20240805T183711Z
LAST-MODIFIED:20251224T162037Z
UID:10001593-1828882800-1828890000@projectnewvillage.org
SUMMARY:People's Produce @ Morse High School
DESCRIPTION:
URL:https://projectnewvillage.org/event/peoples-produce-morse-high-school/2027-12-15/
LOCATION:Morse High School\, 6905 Skyline Drive\, San Diego\, CA\, 92114\, United States
CATEGORIES:Farmers Market
ATTACH;FMTTYPE=image/jpeg:https://projectnewvillage.org/wp-content/uploads/2024/05/Improve.jpg
END:VEVENT
BEGIN:VEVENT
DTSTART;TZID=America/Los_Angeles:20271215T150000
DTEND;TZID=America/Los_Angeles:20271215T170000
DTSTAMP:20260425T122912
CREATED:20260105T165612Z
LAST-MODIFIED:20260105T165612Z
UID:10002775-1828882800-1828890000@projectnewvillage.org
SUMMARY:Volunteer Hours @ Morse High School
DESCRIPTION:Weekly volunteer hours at our Rooted Resources garden spaces. Open to all in the community – no equipment or experience needed.
URL:https://projectnewvillage.org/event/volunteer-hours-morse-high-school/2027-12-15/
LOCATION:Morse High School\, 6905 Skyline Drive\, San Diego\, CA\, 92114\, United States
CATEGORIES:Volunteer Hours
ATTACH;FMTTYPE=image/png:https://projectnewvillage.org/wp-content/uploads/2026/01/MORSE-weekly-volunteer-hours.png
END:VEVENT
BEGIN:VEVENT
DTSTART;TZID=America/Los_Angeles:20271217T090000
DTEND;TZID=America/Los_Angeles:20271217T120000
DTSTAMP:20260425T122912
CREATED:20260105T165732Z
LAST-MODIFIED:20260105T165732Z
UID:10003036-1829034000-1829044800@projectnewvillage.org
SUMMARY:Volunteer Hours @ Morse High School
DESCRIPTION:Weekly volunteer hours at our Rooted Resources garden spaces. Open to all in the community – no equipment or experience needed.
URL:https://projectnewvillage.org/event/volunteer-hours-morse-high-school-2/2027-12-17/
LOCATION:Morse High School\, 6905 Skyline Drive\, San Diego\, CA\, 92114\, United States
CATEGORIES:Volunteer Hours
ATTACH;FMTTYPE=image/png:https://projectnewvillage.org/wp-content/uploads/2026/01/MORSE-weekly-volunteer-hours.png
END:VEVENT
END:VCALENDAR