BEGIN:VCALENDAR
VERSION:2.0
PRODID:-//Project New Village - ECPv6.15.20//NONSGML v1.0//EN
CALSCALE:GREGORIAN
METHOD:PUBLISH
X-ORIGINAL-URL:https://projectnewvillage.org
X-WR-CALDESC:Events for Project New Village
REFRESH-INTERVAL;VALUE=DURATION:PT1H
X-Robots-Tag:noindex
X-PUBLISHED-TTL:PT1H
BEGIN:VTIMEZONE
TZID:UTC
BEGIN:STANDARD
TZOFFSETFROM:+0000
TZOFFSETTO:+0000
TZNAME:UTC
DTSTART:20290101T000000
END:STANDARD
END:VTIMEZONE
BEGIN:VEVENT
DTSTART;TZID=UTC:20301205T160000
DTEND;TZID=UTC:20301205T180000
DTSTAMP:20260425T070432
CREATED:20240605T085637Z
LAST-MODIFIED:20251224T162303Z
UID:10002408-1922716800-1922724000@projectnewvillage.org
SUMMARY:People's Produce @ Thrive Lemon Grove Farmers Market
DESCRIPTION:Mobile farmers truck bringing fresh\, locally grown produce to neighborhoods throughout greater Southeastern San Diego.
URL:https://projectnewvillage.org/event/peoples-produce-thrive-lemon-grove-farmers-market/2030-12-05/
LOCATION:Treganza Heritage Parrk\, 3200 Main St.\, Lemon Grove\, CA\, 91945\, United States
CATEGORIES:Farmers Market
ATTACH;FMTTYPE=image/jpeg:https://projectnewvillage.org/wp-content/uploads/2024/06/MFM-NatCity1.jpg
END:VEVENT
BEGIN:VEVENT
DTSTART;TZID=UTC:20301212T160000
DTEND;TZID=UTC:20301212T180000
DTSTAMP:20260425T070432
CREATED:20240605T085637Z
LAST-MODIFIED:20251224T162303Z
UID:10002409-1923321600-1923328800@projectnewvillage.org
SUMMARY:People's Produce @ Thrive Lemon Grove Farmers Market
DESCRIPTION:Mobile farmers truck bringing fresh\, locally grown produce to neighborhoods throughout greater Southeastern San Diego.
URL:https://projectnewvillage.org/event/peoples-produce-thrive-lemon-grove-farmers-market/2030-12-12/
LOCATION:Treganza Heritage Parrk\, 3200 Main St.\, Lemon Grove\, CA\, 91945\, United States
CATEGORIES:Farmers Market
ATTACH;FMTTYPE=image/jpeg:https://projectnewvillage.org/wp-content/uploads/2024/06/MFM-NatCity1.jpg
END:VEVENT
BEGIN:VEVENT
DTSTART;TZID=UTC:20301219T160000
DTEND;TZID=UTC:20301219T180000
DTSTAMP:20260425T070432
CREATED:20240605T085637Z
LAST-MODIFIED:20251224T162303Z
UID:10002410-1923926400-1923933600@projectnewvillage.org
SUMMARY:People's Produce @ Thrive Lemon Grove Farmers Market
DESCRIPTION:Mobile farmers truck bringing fresh\, locally grown produce to neighborhoods throughout greater Southeastern San Diego.
URL:https://projectnewvillage.org/event/peoples-produce-thrive-lemon-grove-farmers-market/2030-12-19/
LOCATION:Treganza Heritage Parrk\, 3200 Main St.\, Lemon Grove\, CA\, 91945\, United States
CATEGORIES:Farmers Market
ATTACH;FMTTYPE=image/jpeg:https://projectnewvillage.org/wp-content/uploads/2024/06/MFM-NatCity1.jpg
END:VEVENT
END:VCALENDAR