BEGIN:VCALENDAR
VERSION:2.0
PRODID:-//Project New Village - ECPv6.15.20//NONSGML v1.0//EN
CALSCALE:GREGORIAN
METHOD:PUBLISH
X-WR-CALNAME:Project New Village
X-ORIGINAL-URL:https://projectnewvillage.org
X-WR-CALDESC:Events for Project New Village
REFRESH-INTERVAL;VALUE=DURATION:PT1H
X-Robots-Tag:noindex
X-PUBLISHED-TTL:PT1H
BEGIN:VTIMEZONE
TZID:UTC
BEGIN:STANDARD
TZOFFSETFROM:+0000
TZOFFSETTO:+0000
TZNAME:UTC
DTSTART:20230101T000000
END:STANDARD
END:VTIMEZONE
BEGIN:VEVENT
DTSTART;TZID=UTC:20241121T160000
DTEND;TZID=UTC:20241121T180000
DTSTAMP:20260424T115857
CREATED:20240605T085637Z
LAST-MODIFIED:20251224T162303Z
UID:10000667-1732204800-1732212000@projectnewvillage.org
SUMMARY:People's Produce @ Thrive Lemon Grove Farmers Market
DESCRIPTION:Mobile farmers truck bringing fresh\, locally grown produce to neighborhoods throughout greater Southeastern San Diego.
URL:https://projectnewvillage.org/event/peoples-produce-thrive-lemon-grove-farmers-market/2024-11-21/
LOCATION:Treganza Heritage Parrk\, 3200 Main St.\, Lemon Grove\, CA\, 91945\, United States
CATEGORIES:Farmers Market
ATTACH;FMTTYPE=image/jpeg:https://projectnewvillage.org/wp-content/uploads/2024/06/MFM-NatCity1.jpg
END:VEVENT
BEGIN:VEVENT
DTSTART;TZID=UTC:20241114T160000
DTEND;TZID=UTC:20241114T180000
DTSTAMP:20260424T115857
CREATED:20240605T085637Z
LAST-MODIFIED:20251224T162303Z
UID:10000666-1731600000-1731607200@projectnewvillage.org
SUMMARY:People's Produce @ Thrive Lemon Grove Farmers Market
DESCRIPTION:Mobile farmers truck bringing fresh\, locally grown produce to neighborhoods throughout greater Southeastern San Diego.
URL:https://projectnewvillage.org/event/peoples-produce-thrive-lemon-grove-farmers-market/2024-11-14/
LOCATION:Treganza Heritage Parrk\, 3200 Main St.\, Lemon Grove\, CA\, 91945\, United States
CATEGORIES:Farmers Market
ATTACH;FMTTYPE=image/jpeg:https://projectnewvillage.org/wp-content/uploads/2024/06/MFM-NatCity1.jpg
END:VEVENT
BEGIN:VEVENT
DTSTART;TZID=UTC:20241107T160000
DTEND;TZID=UTC:20241107T180000
DTSTAMP:20260424T115857
CREATED:20240605T085637Z
LAST-MODIFIED:20251224T162303Z
UID:10000665-1730995200-1731002400@projectnewvillage.org
SUMMARY:People's Produce @ Thrive Lemon Grove Farmers Market
DESCRIPTION:Mobile farmers truck bringing fresh\, locally grown produce to neighborhoods throughout greater Southeastern San Diego.
URL:https://projectnewvillage.org/event/peoples-produce-thrive-lemon-grove-farmers-market/2024-11-07/
LOCATION:Treganza Heritage Parrk\, 3200 Main St.\, Lemon Grove\, CA\, 91945\, United States
CATEGORIES:Farmers Market
ATTACH;FMTTYPE=image/jpeg:https://projectnewvillage.org/wp-content/uploads/2024/06/MFM-NatCity1.jpg
END:VEVENT
BEGIN:VEVENT
DTSTART;TZID=UTC:20241031T160000
DTEND;TZID=UTC:20241031T180000
DTSTAMP:20260424T115857
CREATED:20240605T085637Z
LAST-MODIFIED:20251224T162303Z
UID:10002235-1730390400-1730397600@projectnewvillage.org
SUMMARY:People's Produce @ Thrive Lemon Grove Farmers Market
DESCRIPTION:Mobile farmers truck bringing fresh\, locally grown produce to neighborhoods throughout greater Southeastern San Diego.
URL:https://projectnewvillage.org/event/peoples-produce-thrive-lemon-grove-farmers-market/2024-10-31/
LOCATION:Treganza Heritage Parrk\, 3200 Main St.\, Lemon Grove\, CA\, 91945\, United States
CATEGORIES:Farmers Market
ATTACH;FMTTYPE=image/jpeg:https://projectnewvillage.org/wp-content/uploads/2024/06/MFM-NatCity1.jpg
END:VEVENT
BEGIN:VEVENT
DTSTART;TZID=UTC:20241024T160000
DTEND;TZID=UTC:20241024T180000
DTSTAMP:20260424T115857
CREATED:20240605T085637Z
LAST-MODIFIED:20251224T162303Z
UID:10000663-1729785600-1729792800@projectnewvillage.org
SUMMARY:People's Produce @ Thrive Lemon Grove Farmers Market
DESCRIPTION:Mobile farmers truck bringing fresh\, locally grown produce to neighborhoods throughout greater Southeastern San Diego.
URL:https://projectnewvillage.org/event/peoples-produce-thrive-lemon-grove-farmers-market/2024-10-24/
LOCATION:Treganza Heritage Parrk\, 3200 Main St.\, Lemon Grove\, CA\, 91945\, United States
CATEGORIES:Farmers Market
ATTACH;FMTTYPE=image/jpeg:https://projectnewvillage.org/wp-content/uploads/2024/06/MFM-NatCity1.jpg
END:VEVENT
BEGIN:VEVENT
DTSTART;TZID=UTC:20241017T160000
DTEND;TZID=UTC:20241017T180000
DTSTAMP:20260424T115857
CREATED:20240605T085637Z
LAST-MODIFIED:20251224T162303Z
UID:10000662-1729180800-1729188000@projectnewvillage.org
SUMMARY:People's Produce @ Thrive Lemon Grove Farmers Market
DESCRIPTION:Mobile farmers truck bringing fresh\, locally grown produce to neighborhoods throughout greater Southeastern San Diego.
URL:https://projectnewvillage.org/event/peoples-produce-thrive-lemon-grove-farmers-market/2024-10-17/
LOCATION:Treganza Heritage Parrk\, 3200 Main St.\, Lemon Grove\, CA\, 91945\, United States
CATEGORIES:Farmers Market
ATTACH;FMTTYPE=image/jpeg:https://projectnewvillage.org/wp-content/uploads/2024/06/MFM-NatCity1.jpg
END:VEVENT
BEGIN:VEVENT
DTSTART;TZID=UTC:20241010T160000
DTEND;TZID=UTC:20241010T180000
DTSTAMP:20260424T115857
CREATED:20240605T085637Z
LAST-MODIFIED:20251224T162303Z
UID:10000661-1728576000-1728583200@projectnewvillage.org
SUMMARY:People's Produce @ Thrive Lemon Grove Farmers Market
DESCRIPTION:Mobile farmers truck bringing fresh\, locally grown produce to neighborhoods throughout greater Southeastern San Diego.
URL:https://projectnewvillage.org/event/peoples-produce-thrive-lemon-grove-farmers-market/2024-10-10/
LOCATION:Treganza Heritage Parrk\, 3200 Main St.\, Lemon Grove\, CA\, 91945\, United States
CATEGORIES:Farmers Market
ATTACH;FMTTYPE=image/jpeg:https://projectnewvillage.org/wp-content/uploads/2024/06/MFM-NatCity1.jpg
END:VEVENT
BEGIN:VEVENT
DTSTART;TZID=UTC:20241003T160000
DTEND;TZID=UTC:20241003T180000
DTSTAMP:20260424T115857
CREATED:20240605T085637Z
LAST-MODIFIED:20251224T162303Z
UID:10000660-1727971200-1727978400@projectnewvillage.org
SUMMARY:People's Produce @ Thrive Lemon Grove Farmers Market
DESCRIPTION:Mobile farmers truck bringing fresh\, locally grown produce to neighborhoods throughout greater Southeastern San Diego.
URL:https://projectnewvillage.org/event/peoples-produce-thrive-lemon-grove-farmers-market/2024-10-03/
LOCATION:Treganza Heritage Parrk\, 3200 Main St.\, Lemon Grove\, CA\, 91945\, United States
CATEGORIES:Farmers Market
ATTACH;FMTTYPE=image/jpeg:https://projectnewvillage.org/wp-content/uploads/2024/06/MFM-NatCity1.jpg
END:VEVENT
BEGIN:VEVENT
DTSTART;TZID=UTC:20240926T160000
DTEND;TZID=UTC:20240926T180000
DTSTAMP:20260424T115857
CREATED:20240605T085637Z
LAST-MODIFIED:20251224T162303Z
UID:10000659-1727366400-1727373600@projectnewvillage.org
SUMMARY:People's Produce @ Thrive Lemon Grove Farmers Market
DESCRIPTION:Mobile farmers truck bringing fresh\, locally grown produce to neighborhoods throughout greater Southeastern San Diego.
URL:https://projectnewvillage.org/event/peoples-produce-thrive-lemon-grove-farmers-market/2024-09-26/
LOCATION:Treganza Heritage Parrk\, 3200 Main St.\, Lemon Grove\, CA\, 91945\, United States
CATEGORIES:Farmers Market
ATTACH;FMTTYPE=image/jpeg:https://projectnewvillage.org/wp-content/uploads/2024/06/MFM-NatCity1.jpg
END:VEVENT
BEGIN:VEVENT
DTSTART;TZID=UTC:20240919T160000
DTEND;TZID=UTC:20240919T180000
DTSTAMP:20260424T115857
CREATED:20240605T085637Z
LAST-MODIFIED:20251224T162303Z
UID:10000658-1726761600-1726768800@projectnewvillage.org
SUMMARY:People's Produce @ Thrive Lemon Grove Farmers Market
DESCRIPTION:Mobile farmers truck bringing fresh\, locally grown produce to neighborhoods throughout greater Southeastern San Diego.
URL:https://projectnewvillage.org/event/peoples-produce-thrive-lemon-grove-farmers-market/2024-09-19/
LOCATION:Treganza Heritage Parrk\, 3200 Main St.\, Lemon Grove\, CA\, 91945\, United States
CATEGORIES:Farmers Market
ATTACH;FMTTYPE=image/jpeg:https://projectnewvillage.org/wp-content/uploads/2024/06/MFM-NatCity1.jpg
END:VEVENT
BEGIN:VEVENT
DTSTART;TZID=UTC:20240912T160000
DTEND;TZID=UTC:20240912T180000
DTSTAMP:20260424T115857
CREATED:20240605T085637Z
LAST-MODIFIED:20251224T162303Z
UID:10000657-1726156800-1726164000@projectnewvillage.org
SUMMARY:People's Produce @ Thrive Lemon Grove Farmers Market
DESCRIPTION:Mobile farmers truck bringing fresh\, locally grown produce to neighborhoods throughout greater Southeastern San Diego.
URL:https://projectnewvillage.org/event/peoples-produce-thrive-lemon-grove-farmers-market/2024-09-12/
LOCATION:Treganza Heritage Parrk\, 3200 Main St.\, Lemon Grove\, CA\, 91945\, United States
CATEGORIES:Farmers Market
ATTACH;FMTTYPE=image/jpeg:https://projectnewvillage.org/wp-content/uploads/2024/06/MFM-NatCity1.jpg
END:VEVENT
BEGIN:VEVENT
DTSTART;TZID=UTC:20240905T160000
DTEND;TZID=UTC:20240905T180000
DTSTAMP:20260424T115857
CREATED:20240605T085637Z
LAST-MODIFIED:20251224T162303Z
UID:10000656-1725552000-1725559200@projectnewvillage.org
SUMMARY:People's Produce @ Thrive Lemon Grove Farmers Market
DESCRIPTION:Mobile farmers truck bringing fresh\, locally grown produce to neighborhoods throughout greater Southeastern San Diego.
URL:https://projectnewvillage.org/event/peoples-produce-thrive-lemon-grove-farmers-market/2024-09-05/
LOCATION:Treganza Heritage Parrk\, 3200 Main St.\, Lemon Grove\, CA\, 91945\, United States
CATEGORIES:Farmers Market
ATTACH;FMTTYPE=image/jpeg:https://projectnewvillage.org/wp-content/uploads/2024/06/MFM-NatCity1.jpg
END:VEVENT
BEGIN:VEVENT
DTSTART;TZID=UTC:20240829T160000
DTEND;TZID=UTC:20240829T180000
DTSTAMP:20260424T115857
CREATED:20240605T085637Z
LAST-MODIFIED:20251224T162303Z
UID:10000655-1724947200-1724954400@projectnewvillage.org
SUMMARY:People's Produce @ Thrive Lemon Grove Farmers Market
DESCRIPTION:Mobile farmers truck bringing fresh\, locally grown produce to neighborhoods throughout greater Southeastern San Diego.
URL:https://projectnewvillage.org/event/peoples-produce-thrive-lemon-grove-farmers-market/2024-08-29/
LOCATION:Treganza Heritage Parrk\, 3200 Main St.\, Lemon Grove\, CA\, 91945\, United States
CATEGORIES:Farmers Market
ATTACH;FMTTYPE=image/jpeg:https://projectnewvillage.org/wp-content/uploads/2024/06/MFM-NatCity1.jpg
END:VEVENT
BEGIN:VEVENT
DTSTART;TZID=UTC:20240822T160000
DTEND;TZID=UTC:20240822T180000
DTSTAMP:20260424T115857
CREATED:20240605T085637Z
LAST-MODIFIED:20251224T162303Z
UID:10000654-1724342400-1724349600@projectnewvillage.org
SUMMARY:People's Produce @ Thrive Lemon Grove Farmers Market
DESCRIPTION:Mobile farmers truck bringing fresh\, locally grown produce to neighborhoods throughout greater Southeastern San Diego.
URL:https://projectnewvillage.org/event/peoples-produce-thrive-lemon-grove-farmers-market/2024-08-22/
LOCATION:Treganza Heritage Parrk\, 3200 Main St.\, Lemon Grove\, CA\, 91945\, United States
CATEGORIES:Farmers Market
ATTACH;FMTTYPE=image/jpeg:https://projectnewvillage.org/wp-content/uploads/2024/06/MFM-NatCity1.jpg
END:VEVENT
BEGIN:VEVENT
DTSTART;TZID=UTC:20240815T160000
DTEND;TZID=UTC:20240815T180000
DTSTAMP:20260424T115857
CREATED:20240605T085637Z
LAST-MODIFIED:20251224T162303Z
UID:10000653-1723737600-1723744800@projectnewvillage.org
SUMMARY:People's Produce @ Thrive Lemon Grove Farmers Market
DESCRIPTION:Mobile farmers truck bringing fresh\, locally grown produce to neighborhoods throughout greater Southeastern San Diego.
URL:https://projectnewvillage.org/event/peoples-produce-thrive-lemon-grove-farmers-market/2024-08-15/
LOCATION:Treganza Heritage Parrk\, 3200 Main St.\, Lemon Grove\, CA\, 91945\, United States
CATEGORIES:Farmers Market
ATTACH;FMTTYPE=image/jpeg:https://projectnewvillage.org/wp-content/uploads/2024/06/MFM-NatCity1.jpg
END:VEVENT
BEGIN:VEVENT
DTSTART;TZID=UTC:20240808T160000
DTEND;TZID=UTC:20240808T180000
DTSTAMP:20260424T115857
CREATED:20240605T085637Z
LAST-MODIFIED:20251224T162303Z
UID:10000652-1723132800-1723140000@projectnewvillage.org
SUMMARY:People's Produce @ Thrive Lemon Grove Farmers Market
DESCRIPTION:Mobile farmers truck bringing fresh\, locally grown produce to neighborhoods throughout greater Southeastern San Diego.
URL:https://projectnewvillage.org/event/peoples-produce-thrive-lemon-grove-farmers-market/2024-08-08/
LOCATION:Treganza Heritage Parrk\, 3200 Main St.\, Lemon Grove\, CA\, 91945\, United States
CATEGORIES:Farmers Market
ATTACH;FMTTYPE=image/jpeg:https://projectnewvillage.org/wp-content/uploads/2024/06/MFM-NatCity1.jpg
END:VEVENT
BEGIN:VEVENT
DTSTART;TZID=UTC:20240801T160000
DTEND;TZID=UTC:20240801T180000
DTSTAMP:20260424T115857
CREATED:20240605T085637Z
LAST-MODIFIED:20251224T162303Z
UID:10000651-1722528000-1722535200@projectnewvillage.org
SUMMARY:People's Produce @ Thrive Lemon Grove Farmers Market
DESCRIPTION:Mobile farmers truck bringing fresh\, locally grown produce to neighborhoods throughout greater Southeastern San Diego.
URL:https://projectnewvillage.org/event/peoples-produce-thrive-lemon-grove-farmers-market/2024-08-01/
LOCATION:Treganza Heritage Parrk\, 3200 Main St.\, Lemon Grove\, CA\, 91945\, United States
CATEGORIES:Farmers Market
ATTACH;FMTTYPE=image/jpeg:https://projectnewvillage.org/wp-content/uploads/2024/06/MFM-NatCity1.jpg
END:VEVENT
BEGIN:VEVENT
DTSTART;TZID=UTC:20240725T160000
DTEND;TZID=UTC:20240725T180000
DTSTAMP:20260424T115857
CREATED:20240605T085637Z
LAST-MODIFIED:20251224T162303Z
UID:10000650-1721923200-1721930400@projectnewvillage.org
SUMMARY:People's Produce @ Thrive Lemon Grove Farmers Market
DESCRIPTION:Mobile farmers truck bringing fresh\, locally grown produce to neighborhoods throughout greater Southeastern San Diego.
URL:https://projectnewvillage.org/event/peoples-produce-thrive-lemon-grove-farmers-market/2024-07-25/
LOCATION:Treganza Heritage Parrk\, 3200 Main St.\, Lemon Grove\, CA\, 91945\, United States
CATEGORIES:Farmers Market
ATTACH;FMTTYPE=image/jpeg:https://projectnewvillage.org/wp-content/uploads/2024/06/MFM-NatCity1.jpg
END:VEVENT
BEGIN:VEVENT
DTSTART;TZID=UTC:20240718T160000
DTEND;TZID=UTC:20240718T180000
DTSTAMP:20260424T115857
CREATED:20240605T085637Z
LAST-MODIFIED:20251224T162303Z
UID:10000649-1721318400-1721325600@projectnewvillage.org
SUMMARY:People's Produce @ Thrive Lemon Grove Farmers Market
DESCRIPTION:Mobile farmers truck bringing fresh\, locally grown produce to neighborhoods throughout greater Southeastern San Diego.
URL:https://projectnewvillage.org/event/peoples-produce-thrive-lemon-grove-farmers-market/2024-07-18/
LOCATION:Treganza Heritage Parrk\, 3200 Main St.\, Lemon Grove\, CA\, 91945\, United States
CATEGORIES:Farmers Market
ATTACH;FMTTYPE=image/jpeg:https://projectnewvillage.org/wp-content/uploads/2024/06/MFM-NatCity1.jpg
END:VEVENT
BEGIN:VEVENT
DTSTART;TZID=UTC:20240711T160000
DTEND;TZID=UTC:20240711T180000
DTSTAMP:20260424T115857
CREATED:20240605T085637Z
LAST-MODIFIED:20251224T162303Z
UID:10000648-1720713600-1720720800@projectnewvillage.org
SUMMARY:People's Produce @ Thrive Lemon Grove Farmers Market
DESCRIPTION:Mobile farmers truck bringing fresh\, locally grown produce to neighborhoods throughout greater Southeastern San Diego.
URL:https://projectnewvillage.org/event/peoples-produce-thrive-lemon-grove-farmers-market/2024-07-11/
LOCATION:Treganza Heritage Parrk\, 3200 Main St.\, Lemon Grove\, CA\, 91945\, United States
CATEGORIES:Farmers Market
ATTACH;FMTTYPE=image/jpeg:https://projectnewvillage.org/wp-content/uploads/2024/06/MFM-NatCity1.jpg
END:VEVENT
BEGIN:VEVENT
DTSTART;TZID=UTC:20240704T160000
DTEND;TZID=UTC:20240704T180000
DTSTAMP:20260424T115857
CREATED:20240605T085637Z
LAST-MODIFIED:20251224T162303Z
UID:10002030-1720108800-1720116000@projectnewvillage.org
SUMMARY:People's Produce @ Thrive Lemon Grove Farmers Market
DESCRIPTION:Mobile farmers truck bringing fresh\, locally grown produce to neighborhoods throughout greater Southeastern San Diego.
URL:https://projectnewvillage.org/event/peoples-produce-thrive-lemon-grove-farmers-market/2024-07-04/
LOCATION:Treganza Heritage Parrk\, 3200 Main St.\, Lemon Grove\, CA\, 91945\, United States
CATEGORIES:Farmers Market
ATTACH;FMTTYPE=image/jpeg:https://projectnewvillage.org/wp-content/uploads/2024/06/MFM-NatCity1.jpg
END:VEVENT
BEGIN:VEVENT
DTSTART;TZID=UTC:20240627T160000
DTEND;TZID=UTC:20240627T180000
DTSTAMP:20260424T115857
CREATED:20240605T085637Z
LAST-MODIFIED:20251224T162303Z
UID:10000646-1719504000-1719511200@projectnewvillage.org
SUMMARY:People's Produce @ Thrive Lemon Grove Farmers Market
DESCRIPTION:Mobile farmers truck bringing fresh\, locally grown produce to neighborhoods throughout greater Southeastern San Diego.
URL:https://projectnewvillage.org/event/peoples-produce-thrive-lemon-grove-farmers-market/2024-06-27/
LOCATION:Treganza Heritage Parrk\, 3200 Main St.\, Lemon Grove\, CA\, 91945\, United States
CATEGORIES:Farmers Market
ATTACH;FMTTYPE=image/jpeg:https://projectnewvillage.org/wp-content/uploads/2024/06/MFM-NatCity1.jpg
END:VEVENT
BEGIN:VEVENT
DTSTART;TZID=UTC:20240620T160000
DTEND;TZID=UTC:20240620T180000
DTSTAMP:20260424T115857
CREATED:20240605T085637Z
LAST-MODIFIED:20251224T162303Z
UID:10000645-1718899200-1718906400@projectnewvillage.org
SUMMARY:People's Produce @ Thrive Lemon Grove Farmers Market
DESCRIPTION:Mobile farmers truck bringing fresh\, locally grown produce to neighborhoods throughout greater Southeastern San Diego.
URL:https://projectnewvillage.org/event/peoples-produce-thrive-lemon-grove-farmers-market/2024-06-20/
LOCATION:Treganza Heritage Parrk\, 3200 Main St.\, Lemon Grove\, CA\, 91945\, United States
CATEGORIES:Farmers Market
ATTACH;FMTTYPE=image/jpeg:https://projectnewvillage.org/wp-content/uploads/2024/06/MFM-NatCity1.jpg
END:VEVENT
BEGIN:VEVENT
DTSTART;TZID=UTC:20240613T160000
DTEND;TZID=UTC:20240613T180000
DTSTAMP:20260424T115857
CREATED:20240605T085637Z
LAST-MODIFIED:20251224T162303Z
UID:10000644-1718294400-1718301600@projectnewvillage.org
SUMMARY:People's Produce @ Thrive Lemon Grove Farmers Market
DESCRIPTION:Mobile farmers truck bringing fresh\, locally grown produce to neighborhoods throughout greater Southeastern San Diego.
URL:https://projectnewvillage.org/event/peoples-produce-thrive-lemon-grove-farmers-market/2024-06-13/
LOCATION:Treganza Heritage Parrk\, 3200 Main St.\, Lemon Grove\, CA\, 91945\, United States
CATEGORIES:Farmers Market
ATTACH;FMTTYPE=image/jpeg:https://projectnewvillage.org/wp-content/uploads/2024/06/MFM-NatCity1.jpg
END:VEVENT
BEGIN:VEVENT
DTSTART;TZID=UTC:20240606T160000
DTEND;TZID=UTC:20240606T180000
DTSTAMP:20260424T115857
CREATED:20240605T085637Z
LAST-MODIFIED:20251224T162303Z
UID:10000643-1717689600-1717696800@projectnewvillage.org
SUMMARY:People's Produce @ Thrive Lemon Grove Farmers Market
DESCRIPTION:Mobile farmers truck bringing fresh\, locally grown produce to neighborhoods throughout greater Southeastern San Diego.
URL:https://projectnewvillage.org/event/peoples-produce-thrive-lemon-grove-farmers-market/2024-06-06/
LOCATION:Treganza Heritage Parrk\, 3200 Main St.\, Lemon Grove\, CA\, 91945\, United States
CATEGORIES:Farmers Market
ATTACH;FMTTYPE=image/jpeg:https://projectnewvillage.org/wp-content/uploads/2024/06/MFM-NatCity1.jpg
END:VEVENT
END:VCALENDAR